BEGIN:VCALENDAR
VERSION:2.0
PRODID:-//The Railway Correspondence &amp; Travel Society - ECPv6.15.20//NONSGML v1.0//EN
CALSCALE:GREGORIAN
METHOD:PUBLISH
X-WR-CALNAME:The Railway Correspondence &amp; Travel Society
X-ORIGINAL-URL:https://rcts.org.uk
X-WR-CALDESC:Events for The Railway Correspondence &amp; Travel Society
REFRESH-INTERVAL;VALUE=DURATION:PT1H
X-Robots-Tag:noindex
X-PUBLISHED-TTL:PT1H
BEGIN:VTIMEZONE
TZID:Europe/London
BEGIN:DAYLIGHT
TZOFFSETFROM:+0000
TZOFFSETTO:+0100
TZNAME:BST
DTSTART:20220327T010000
END:DAYLIGHT
BEGIN:STANDARD
TZOFFSETFROM:+0100
TZOFFSETTO:+0000
TZNAME:GMT
DTSTART:20221030T010000
END:STANDARD
BEGIN:DAYLIGHT
TZOFFSETFROM:+0000
TZOFFSETTO:+0100
TZNAME:BST
DTSTART:20230326T010000
END:DAYLIGHT
BEGIN:STANDARD
TZOFFSETFROM:+0100
TZOFFSETTO:+0000
TZNAME:GMT
DTSTART:20231029T010000
END:STANDARD
BEGIN:DAYLIGHT
TZOFFSETFROM:+0000
TZOFFSETTO:+0100
TZNAME:BST
DTSTART:20240331T010000
END:DAYLIGHT
BEGIN:STANDARD
TZOFFSETFROM:+0100
TZOFFSETTO:+0000
TZNAME:GMT
DTSTART:20241027T010000
END:STANDARD
END:VTIMEZONE
BEGIN:VEVENT
DTSTART;TZID=Europe/London:20230302T193000
DTEND;TZID=Europe/London:20230302T220000
DTSTAMP:20260420T012731
CREATED:20221228T142356Z
LAST-MODIFIED:20221228T142420Z
UID:10002167-1677785400-1677794400@rcts.org.uk
SUMMARY:The LMS-Patriot Project
DESCRIPTION:Our first face to face meeting of the season welcomes Colin Hall from The LMS-Patriot Project to present on how they are recreating a Patriot Class locomotive from scratch\, to be named The Unknown Warrior.
URL:https://rcts.org.uk/event/the-lms-patriot-project/
LOCATION:MKY Milton Keynes\, Network Rail - The Quadrant: MK\, Elder Gate\, Milton Keynes\, Buckinghamshire\, MK9 1EN\, United Kingdom
CATEGORIES:Indoor Event,MKY Milton Keynes
ATTACH;FMTTYPE=image/jpeg:https://rcts.org.uk/wp-content/uploads/March-pic-Patriot.jpg
ORGANIZER;CN="MKY Milton Keynes branch":MAILTO:miltonkeynes@rcts.org.uk
END:VEVENT
END:VCALENDAR