BEGIN:VCALENDAR
VERSION:2.0
PRODID:-//The Railway Correspondence &amp; Travel Society - ECPv6.15.20//NONSGML v1.0//EN
CALSCALE:GREGORIAN
METHOD:PUBLISH
X-WR-CALNAME:The Railway Correspondence &amp; Travel Society
X-ORIGINAL-URL:https://rcts.org.uk
X-WR-CALDESC:Events for The Railway Correspondence &amp; Travel Society
REFRESH-INTERVAL;VALUE=DURATION:PT1H
X-Robots-Tag:noindex
X-PUBLISHED-TTL:PT1H
BEGIN:VTIMEZONE
TZID:Europe/London
BEGIN:DAYLIGHT
TZOFFSETFROM:+0000
TZOFFSETTO:+0100
TZNAME:BST
DTSTART:20220327T010000
END:DAYLIGHT
BEGIN:STANDARD
TZOFFSETFROM:+0100
TZOFFSETTO:+0000
TZNAME:GMT
DTSTART:20221030T010000
END:STANDARD
BEGIN:DAYLIGHT
TZOFFSETFROM:+0000
TZOFFSETTO:+0100
TZNAME:BST
DTSTART:20230326T010000
END:DAYLIGHT
BEGIN:STANDARD
TZOFFSETFROM:+0100
TZOFFSETTO:+0000
TZNAME:GMT
DTSTART:20231029T010000
END:STANDARD
BEGIN:DAYLIGHT
TZOFFSETFROM:+0000
TZOFFSETTO:+0100
TZNAME:BST
DTSTART:20240331T010000
END:DAYLIGHT
BEGIN:STANDARD
TZOFFSETFROM:+0100
TZOFFSETTO:+0000
TZNAME:GMT
DTSTART:20241027T010000
END:STANDARD
END:VTIMEZONE
BEGIN:VEVENT
DTSTART;TZID=Europe/London:20230504T110000
DTEND;TZID=Europe/London:20230504T160000
DTSTAMP:20260423T092829
CREATED:20221127T124003Z
LAST-MODIFIED:20221127T124003Z
UID:10002138-1683198000-1683216000@rcts.org.uk
SUMMARY:Archive and Library Open Day
DESCRIPTION:
URL:https://rcts.org.uk/event/archive-and-library-open-day-40/
LOCATION:RCTS Library\, Leatherhead Station Approach\, Leatherhead\, KT22 7SQ\, United Kingdom
CATEGORIES:Library Opening
END:VEVENT
BEGIN:VEVENT
DTSTART;TZID=Europe/London:20230504T140000
DTEND;TZID=Europe/London:20230504T160000
DTSTAMP:20260423T092829
CREATED:20221127T145150Z
LAST-MODIFIED:20230501T150227Z
UID:10002143-1683208800-1683216000@rcts.org.uk
SUMMARY:"Lost Loco's\, Lost Locations" - Ted Parker
DESCRIPTION:Please note this is an afternoon meeting to be held in the Church and not the usual meeting room.
URL:https://rcts.org.uk/event/lost-locos-lost-locations-ted-parker/
LOCATION:WRD Shipley\, Saltaire Methodist Church\, Saltaire Road\, Shipley\, BD18 3HJ\, United Kingdom
CATEGORIES:Indoor Event,WRD West Riding
END:VEVENT
BEGIN:VEVENT
DTSTART;TZID=Europe/London:20230504T193000
DTEND;TZID=Europe/London:20230504T220000
DTSTAMP:20260423T092829
CREATED:20221228T143109Z
LAST-MODIFIED:20221228T143109Z
UID:10002169-1683228600-1683237600@rcts.org.uk
SUMMARY:Journey from Kings Cross to York\, with Stephen Gay
DESCRIPTION:Stephen Gay makes a welcome return to take us on a journey on the East Coast Main Line from Kings Cross to York\, with images from 40 years ago to the present day.
URL:https://rcts.org.uk/event/journey-from-kings-cross-to-york-with-stephen-gay/
LOCATION:MKY Milton Keynes\, Network Rail - The Quadrant: MK\, Elder Gate\, Milton Keynes\, Buckinghamshire\, MK9 1EN\, United Kingdom
CATEGORIES:Indoor Event,MKY Milton Keynes
ORGANIZER;CN="MKY Milton Keynes branch":MAILTO:miltonkeynes@rcts.org.uk
END:VEVENT
END:VCALENDAR