BEGIN:VCALENDAR
VERSION:2.0
PRODID:-//The Railway Correspondence &amp; Travel Society - ECPv6.15.20//NONSGML v1.0//EN
CALSCALE:GREGORIAN
METHOD:PUBLISH
X-ORIGINAL-URL:https://rcts.org.uk
X-WR-CALDESC:Events for The Railway Correspondence &amp; Travel Society
REFRESH-INTERVAL;VALUE=DURATION:PT1H
X-Robots-Tag:noindex
X-PUBLISHED-TTL:PT1H
BEGIN:VTIMEZONE
TZID:Europe/London
BEGIN:DAYLIGHT
TZOFFSETFROM:+0000
TZOFFSETTO:+0100
TZNAME:BST
DTSTART:20220327T010000
END:DAYLIGHT
BEGIN:STANDARD
TZOFFSETFROM:+0100
TZOFFSETTO:+0000
TZNAME:GMT
DTSTART:20221030T010000
END:STANDARD
BEGIN:DAYLIGHT
TZOFFSETFROM:+0000
TZOFFSETTO:+0100
TZNAME:BST
DTSTART:20230326T010000
END:DAYLIGHT
BEGIN:STANDARD
TZOFFSETFROM:+0100
TZOFFSETTO:+0000
TZNAME:GMT
DTSTART:20231029T010000
END:STANDARD
BEGIN:DAYLIGHT
TZOFFSETFROM:+0000
TZOFFSETTO:+0100
TZNAME:BST
DTSTART:20240331T010000
END:DAYLIGHT
BEGIN:STANDARD
TZOFFSETFROM:+0100
TZOFFSETTO:+0000
TZNAME:GMT
DTSTART:20241027T010000
END:STANDARD
END:VTIMEZONE
BEGIN:VEVENT
DTSTART;TZID=Europe/London:20230524T191500
DTEND;TZID=Europe/London:20230524T213000
DTSTAMP:20260423T105648
CREATED:20220803T200405Z
LAST-MODIFIED:20230320T210111Z
UID:10001926-1684955700-1684963800@rcts.org.uk
SUMMARY:Lynton & Barnstaple Railway
DESCRIPTION:“The Lynton & Barnstaple Railway – Yesterday\, Today and Tomorrow”. The first half of Mike’s talk covers the period from pre 1898 (when the line opened) to the closure in 1935. The second half covers from 1935 up to the present day plus plans for the future.
URL:https://rcts.org.uk/event/lynton-barnstaple-railway/
LOCATION:CHR Bassil Shippam Centre\, Tozer Way\, St Pancras\, Chichester\, West Sussex\, PO19 7LG\, United Kingdom
CATEGORIES:Branch Meetings,CHR Chichester,Indoor Event
ATTACH;FMTTYPE=image/jpeg:https://rcts.org.uk/wp-content/uploads/chichester-branch/DSC05459-E-scaled.jpg
END:VEVENT
END:VCALENDAR