BEGIN:VCALENDAR
VERSION:2.0
PRODID:-//The Railway Correspondence &amp; Travel Society - ECPv6.15.20//NONSGML v1.0//EN
CALSCALE:GREGORIAN
METHOD:PUBLISH
X-WR-CALNAME:The Railway Correspondence &amp; Travel Society
X-ORIGINAL-URL:https://rcts.org.uk
X-WR-CALDESC:Events for The Railway Correspondence &amp; Travel Society
REFRESH-INTERVAL;VALUE=DURATION:PT1H
X-Robots-Tag:noindex
X-PUBLISHED-TTL:PT1H
BEGIN:VTIMEZONE
TZID:Europe/London
BEGIN:DAYLIGHT
TZOFFSETFROM:+0000
TZOFFSETTO:+0100
TZNAME:BST
DTSTART:20220327T010000
END:DAYLIGHT
BEGIN:STANDARD
TZOFFSETFROM:+0100
TZOFFSETTO:+0000
TZNAME:GMT
DTSTART:20221030T010000
END:STANDARD
BEGIN:DAYLIGHT
TZOFFSETFROM:+0000
TZOFFSETTO:+0100
TZNAME:BST
DTSTART:20230326T010000
END:DAYLIGHT
BEGIN:STANDARD
TZOFFSETFROM:+0100
TZOFFSETTO:+0000
TZNAME:GMT
DTSTART:20231029T010000
END:STANDARD
BEGIN:DAYLIGHT
TZOFFSETFROM:+0000
TZOFFSETTO:+0100
TZNAME:BST
DTSTART:20240331T010000
END:DAYLIGHT
BEGIN:STANDARD
TZOFFSETFROM:+0100
TZOFFSETTO:+0000
TZNAME:GMT
DTSTART:20241027T010000
END:STANDARD
END:VTIMEZONE
BEGIN:VEVENT
DTSTART;VALUE=DATE:20230613
DTEND;VALUE=DATE:20230614
DTSTAMP:20260423T132404
CREATED:20230528T155443Z
LAST-MODIFIED:20230531T140336Z
UID:10002307-1686614400-1686700799@rcts.org.uk
SUMMARY:Visit to Glasgow
DESCRIPTION:Proposed itinerary…. \nWarrington B Q D 07.45 \nGlasgow Central A10.42 \nGlasgow Queen St D 11.18 \nAlloa A 12.03 \nAlloa D 13.45 \nGlasgow Q St A 14.30 \nGlasgow Central D 17.30 or 18.40 \nWarrington B Q A 20.24 or 21.21 \nCost; 07.45 North £8.15 (with railcard) \n17.30 South £10.00 or 18.40 South £8.15 \n  \nAlternative proposal…. \nWarrington B Q D 07.45 \nGlasgow Central A10.42 \nGlasgow Queen St D 11.41 \nStirling A 12.09 \nStirling D 12.29 \nAlloa A 12.40 \nAlloa D 12.43 \nStirling A 12.51 \nStirling D 14.23 \nGlasgow Q St A 14.54 \nGlasgow Central D 17.30 or 18.40 \nWarrington B Q A 20.24 or 21.21 \nCost; 07.45 North £8.15 \n17.30 South £10.00 or 18.40 South £8.15 \nDay return Queen St – Alloa ; £5.20\, Queen St – Stirling £4.80.
URL:https://rcts.org.uk/event/visit-to-glasgow/
LOCATION:Buckinghamshire
CATEGORIES:MCN Merseyside Cheshire & North Wales
END:VEVENT
BEGIN:VEVENT
DTSTART;TZID=Europe/London:20230613T110000
DTEND;TZID=Europe/London:20230613T160000
DTSTAMP:20260423T132404
CREATED:20230311T112403Z
LAST-MODIFIED:20230311T112403Z
UID:10002205-1686654000-1686672000@rcts.org.uk
SUMMARY:Archive and Library Open Day
DESCRIPTION:Archive and Library Open Day
URL:https://rcts.org.uk/event/archive-and-library-open-day-46/
LOCATION:RCTS Library\, Leatherhead Station Approach\, Leatherhead\, KT22 7SQ\, United Kingdom
CATEGORIES:Library Opening
END:VEVENT
BEGIN:VEVENT
DTSTART;TZID=Europe/London:20230613T193000
DTEND;TZID=Europe/London:20230613T220000
DTSTAMP:20260423T132404
CREATED:20230427T092942Z
LAST-MODIFIED:20230427T100121Z
UID:10002278-1686684600-1686693600@rcts.org.uk
SUMMARY:A 10th Colour Rail Journey
DESCRIPTION:A Hitchin & Welwyn Garden City Branch presentation by Paul Chancellor. \nPaul tells us that this presentation covers all regions and motive power from 1955 to the present day using over 300 colour and black and white images exploring how different photographers approached the subject of recording the daily railway scene.\nWhilst running Colour-Rail Paul also volunteers for the RCTS as a member of the Strategy Committee and the Publications Committee as well as being the minute taker for Trustee meetings and developing a Modern Traction database for the Society. \nDoors open at 19:00.
URL:https://rcts.org.uk/event/a-10th-colour-rail-journey/
LOCATION:HTC Hitchin\, St Mark's Church\, St Mark's Close\, Lancaster Avenue\, Hitchin\, Hertfordshire\, SG5 1UR\, United Kingdom
CATEGORIES:Branch Meetings,HTC Hitchin and Welwyn Garden City,Indoor Event
END:VEVENT
END:VCALENDAR