BEGIN:VCALENDAR
VERSION:2.0
PRODID:-//The Railway Correspondence &amp; Travel Society - ECPv6.15.20//NONSGML v1.0//EN
CALSCALE:GREGORIAN
METHOD:PUBLISH
X-ORIGINAL-URL:https://rcts.org.uk
X-WR-CALDESC:Events for The Railway Correspondence &amp; Travel Society
REFRESH-INTERVAL;VALUE=DURATION:PT1H
X-Robots-Tag:noindex
X-PUBLISHED-TTL:PT1H
BEGIN:VTIMEZONE
TZID:Europe/London
BEGIN:DAYLIGHT
TZOFFSETFROM:+0000
TZOFFSETTO:+0100
TZNAME:BST
DTSTART:20220327T010000
END:DAYLIGHT
BEGIN:STANDARD
TZOFFSETFROM:+0100
TZOFFSETTO:+0000
TZNAME:GMT
DTSTART:20221030T010000
END:STANDARD
BEGIN:DAYLIGHT
TZOFFSETFROM:+0000
TZOFFSETTO:+0100
TZNAME:BST
DTSTART:20230326T010000
END:DAYLIGHT
BEGIN:STANDARD
TZOFFSETFROM:+0100
TZOFFSETTO:+0000
TZNAME:GMT
DTSTART:20231029T010000
END:STANDARD
BEGIN:DAYLIGHT
TZOFFSETFROM:+0000
TZOFFSETTO:+0100
TZNAME:BST
DTSTART:20240331T010000
END:DAYLIGHT
BEGIN:STANDARD
TZOFFSETFROM:+0100
TZOFFSETTO:+0000
TZNAME:GMT
DTSTART:20241027T010000
END:STANDARD
END:VTIMEZONE
BEGIN:VEVENT
DTSTART;TZID=Europe/London:20230614T190000
DTEND;TZID=Europe/London:20230614T220000
DTSTAMP:20260423T104834
CREATED:20230614T180011Z
LAST-MODIFIED:20230502T202336Z
UID:10002229-1686769200-1686780000@rcts.org.uk
SUMMARY:Blue Diesel Days
DESCRIPTION:The Second Rowland Pittard Memorial Lecture \n \nMichael Robinson\, Editor of the Railway Observer will present a show featuring his own photographs of  a selection of blue livereied diesel locomotives
URL:https://rcts.org.uk/event/blue-diesel-days/
LOCATION:SWL Radyr\, Cardiff\, Old Church Rooms / Hen Ysgoldy'r Eglwys\, Park Road\, Radyr\, Cardiff\, CF15 8DF\, United Kingdom
CATEGORIES:SWL South Wales / De Cymru
END:VEVENT
END:VCALENDAR