BEGIN:VCALENDAR
VERSION:2.0
PRODID:-//The Railway Correspondence &amp; Travel Society - ECPv6.15.20//NONSGML v1.0//EN
CALSCALE:GREGORIAN
METHOD:PUBLISH
X-ORIGINAL-URL:https://rcts.org.uk
X-WR-CALDESC:Events for The Railway Correspondence &amp; Travel Society
REFRESH-INTERVAL;VALUE=DURATION:PT1H
X-Robots-Tag:noindex
X-PUBLISHED-TTL:PT1H
BEGIN:VTIMEZONE
TZID:Europe/London
BEGIN:DAYLIGHT
TZOFFSETFROM:+0000
TZOFFSETTO:+0100
TZNAME:BST
DTSTART:20220327T010000
END:DAYLIGHT
BEGIN:STANDARD
TZOFFSETFROM:+0100
TZOFFSETTO:+0000
TZNAME:GMT
DTSTART:20221030T010000
END:STANDARD
BEGIN:DAYLIGHT
TZOFFSETFROM:+0000
TZOFFSETTO:+0100
TZNAME:BST
DTSTART:20230326T010000
END:DAYLIGHT
BEGIN:STANDARD
TZOFFSETFROM:+0100
TZOFFSETTO:+0000
TZNAME:GMT
DTSTART:20231029T010000
END:STANDARD
BEGIN:DAYLIGHT
TZOFFSETFROM:+0000
TZOFFSETTO:+0100
TZNAME:BST
DTSTART:20240331T010000
END:DAYLIGHT
BEGIN:STANDARD
TZOFFSETFROM:+0100
TZOFFSETTO:+0000
TZNAME:GMT
DTSTART:20241027T010000
END:STANDARD
END:VTIMEZONE
BEGIN:VEVENT
DTSTART;TZID=Europe/London:20231107T190000
DTEND;TZID=Europe/London:20231107T213000
DTSTAMP:20260424T162459
CREATED:20230706T145445Z
LAST-MODIFIED:20230706T145445Z
UID:10002337-1699383600-1699392600@rcts.org.uk
SUMMARY:‘The East Coast Main Line from Kings Cross to Edinburgh’  - Part 2\, York to Edinburgh\, by Stephen Gay
DESCRIPTION:STEPHEN GAY visits for the ninth time to present his new talk ‘The East Coast Main Line from Kings Cross to Edinburgh’  – Part 2\, York to Edinburgh. \nThis is a physical event\, doors open at the venue from around 18:30 for a 19:00 start\, there will be a midway break for refreshments\, and we aim to finish around 21:30.
URL:https://rcts.org.uk/event/the-east-coast-main-line-from-kings-cross-to-edinburgh-part-2-york-to-edinburgh-by-stephen-gay/
LOCATION:WFD Watford\, Beechen Grove Baptist Church\, Clarendon Road\, Watford\, WD17 1JJ\, United Kingdom
CATEGORIES:Branch Meetings,Indoor Event,WFD Watford
END:VEVENT
BEGIN:VEVENT
DTSTART;TZID=Europe/London:20231107T193000
DTEND;TZID=Europe/London:20231107T213000
DTSTAMP:20260424T162459
CREATED:20230918T080454Z
LAST-MODIFIED:20230918T080454Z
UID:10002416-1699385400-1699392600@rcts.org.uk
SUMMARY:SCT Locomotive & Coach liveries Part 2
DESCRIPTION:Locomotive & Coach liveries Part 2 \nA further selection from Stuart’s archive.
URL:https://rcts.org.uk/event/sct-locomotive-coach-liveries-part-2/
LOCATION:SCT Edinburgh\, Scots Guards Club\, 2 Clifton Terrace\,\, Edinburgh\, EH12 5DR\, United Kingdom
CATEGORIES:Branch Meetings,Indoor Event,SCT Scotland
END:VEVENT
END:VCALENDAR