BEGIN:VCALENDAR
VERSION:2.0
PRODID:-//The Railway Correspondence &amp; Travel Society - ECPv6.15.20//NONSGML v1.0//EN
CALSCALE:GREGORIAN
METHOD:PUBLISH
X-ORIGINAL-URL:https://rcts.org.uk
X-WR-CALDESC:Events for The Railway Correspondence &amp; Travel Society
REFRESH-INTERVAL;VALUE=DURATION:PT1H
X-Robots-Tag:noindex
X-PUBLISHED-TTL:PT1H
BEGIN:VTIMEZONE
TZID:Europe/London
BEGIN:DAYLIGHT
TZOFFSETFROM:+0000
TZOFFSETTO:+0100
TZNAME:BST
DTSTART:20230326T010000
END:DAYLIGHT
BEGIN:STANDARD
TZOFFSETFROM:+0100
TZOFFSETTO:+0000
TZNAME:GMT
DTSTART:20231029T010000
END:STANDARD
BEGIN:DAYLIGHT
TZOFFSETFROM:+0000
TZOFFSETTO:+0100
TZNAME:BST
DTSTART:20240331T010000
END:DAYLIGHT
BEGIN:STANDARD
TZOFFSETFROM:+0100
TZOFFSETTO:+0000
TZNAME:GMT
DTSTART:20241027T010000
END:STANDARD
BEGIN:DAYLIGHT
TZOFFSETFROM:+0000
TZOFFSETTO:+0100
TZNAME:BST
DTSTART:20250330T010000
END:DAYLIGHT
BEGIN:STANDARD
TZOFFSETFROM:+0100
TZOFFSETTO:+0000
TZNAME:GMT
DTSTART:20251026T010000
END:STANDARD
END:VTIMEZONE
BEGIN:VEVENT
DTSTART;TZID=Europe/London:20240130T140000
DTEND;TZID=Europe/London:20240130T163000
DTSTAMP:20260420T012751
CREATED:20231129T124724Z
LAST-MODIFIED:20231224T122213Z
UID:10002497-1706623200-1706632200@rcts.org.uk
SUMMARY:Steam in the Kings Cross Area - in the 50's and 60's
DESCRIPTION:A Hitchin & Welwyn Garden City Branch presentation. \nPresenter: David Percival. \nIt was in 1953 that the Percival family moved from South London to North Hertfordshire. For the next ten years\, until the end of regular steam in the area\, David spotted at the ECML lineside\, travelled by train to school and latterly commuted to Kings Cross.  \nThis presentation chronicles the variety of steam classes and workings he observed “on the GN” during that decade\, illustrated with photographs from ColourRail and others as well as some of his own pictures taken in the closing years. \nThis photo shows 64206 shunting the morning Hitchin-Hertford ‘pick up’ at Langley Junction on 17 January 1959 (photo by Basil Coles). This image is in the presentation. \nDoors open 13:30.
URL:https://rcts.org.uk/event/steam-in-the-kings-cross-area-in-the-50s-and-60s/
LOCATION:HTC Welwyn\, Digswell Village Church Hall\, Welwyn\, Hertfordshire\, AL6 0DH\, United Kingdom
CATEGORIES:Branch Meetings,HTC Hitchin and Welwyn Garden City,Indoor Event
ATTACH;FMTTYPE=image/jpeg:https://rcts.org.uk/wp-content/uploads/hitchin-and-welwyn-garden-city-branch/Misc/Jan-2024-David-Percival.jpg
END:VEVENT
END:VCALENDAR