BEGIN:VCALENDAR
VERSION:2.0
PRODID:-//The Railway Correspondence &amp; Travel Society - ECPv6.15.20//NONSGML v1.0//EN
CALSCALE:GREGORIAN
METHOD:PUBLISH
X-ORIGINAL-URL:https://rcts.org.uk
X-WR-CALDESC:Events for The Railway Correspondence &amp; Travel Society
REFRESH-INTERVAL;VALUE=DURATION:PT1H
X-Robots-Tag:noindex
X-PUBLISHED-TTL:PT1H
BEGIN:VTIMEZONE
TZID:Europe/London
BEGIN:DAYLIGHT
TZOFFSETFROM:+0000
TZOFFSETTO:+0100
TZNAME:BST
DTSTART:20230326T010000
END:DAYLIGHT
BEGIN:STANDARD
TZOFFSETFROM:+0100
TZOFFSETTO:+0000
TZNAME:GMT
DTSTART:20231029T010000
END:STANDARD
BEGIN:DAYLIGHT
TZOFFSETFROM:+0000
TZOFFSETTO:+0100
TZNAME:BST
DTSTART:20240331T010000
END:DAYLIGHT
BEGIN:STANDARD
TZOFFSETFROM:+0100
TZOFFSETTO:+0000
TZNAME:GMT
DTSTART:20241027T010000
END:STANDARD
BEGIN:DAYLIGHT
TZOFFSETFROM:+0000
TZOFFSETTO:+0100
TZNAME:BST
DTSTART:20250330T010000
END:DAYLIGHT
BEGIN:STANDARD
TZOFFSETFROM:+0100
TZOFFSETTO:+0000
TZNAME:GMT
DTSTART:20251026T010000
END:STANDARD
END:VTIMEZONE
BEGIN:VEVENT
DTSTART;TZID=Europe/London:20240801T180000
DTEND;TZID=Europe/London:20240801T210000
DTSTAMP:20260424T161334
CREATED:20240623T092049Z
LAST-MODIFIED:20240623T092502Z
UID:10002701-1722535200-1722546000@rcts.org.uk
SUMMARY:Lineside Observation Bletchley Station
DESCRIPTION:Thursday 1st August 2024 \nLineside Observation Bletchley Station \nItinerary \n\nTravel by own transport to Bletchley station and meet on the platform from 18:00 for a couple of hours lineside observation.
URL:https://rcts.org.uk/event/lineside-observation-bletchley-station/
LOCATION:Bletchley Station\, Sherwood Drive\, Bletchley\, Milton Keynes\, Buckinghamshire\, MK3 6DZ\, United Kingdom
CATEGORIES:Outdoor Event
ORGANIZER;CN="MKY Milton Keynes branch":MAILTO:miltonkeynes@rcts.org.uk
END:VEVENT
END:VCALENDAR