BEGIN:VCALENDAR
VERSION:2.0
PRODID:-//The Railway Correspondence &amp; Travel Society - ECPv6.15.20//NONSGML v1.0//EN
CALSCALE:GREGORIAN
METHOD:PUBLISH
X-ORIGINAL-URL:https://rcts.org.uk
X-WR-CALDESC:Events for The Railway Correspondence &amp; Travel Society
REFRESH-INTERVAL;VALUE=DURATION:PT1H
X-Robots-Tag:noindex
X-PUBLISHED-TTL:PT1H
BEGIN:VTIMEZONE
TZID:Europe/London
BEGIN:DAYLIGHT
TZOFFSETFROM:+0000
TZOFFSETTO:+0100
TZNAME:BST
DTSTART:20230326T010000
END:DAYLIGHT
BEGIN:STANDARD
TZOFFSETFROM:+0100
TZOFFSETTO:+0000
TZNAME:GMT
DTSTART:20231029T010000
END:STANDARD
BEGIN:DAYLIGHT
TZOFFSETFROM:+0000
TZOFFSETTO:+0100
TZNAME:BST
DTSTART:20240331T010000
END:DAYLIGHT
BEGIN:STANDARD
TZOFFSETFROM:+0100
TZOFFSETTO:+0000
TZNAME:GMT
DTSTART:20241027T010000
END:STANDARD
BEGIN:DAYLIGHT
TZOFFSETFROM:+0000
TZOFFSETTO:+0100
TZNAME:BST
DTSTART:20250330T010000
END:DAYLIGHT
BEGIN:STANDARD
TZOFFSETFROM:+0100
TZOFFSETTO:+0000
TZNAME:GMT
DTSTART:20251026T010000
END:STANDARD
END:VTIMEZONE
BEGIN:VEVENT
DTSTART;TZID=Europe/London:20241029T110000
DTEND;TZID=Europe/London:20241029T160000
DTSTAMP:20260422T130744
CREATED:20240531T105040Z
LAST-MODIFIED:20240531T105040Z
UID:10002667-1730199600-1730217600@rcts.org.uk
SUMMARY:Archive & Library Open Day
DESCRIPTION:Archive & Library Open Day
URL:https://rcts.org.uk/event/archive-library-open-day-32/
LOCATION:RCTS Library\, Leatherhead Station Approach\, Leatherhead\, KT22 7SQ\, United Kingdom
CATEGORIES:Library Opening
END:VEVENT
BEGIN:VEVENT
DTSTART;TZID=Europe/London:20241029T140000
DTEND;TZID=Europe/London:20241029T163000
DTSTAMP:20260422T130744
CREATED:20240729T204441Z
LAST-MODIFIED:20240923T133314Z
UID:10002743-1730210400-1730219400@rcts.org.uk
SUMMARY:Travels Around Ukraine by Steam
DESCRIPTION:A Hitchin & Welwyn Garden City branch presentation by Michael Smyth. \nPictures from three trips to the Ukraine in 1993\, 1999 and 2002. These illustrate Russian designed steam locomotives at work and explains the American influence of the 1930s.\nMore importantly it aims to give an insight into the history\, geography and normal life\, in this now sadly war-torn country.\nThe picture above is a P36 class 4-8-4 on a run-past – Russia’s final post-WWII design of an express passenger engine\, of which 250 were built up to 1959. \nDoors open 13:30.
URL:https://rcts.org.uk/event/travels-around-ukraine-by-steam/
LOCATION:HTC Welwyn\, Digswell Village Church Hall\, Welwyn\, Hertfordshire\, AL6 0DH\, United Kingdom
CATEGORIES:Branch Meetings,HTC Hitchin and Welwyn Garden City,Indoor Event
ATTACH;FMTTYPE=image/jpeg:https://rcts.org.uk/wp-content/uploads/hitchin-and-welwyn-garden-city-branch/Misc/October-2024-Michael-Smyth-043-scaled.jpeg
END:VEVENT
END:VCALENDAR