BEGIN:VCALENDAR
VERSION:2.0
PRODID:-//The Railway Correspondence &amp; Travel Society - ECPv6.15.20//NONSGML v1.0//EN
CALSCALE:GREGORIAN
METHOD:PUBLISH
X-ORIGINAL-URL:https://rcts.org.uk
X-WR-CALDESC:Events for The Railway Correspondence &amp; Travel Society
REFRESH-INTERVAL;VALUE=DURATION:PT1H
X-Robots-Tag:noindex
X-PUBLISHED-TTL:PT1H
BEGIN:VTIMEZONE
TZID:Europe/London
BEGIN:DAYLIGHT
TZOFFSETFROM:+0000
TZOFFSETTO:+0100
TZNAME:BST
DTSTART:20230326T010000
END:DAYLIGHT
BEGIN:STANDARD
TZOFFSETFROM:+0100
TZOFFSETTO:+0000
TZNAME:GMT
DTSTART:20231029T010000
END:STANDARD
BEGIN:DAYLIGHT
TZOFFSETFROM:+0000
TZOFFSETTO:+0100
TZNAME:BST
DTSTART:20240331T010000
END:DAYLIGHT
BEGIN:STANDARD
TZOFFSETFROM:+0100
TZOFFSETTO:+0000
TZNAME:GMT
DTSTART:20241027T010000
END:STANDARD
BEGIN:DAYLIGHT
TZOFFSETFROM:+0000
TZOFFSETTO:+0100
TZNAME:BST
DTSTART:20250330T010000
END:DAYLIGHT
BEGIN:STANDARD
TZOFFSETFROM:+0100
TZOFFSETTO:+0000
TZNAME:GMT
DTSTART:20251026T010000
END:STANDARD
END:VTIMEZONE
BEGIN:VEVENT
DTSTART;TZID=Europe/London:20241031T193000
DTEND;TZID=Europe/London:20241031T220000
DTSTAMP:20260422T130753
CREATED:20240224T001253Z
LAST-MODIFIED:20240930T221402Z
UID:10002594-1730403000-1730412000@rcts.org.uk
SUMMARY:Inside Story ­- The Railway Observer: Building a Society Magazine
DESCRIPTION:If you have ever wondered how every month the RO gets from raw information to your doorstep\, Mike Robinson\, Managing Editor of The Railway Observer\, will be describing in this illustrated presentation what we do and how we do it. If you are interested in our editorial and image selection process or have ever considered responding to one of our frequent appeals for volunteers\, this is your opportunity to learn more both about our process and the editorial team. This will be accompanied by a generous selection of images drawn from the RO. \nFor this virtual event\, you will require a ticket. Free for RCTS members\, but a £2.50 donation will be requested at the checkout. Non-member tickets are £2.50. (Or you can join the Society in the same transaction to take advantage of members’ benefits) \nTo receive information on coming National (and other) Zoom meetings\, please join the RCTS National Zoom E-mail List (RCTS-National@groups.io) by visiting https://groups.io/g/RCTS-National \, or by e-mail to RCTS-National+subscribe@groups.io.
URL:https://rcts.org.uk/event/october-2024-national-zoom-meeting/
LOCATION:Virtual Meeting\, Virtual Meeting\, United Kingdom
CATEGORIES:National Meeting,Virtual Event
ATTACH;FMTTYPE=image/jpeg:https://rcts.org.uk/wp-content/uploads/croydon-south-london-branch/JGH_20200202_F1469_w1280.jpg
ORGANIZER;CN="National Meetings":MAILTO:zoom-national@rcts.org.uk
END:VEVENT
END:VCALENDAR