BEGIN:VCALENDAR
VERSION:2.0
PRODID:-//The Railway Correspondence &amp; Travel Society - ECPv6.15.20//NONSGML v1.0//EN
CALSCALE:GREGORIAN
METHOD:PUBLISH
X-WR-CALNAME:The Railway Correspondence &amp; Travel Society
X-ORIGINAL-URL:https://rcts.org.uk
X-WR-CALDESC:Events for The Railway Correspondence &amp; Travel Society
REFRESH-INTERVAL;VALUE=DURATION:PT1H
X-Robots-Tag:noindex
X-PUBLISHED-TTL:PT1H
BEGIN:VTIMEZONE
TZID:Europe/London
BEGIN:DAYLIGHT
TZOFFSETFROM:+0000
TZOFFSETTO:+0100
TZNAME:BST
DTSTART:20230326T010000
END:DAYLIGHT
BEGIN:STANDARD
TZOFFSETFROM:+0100
TZOFFSETTO:+0000
TZNAME:GMT
DTSTART:20231029T010000
END:STANDARD
BEGIN:DAYLIGHT
TZOFFSETFROM:+0000
TZOFFSETTO:+0100
TZNAME:BST
DTSTART:20240331T010000
END:DAYLIGHT
BEGIN:STANDARD
TZOFFSETFROM:+0100
TZOFFSETTO:+0000
TZNAME:GMT
DTSTART:20241027T010000
END:STANDARD
BEGIN:DAYLIGHT
TZOFFSETFROM:+0000
TZOFFSETTO:+0100
TZNAME:BST
DTSTART:20250330T010000
END:DAYLIGHT
BEGIN:STANDARD
TZOFFSETFROM:+0100
TZOFFSETTO:+0000
TZNAME:GMT
DTSTART:20251026T010000
END:STANDARD
END:VTIMEZONE
BEGIN:VEVENT
DTSTART;TZID=Europe/London:20241114T110000
DTEND;TZID=Europe/London:20241114T160000
DTSTAMP:20260422T132316
CREATED:20240531T105239Z
LAST-MODIFIED:20240531T105239Z
UID:10002669-1731582000-1731600000@rcts.org.uk
SUMMARY:Archive & Library Open Day
DESCRIPTION:Archive & Library Open Day
URL:https://rcts.org.uk/event/archive-library-open-day-34/
LOCATION:RCTS Library\, Leatherhead Station Approach\, Leatherhead\, KT22 7SQ\, United Kingdom
CATEGORIES:Library Opening
END:VEVENT
BEGIN:VEVENT
DTSTART;TZID=Europe/London:20241114T143000
DTEND;TZID=Europe/London:20241114T163000
DTSTAMP:20260422T132316
CREATED:20240821T113041Z
LAST-MODIFIED:20240821T113041Z
UID:10002768-1731594600-1731601800@rcts.org.uk
SUMMARY:"Scotland and NW England" by Keith Jones
DESCRIPTION:This afternoon we will be welcoming back Keith Jones who will be presenting a selection of B&W and Colour images from his extensive archive.
URL:https://rcts.org.uk/event/scotland-and-nw-england-by-keith-jones/
LOCATION:SCT Edinburgh\, Scots Guards Club\, 2 Clifton Terrace\,\, Edinburgh\, EH12 5DR\, United Kingdom
CATEGORIES:SCT Scotland
END:VEVENT
END:VCALENDAR