BEGIN:VCALENDAR
VERSION:2.0
PRODID:-//The Railway Correspondence &amp; Travel Society - ECPv6.15.20//NONSGML v1.0//EN
CALSCALE:GREGORIAN
METHOD:PUBLISH
X-WR-CALNAME:The Railway Correspondence &amp; Travel Society
X-ORIGINAL-URL:https://rcts.org.uk
X-WR-CALDESC:Events for The Railway Correspondence &amp; Travel Society
REFRESH-INTERVAL;VALUE=DURATION:PT1H
X-Robots-Tag:noindex
X-PUBLISHED-TTL:PT1H
BEGIN:VTIMEZONE
TZID:Europe/London
BEGIN:DAYLIGHT
TZOFFSETFROM:+0000
TZOFFSETTO:+0100
TZNAME:BST
DTSTART:20230326T010000
END:DAYLIGHT
BEGIN:STANDARD
TZOFFSETFROM:+0100
TZOFFSETTO:+0000
TZNAME:GMT
DTSTART:20231029T010000
END:STANDARD
BEGIN:DAYLIGHT
TZOFFSETFROM:+0000
TZOFFSETTO:+0100
TZNAME:BST
DTSTART:20240331T010000
END:DAYLIGHT
BEGIN:STANDARD
TZOFFSETFROM:+0100
TZOFFSETTO:+0000
TZNAME:GMT
DTSTART:20241027T010000
END:STANDARD
BEGIN:DAYLIGHT
TZOFFSETFROM:+0000
TZOFFSETTO:+0100
TZNAME:BST
DTSTART:20250330T010000
END:DAYLIGHT
BEGIN:STANDARD
TZOFFSETFROM:+0100
TZOFFSETTO:+0000
TZNAME:GMT
DTSTART:20251026T010000
END:STANDARD
END:VTIMEZONE
BEGIN:VEVENT
DTSTART;TZID=Europe/London:20241116T190000
DTEND;TZID=Europe/London:20241116T213000
DTSTAMP:20260422T132254
CREATED:20240808T072943Z
LAST-MODIFIED:20240808T093408Z
UID:10002755-1731783600-1731792600@rcts.org.uk
SUMMARY:RCTS WEN Branch Meeting : Bob Bradley : A Ray Shinn Retrospective
DESCRIPTION:***Please note the change of date to the third Saturday in November*** \nMany members of the branch will remember Ray Shinn\, who sadly is no longer with us\, and as custodian of his photo collection Bob has now digitised it and will present an evening of Rays photographic exploits. It promises to be a evening of nostalgia.
URL:https://rcts.org.uk/event/rcts-wen-branch-meeting-bob-bradley-a-ray-shinn-retrospective/
LOCATION:WEN Exeter [Mint Methodist Church]\, Fore Street\, Exeter\, EX4 3AT\, United Kingdom
CATEGORIES:WEN West of England
END:VEVENT
END:VCALENDAR