BEGIN:VCALENDAR
VERSION:2.0
PRODID:-//The Railway Correspondence &amp; Travel Society - ECPv6.15.20//NONSGML v1.0//EN
CALSCALE:GREGORIAN
METHOD:PUBLISH
X-WR-CALNAME:The Railway Correspondence &amp; Travel Society
X-ORIGINAL-URL:https://rcts.org.uk
X-WR-CALDESC:Events for The Railway Correspondence &amp; Travel Society
REFRESH-INTERVAL;VALUE=DURATION:PT1H
X-Robots-Tag:noindex
X-PUBLISHED-TTL:PT1H
BEGIN:VTIMEZONE
TZID:Europe/London
BEGIN:DAYLIGHT
TZOFFSETFROM:+0000
TZOFFSETTO:+0100
TZNAME:BST
DTSTART:20230326T010000
END:DAYLIGHT
BEGIN:STANDARD
TZOFFSETFROM:+0100
TZOFFSETTO:+0000
TZNAME:GMT
DTSTART:20231029T010000
END:STANDARD
BEGIN:DAYLIGHT
TZOFFSETFROM:+0000
TZOFFSETTO:+0100
TZNAME:BST
DTSTART:20240331T010000
END:DAYLIGHT
BEGIN:STANDARD
TZOFFSETFROM:+0100
TZOFFSETTO:+0000
TZNAME:GMT
DTSTART:20241027T010000
END:STANDARD
BEGIN:DAYLIGHT
TZOFFSETFROM:+0000
TZOFFSETTO:+0100
TZNAME:BST
DTSTART:20250330T010000
END:DAYLIGHT
BEGIN:STANDARD
TZOFFSETFROM:+0100
TZOFFSETTO:+0000
TZNAME:GMT
DTSTART:20251026T010000
END:STANDARD
END:VTIMEZONE
BEGIN:VEVENT
DTSTART;TZID=Europe/London:20241121T190000
DTEND;TZID=Europe/London:20241121T220000
DTSTAMP:20260424T161207
CREATED:20240905T161536Z
LAST-MODIFIED:20240905T191225Z
UID:10002855-1732215600-1732226400@rcts.org.uk
SUMMARY:CHM Branch - Preservation Western Style
DESCRIPTION:The story of the iconic Class 52 Western diesel hydraulic locomotives and the efforts of the Western Locomotive Association in keeping the legend alive. We look forward to welcoming Paul Finch and the team from the WLA for a return visit with more stories of the preservation of three of these iconic locomotives.
URL:https://rcts.org.uk/event/preservation-western-style/
LOCATION:CHM Cheltenham\, Victory Club\, Burlington House\, Lypiatt Road\, Cheltenham\, GL50 2SY\, United Kingdom
CATEGORIES:CHM Cheltenham
ATTACH;FMTTYPE=image/jpeg:https://rcts.org.uk/wp-content/uploads/cheltenham-branch/UKP24108-scaled.jpg
END:VEVENT
BEGIN:VEVENT
DTSTART;TZID=Europe/London:20241121T191500
DTEND;TZID=Europe/London:20241121T213000
DTSTAMP:20260424T161207
CREATED:20240531T111857Z
LAST-MODIFIED:20241006T145549Z
UID:10002679-1732216500-1732224600@rcts.org.uk
SUMMARY:SRY Branch - Railway Bridge Disasters and Mishaps
DESCRIPTION:Railway Bridge Disasters and Mishaps \nBy Alan Hayward. \nThe Dee Bridge collapse plus references to the Tay Bridge accident\, plus the Lewisham train crash and the Clapham train crash.
URL:https://rcts.org.uk/event/surrey-branch-november-2024-meeting/
LOCATION:SRY Woking\, Woking United Reform Church\, White Rose Lane\, Woking\, GU22 7HA\, United Kingdom
CATEGORIES:SRY Surrey
END:VEVENT
BEGIN:VEVENT
DTSTART;TZID=Europe/London:20241121T193000
DTEND;TZID=Europe/London:20241121T213000
DTSTAMP:20260424T161207
CREATED:20240928T093448Z
LAST-MODIFIED:20240928T093448Z
UID:10002870-1732217400-1732224600@rcts.org.uk
SUMMARY:"Saltburn to Scarborough" by Austin Hughes
DESCRIPTION:
URL:https://rcts.org.uk/event/saltburn-to-scarborough-by-austin-hughes/
LOCATION:WRD Shipley\, Saltaire Methodist Church\, Saltaire Road\, Shipley\, BD18 3HJ\, United Kingdom
CATEGORIES:Indoor Event,WRD West Riding
END:VEVENT
END:VCALENDAR