BEGIN:VCALENDAR
VERSION:2.0
PRODID:-//The Railway Correspondence &amp; Travel Society - ECPv6.15.20//NONSGML v1.0//EN
CALSCALE:GREGORIAN
METHOD:PUBLISH
X-WR-CALNAME:The Railway Correspondence &amp; Travel Society
X-ORIGINAL-URL:https://rcts.org.uk
X-WR-CALDESC:Events for The Railway Correspondence &amp; Travel Society
REFRESH-INTERVAL;VALUE=DURATION:PT1H
X-Robots-Tag:noindex
X-PUBLISHED-TTL:PT1H
BEGIN:VTIMEZONE
TZID:Europe/London
BEGIN:DAYLIGHT
TZOFFSETFROM:+0000
TZOFFSETTO:+0100
TZNAME:BST
DTSTART:20230326T010000
END:DAYLIGHT
BEGIN:STANDARD
TZOFFSETFROM:+0100
TZOFFSETTO:+0000
TZNAME:GMT
DTSTART:20231029T010000
END:STANDARD
BEGIN:DAYLIGHT
TZOFFSETFROM:+0000
TZOFFSETTO:+0100
TZNAME:BST
DTSTART:20240331T010000
END:DAYLIGHT
BEGIN:STANDARD
TZOFFSETFROM:+0100
TZOFFSETTO:+0000
TZNAME:GMT
DTSTART:20241027T010000
END:STANDARD
BEGIN:DAYLIGHT
TZOFFSETFROM:+0000
TZOFFSETTO:+0100
TZNAME:BST
DTSTART:20250330T010000
END:DAYLIGHT
BEGIN:STANDARD
TZOFFSETFROM:+0100
TZOFFSETTO:+0000
TZNAME:GMT
DTSTART:20251026T010000
END:STANDARD
END:VTIMEZONE
BEGIN:VEVENT
DTSTART;TZID=Europe/London:20241125T140000
DTEND;TZID=Europe/London:20241125T163000
DTSTAMP:20260422T132310
CREATED:20240105T184714Z
LAST-MODIFIED:20240105T233847Z
UID:10002552-1732543200-1732552200@rcts.org.uk
SUMMARY:The Tommy Tomalin Collection - Part 2\, by Brian Sullivan
DESCRIPTION:
URL:https://rcts.org.uk/event/the-tommy-tomalin-collection-part-2/
LOCATION:NHN Northampton – Weston Favell\, Weston Favell Parish Hall\, Booth Lane South\, Northampton\, NN3 3EP\, United Kingdom
CATEGORIES:Branch Meetings,NHN Northampton
END:VEVENT
BEGIN:VEVENT
DTSTART;TZID=Europe/London:20241125T193000
DTEND;TZID=Europe/London:20241125T220000
DTSTAMP:20260422T132310
CREATED:20240826T135513Z
LAST-MODIFIED:20240826T153220Z
UID:10002808-1732563000-1732572000@rcts.org.uk
SUMMARY:Severn Valley Railway History and Current Operation
DESCRIPTION:Our Society Secretary Rich visits us with a presentation looking at the history and its move from the national network to one of the country’s foremost heritage railways
URL:https://rcts.org.uk/event/severn-valley-railway-history-and-current-operation/
LOCATION:MHD Cox Green\, Cox Green Community Centre\, Highfield Lane\, Cox Green\, Maidenhead\, SL6 3AX\, United Kingdom
CATEGORIES:Branch Meetings,Hybrid Event,Indoor Event,MHD Windsor and Maidenhead,Virtual Event
ATTACH;FMTTYPE=image/jpeg:https://rcts.org.uk/wp-content/uploads/windsor-maidenhead-branch/UKP2221-scaled.jpg
ORGANIZER;CN="MHD Windsor & Maidenhead Branch":MAILTO:maidenhead@rcts.org.uk
END:VEVENT
END:VCALENDAR