BEGIN:VCALENDAR
VERSION:2.0
PRODID:-//The Railway Correspondence &amp; Travel Society - ECPv6.15.20//NONSGML v1.0//EN
CALSCALE:GREGORIAN
METHOD:PUBLISH
X-ORIGINAL-URL:https://rcts.org.uk
X-WR-CALDESC:Events for The Railway Correspondence &amp; Travel Society
REFRESH-INTERVAL;VALUE=DURATION:PT1H
X-Robots-Tag:noindex
X-PUBLISHED-TTL:PT1H
BEGIN:VTIMEZONE
TZID:Europe/London
BEGIN:DAYLIGHT
TZOFFSETFROM:+0000
TZOFFSETTO:+0100
TZNAME:BST
DTSTART:20240331T010000
END:DAYLIGHT
BEGIN:STANDARD
TZOFFSETFROM:+0100
TZOFFSETTO:+0000
TZNAME:GMT
DTSTART:20241027T010000
END:STANDARD
BEGIN:DAYLIGHT
TZOFFSETFROM:+0000
TZOFFSETTO:+0100
TZNAME:BST
DTSTART:20250330T010000
END:DAYLIGHT
BEGIN:STANDARD
TZOFFSETFROM:+0100
TZOFFSETTO:+0000
TZNAME:GMT
DTSTART:20251026T010000
END:STANDARD
BEGIN:DAYLIGHT
TZOFFSETFROM:+0000
TZOFFSETTO:+0100
TZNAME:BST
DTSTART:20260329T010000
END:DAYLIGHT
BEGIN:STANDARD
TZOFFSETFROM:+0100
TZOFFSETTO:+0000
TZNAME:GMT
DTSTART:20261025T010000
END:STANDARD
END:VTIMEZONE
BEGIN:VEVENT
DTSTART;TZID=Europe/London:20250206T110000
DTEND;TZID=Europe/London:20250206T160000
DTSTAMP:20260424T132550
CREATED:20241210T103237Z
LAST-MODIFIED:20241210T103237Z
UID:10002933-1738839600-1738857600@rcts.org.uk
SUMMARY:Archive And Library Open Day
DESCRIPTION:Archive And Library Open Day
URL:https://rcts.org.uk/event/archive-and-library-open-day-103/
LOCATION:RCTS Library\, Leatherhead Station Approach\, Leatherhead\, KT22 7SQ\, United Kingdom
CATEGORIES:Library Opening
END:VEVENT
BEGIN:VEVENT
DTSTART;TZID=Europe/London:20250206T193000
DTEND;TZID=Europe/London:20250206T210000
DTSTAMP:20260424T132550
CREATED:20240824T121836Z
LAST-MODIFIED:20241207T175909Z
UID:10002795-1738870200-1738875600@rcts.org.uk
SUMMARY:Milton Keynes Branch Zoom Meeting - ‘Colourful North Bucks’
DESCRIPTION:Join us for our second meeting of the year on Zoom – Clive Pepper will take us on a look back over the last forty years at some of the railway traffic and operations in North Bucks. Particular emphasis will be on the wide variety of colourful liveries seen on both passenger and freight workings in the area. Register via the Zoom link below to join. \n 
URL:https://rcts.org.uk/event/milton-keynes-branch-zoom-meeting-colourful-north-bucks/
LOCATION:Virtual Meeting\, Virtual Meeting\, United Kingdom
CATEGORIES:MKY Milton Keynes,Virtual Event
ATTACH;FMTTYPE=image/png:https://rcts.org.uk/wp-content/uploads/321.png
ORGANIZER;CN="MKY Milton Keynes branch":MAILTO:miltonkeynes@rcts.org.uk
END:VEVENT
END:VCALENDAR