BEGIN:VCALENDAR
VERSION:2.0
PRODID:-//The Railway Correspondence &amp; Travel Society - ECPv6.15.20//NONSGML v1.0//EN
CALSCALE:GREGORIAN
METHOD:PUBLISH
X-WR-CALNAME:The Railway Correspondence &amp; Travel Society
X-ORIGINAL-URL:https://rcts.org.uk
X-WR-CALDESC:Events for The Railway Correspondence &amp; Travel Society
REFRESH-INTERVAL;VALUE=DURATION:PT1H
X-Robots-Tag:noindex
X-PUBLISHED-TTL:PT1H
BEGIN:VTIMEZONE
TZID:Europe/London
BEGIN:DAYLIGHT
TZOFFSETFROM:+0000
TZOFFSETTO:+0100
TZNAME:BST
DTSTART:20240331T010000
END:DAYLIGHT
BEGIN:STANDARD
TZOFFSETFROM:+0100
TZOFFSETTO:+0000
TZNAME:GMT
DTSTART:20241027T010000
END:STANDARD
BEGIN:DAYLIGHT
TZOFFSETFROM:+0000
TZOFFSETTO:+0100
TZNAME:BST
DTSTART:20250330T010000
END:DAYLIGHT
BEGIN:STANDARD
TZOFFSETFROM:+0100
TZOFFSETTO:+0000
TZNAME:GMT
DTSTART:20251026T010000
END:STANDARD
BEGIN:DAYLIGHT
TZOFFSETFROM:+0000
TZOFFSETTO:+0100
TZNAME:BST
DTSTART:20260329T010000
END:DAYLIGHT
BEGIN:STANDARD
TZOFFSETFROM:+0100
TZOFFSETTO:+0000
TZNAME:GMT
DTSTART:20261025T010000
END:STANDARD
END:VTIMEZONE
BEGIN:VEVENT
DTSTART;TZID=Europe/London:20250212T110000
DTEND;TZID=Europe/London:20250212T160000
DTSTAMP:20260422T135703
CREATED:20241210T103342Z
LAST-MODIFIED:20241210T103342Z
UID:10002934-1739358000-1739376000@rcts.org.uk
SUMMARY:Archive And Library Open Day
DESCRIPTION:Archive And Library Open Day
URL:https://rcts.org.uk/event/archive-and-library-open-day-104/
LOCATION:RCTS Library\, Leatherhead Station Approach\, Leatherhead\, KT22 7SQ\, United Kingdom
CATEGORIES:Library Opening
END:VEVENT
BEGIN:VEVENT
DTSTART;TZID=Europe/London:20250212T190000
DTEND;TZID=Europe/London:20250212T220000
DTSTAMP:20260422T135703
CREATED:20241113T082835Z
LAST-MODIFIED:20241113T082835Z
UID:10002885-1739386800-1739397600@rcts.org.uk
SUMMARY:John Spencer Gilks on Tour and John Spencer Gilks' Westerns
DESCRIPTION:Nigel Wassell will present another set of images which he has curated from John’s extensive collection.
URL:https://rcts.org.uk/event/john-spencer-gilks-on-tour-and-john-spencer-gilks-westerns/
LOCATION:SWL Radyr\, Cardiff\, Old Church Rooms / Hen Ysgoldy'r Eglwys\, Park Road\, Radyr\, Cardiff\, CF15 8DF\, United Kingdom
CATEGORIES:SWL South Wales / De Cymru
END:VEVENT
END:VCALENDAR