BEGIN:VCALENDAR
VERSION:2.0
PRODID:-//The Railway Correspondence &amp; Travel Society - ECPv6.15.20//NONSGML v1.0//EN
CALSCALE:GREGORIAN
METHOD:PUBLISH
X-ORIGINAL-URL:https://rcts.org.uk
X-WR-CALDESC:Events for The Railway Correspondence &amp; Travel Society
REFRESH-INTERVAL;VALUE=DURATION:PT1H
X-Robots-Tag:noindex
X-PUBLISHED-TTL:PT1H
BEGIN:VTIMEZONE
TZID:Europe/London
BEGIN:DAYLIGHT
TZOFFSETFROM:+0000
TZOFFSETTO:+0100
TZNAME:BST
DTSTART:20240331T010000
END:DAYLIGHT
BEGIN:STANDARD
TZOFFSETFROM:+0100
TZOFFSETTO:+0000
TZNAME:GMT
DTSTART:20241027T010000
END:STANDARD
BEGIN:DAYLIGHT
TZOFFSETFROM:+0000
TZOFFSETTO:+0100
TZNAME:BST
DTSTART:20250330T010000
END:DAYLIGHT
BEGIN:STANDARD
TZOFFSETFROM:+0100
TZOFFSETTO:+0000
TZNAME:GMT
DTSTART:20251026T010000
END:STANDARD
BEGIN:DAYLIGHT
TZOFFSETFROM:+0000
TZOFFSETTO:+0100
TZNAME:BST
DTSTART:20260329T010000
END:DAYLIGHT
BEGIN:STANDARD
TZOFFSETFROM:+0100
TZOFFSETTO:+0000
TZNAME:GMT
DTSTART:20261025T010000
END:STANDARD
END:VTIMEZONE
BEGIN:VEVENT
DTSTART;TZID=Europe/London:20250507T193000
DTEND;TZID=Europe/London:20250507T213000
DTSTAMP:20260419T154520
CREATED:20240806T170115Z
LAST-MODIFIED:20250311T102457Z
UID:10002753-1746646200-1746653400@rcts.org.uk
SUMMARY:The life and times of Stanier 8F 48773
DESCRIPTION:this loco had had a very illustrious career travelling to Egypt and Iran and featured in several films and is of course now preserved at the Severn Valley Railway\,Ian chapman is going to tell us much more about its interesting life
URL:https://rcts.org.uk/event/the-life-and-times-of-stanier-8f-48773/
LOCATION:FLL Carnforth\, Royal Station Hotel\, Market Street\, Carnforth\, LA5 9BT\, United Kingdom
CATEGORIES:Branch Meetings,FLL Furness Lakes and Lune,Indoor Event
ATTACH;FMTTYPE=image/jpeg:https://rcts.org.uk/wp-content/uploads/furness-lakes-lune-branch/48733.jpg
END:VEVENT
END:VCALENDAR