BEGIN:VCALENDAR
VERSION:2.0
PRODID:-//The Railway Correspondence &amp; Travel Society - ECPv6.15.20//NONSGML v1.0//EN
CALSCALE:GREGORIAN
METHOD:PUBLISH
X-ORIGINAL-URL:https://rcts.org.uk
X-WR-CALDESC:Events for The Railway Correspondence &amp; Travel Society
REFRESH-INTERVAL;VALUE=DURATION:PT1H
X-Robots-Tag:noindex
X-PUBLISHED-TTL:PT1H
BEGIN:VTIMEZONE
TZID:Europe/London
BEGIN:DAYLIGHT
TZOFFSETFROM:+0000
TZOFFSETTO:+0100
TZNAME:BST
DTSTART:20240331T010000
END:DAYLIGHT
BEGIN:STANDARD
TZOFFSETFROM:+0100
TZOFFSETTO:+0000
TZNAME:GMT
DTSTART:20241027T010000
END:STANDARD
BEGIN:DAYLIGHT
TZOFFSETFROM:+0000
TZOFFSETTO:+0100
TZNAME:BST
DTSTART:20250330T010000
END:DAYLIGHT
BEGIN:STANDARD
TZOFFSETFROM:+0100
TZOFFSETTO:+0000
TZNAME:GMT
DTSTART:20251026T010000
END:STANDARD
BEGIN:DAYLIGHT
TZOFFSETFROM:+0000
TZOFFSETTO:+0100
TZNAME:BST
DTSTART:20260329T010000
END:DAYLIGHT
BEGIN:STANDARD
TZOFFSETFROM:+0100
TZOFFSETTO:+0000
TZNAME:GMT
DTSTART:20261025T010000
END:STANDARD
END:VTIMEZONE
BEGIN:VEVENT
DTSTART;TZID=Europe/London:20250514T190000
DTEND;TZID=Europe/London:20250514T220000
DTSTAMP:20260419T140902
CREATED:20240905T132105Z
LAST-MODIFIED:20240905T132434Z
UID:10002851-1747249200-1747260000@rcts.org.uk
SUMMARY:The Barry Dock and Railway Company
DESCRIPTION:Peter Fortune will provide an historical overview of the development and operation of this small but very successful railway company which transformed the coal trade in South wales for three decades in the late nineteenth and early twentieth century. \nA Great Western Railway 56XX tank brings  short freight over the Barry Railway’s iconic Walnut Tree Viaduct in the 1950s.
URL:https://rcts.org.uk/event/the-barry-dock-ad-railway-company/
LOCATION:SWL Radyr\, Cardiff\, Old Church Rooms / Hen Ysgoldy'r Eglwys\, Park Road\, Radyr\, Cardiff\, CF15 8DF\, United Kingdom
CATEGORIES:SWL South Wales / De Cymru
END:VEVENT
END:VCALENDAR