BEGIN:VCALENDAR
VERSION:2.0
PRODID:-//The Railway Correspondence &amp; Travel Society - ECPv6.15.20//NONSGML v1.0//EN
CALSCALE:GREGORIAN
METHOD:PUBLISH
X-ORIGINAL-URL:https://rcts.org.uk
X-WR-CALDESC:Events for The Railway Correspondence &amp; Travel Society
REFRESH-INTERVAL;VALUE=DURATION:PT1H
X-Robots-Tag:noindex
X-PUBLISHED-TTL:PT1H
BEGIN:VTIMEZONE
TZID:Europe/London
BEGIN:DAYLIGHT
TZOFFSETFROM:+0000
TZOFFSETTO:+0100
TZNAME:BST
DTSTART:20240331T010000
END:DAYLIGHT
BEGIN:STANDARD
TZOFFSETFROM:+0100
TZOFFSETTO:+0000
TZNAME:GMT
DTSTART:20241027T010000
END:STANDARD
BEGIN:DAYLIGHT
TZOFFSETFROM:+0000
TZOFFSETTO:+0100
TZNAME:BST
DTSTART:20250330T010000
END:DAYLIGHT
BEGIN:STANDARD
TZOFFSETFROM:+0100
TZOFFSETTO:+0000
TZNAME:GMT
DTSTART:20251026T010000
END:STANDARD
BEGIN:DAYLIGHT
TZOFFSETFROM:+0000
TZOFFSETTO:+0100
TZNAME:BST
DTSTART:20260329T010000
END:DAYLIGHT
BEGIN:STANDARD
TZOFFSETFROM:+0100
TZOFFSETTO:+0000
TZNAME:GMT
DTSTART:20261025T010000
END:STANDARD
END:VTIMEZONE
BEGIN:VEVENT
DTSTART;VALUE=DATE:20250610
DTEND;VALUE=DATE:20250611
DTSTAMP:20260424T104759
CREATED:20250319T124502Z
LAST-MODIFIED:20250319T124502Z
UID:10003021-1749513600-1749599999@rcts.org.uk
SUMMARY:Visit to South Wales
DESCRIPTION:
URL:https://rcts.org.uk/event/visit-to-south-wales-2/
CATEGORIES:MCN Merseyside Cheshire & North Wales
END:VEVENT
BEGIN:VEVENT
DTSTART;TZID=Europe/London:20250610T140000
DTEND;TZID=Europe/London:20250610T163000
DTSTAMP:20260424T104759
CREATED:20241215T120107Z
LAST-MODIFIED:20250509T100351Z
UID:10002958-1749564000-1749573000@rcts.org.uk
SUMMARY:A 12th Colour Rail Journey
DESCRIPTION:A Hitchin & Welwyn Garden City branch presentation by Paul Chancellor. \nOur twelfth Colour-Rail Journey will be the last and in a change for those preceding it \, it tells about the life of a trainspotter from those first experiences to the twist and turns that led to a keen interest in railway photography \, both archive and current. However note that it does not mean that Colour-Rail is closing!\nTales of spotting expeditions that went to plan\, but also some that did not\, would not be believed possible by today’s younger generations. These are illustrated with pictures from the 1950s to the present day which will stir memories of your own ‘spotting lives. \n                                                                                                                           Paul Chancellor \nDoors open 13:30 for a 14:00 start.
URL:https://rcts.org.uk/event/a-12th-colour-rail-journey/
LOCATION:St Marks Church Hall\, Hitchin SG5 1UR\, St Mark's Close\, Lancaster Avenue\, Hitchin\, Hertfordshire\, SG5 1UR
CATEGORIES:Branch Meetings,HTC Hitchin and Welwyn Garden City,Indoor Event
ATTACH;FMTTYPE=image/jpeg:https://rcts.org.uk/wp-content/uploads/hitchin-and-welwyn-garden-city-branch/Misc/June-2025-2-Paul-Chancellor-Hitchin-scaled.jpg
END:VEVENT
END:VCALENDAR