BEGIN:VCALENDAR
VERSION:2.0
PRODID:-//The Railway Correspondence &amp; Travel Society - ECPv6.15.20//NONSGML v1.0//EN
CALSCALE:GREGORIAN
METHOD:PUBLISH
X-ORIGINAL-URL:https://rcts.org.uk
X-WR-CALDESC:Events for The Railway Correspondence &amp; Travel Society
REFRESH-INTERVAL;VALUE=DURATION:PT1H
X-Robots-Tag:noindex
X-PUBLISHED-TTL:PT1H
BEGIN:VTIMEZONE
TZID:Europe/London
BEGIN:DAYLIGHT
TZOFFSETFROM:+0000
TZOFFSETTO:+0100
TZNAME:BST
DTSTART:20240331T010000
END:DAYLIGHT
BEGIN:STANDARD
TZOFFSETFROM:+0100
TZOFFSETTO:+0000
TZNAME:GMT
DTSTART:20241027T010000
END:STANDARD
BEGIN:DAYLIGHT
TZOFFSETFROM:+0000
TZOFFSETTO:+0100
TZNAME:BST
DTSTART:20250330T010000
END:DAYLIGHT
BEGIN:STANDARD
TZOFFSETFROM:+0100
TZOFFSETTO:+0000
TZNAME:GMT
DTSTART:20251026T010000
END:STANDARD
BEGIN:DAYLIGHT
TZOFFSETFROM:+0000
TZOFFSETTO:+0100
TZNAME:BST
DTSTART:20260329T010000
END:DAYLIGHT
BEGIN:STANDARD
TZOFFSETFROM:+0100
TZOFFSETTO:+0000
TZNAME:GMT
DTSTART:20261025T010000
END:STANDARD
END:VTIMEZONE
BEGIN:VEVENT
DTSTART;TZID=Europe/London:20250611T190000
DTEND;TZID=Europe/London:20250611T220000
DTSTAMP:20260424T162615
CREATED:20240905T132228Z
LAST-MODIFIED:20250516T223557Z
UID:10002852-1749668400-1749679200@rcts.org.uk
SUMMARY:The Fourth Rowland Pittard Memorial Lecture: An evening of images from the collection of Bob Masterman
DESCRIPTION:For the fourth annual Rowland Pittard Memorial Lecture\, The RCTS South Wales branch is delighted to welcome Robert Masterman back to The Old Church Rooms in Radyr. Bob is widely regarded as one of the foremost railway photographers of his\, or any\, generation and is perhaps best known for his work documenting the ever evolving South Wales scene but his archive covers a far wider area\, so expect a veritable cornucopia of images from South Wales and further beyond
URL:https://rcts.org.uk/event/the-fourth-rowland-pittard-memorial-lecture/
LOCATION:SWL Radyr\, Cardiff\, Old Church Rooms / Hen Ysgoldy'r Eglwys\, Park Road\, Radyr\, Cardiff\, CF15 8DF\, United Kingdom
CATEGORIES:SWL South Wales / De Cymru
END:VEVENT
END:VCALENDAR