BEGIN:VCALENDAR
VERSION:2.0
PRODID:-//The Railway Correspondence &amp; Travel Society - ECPv6.15.20//NONSGML v1.0//EN
CALSCALE:GREGORIAN
METHOD:PUBLISH
X-ORIGINAL-URL:https://rcts.org.uk
X-WR-CALDESC:Events for The Railway Correspondence &amp; Travel Society
REFRESH-INTERVAL;VALUE=DURATION:PT1H
X-Robots-Tag:noindex
X-PUBLISHED-TTL:PT1H
BEGIN:VTIMEZONE
TZID:Europe/London
BEGIN:DAYLIGHT
TZOFFSETFROM:+0000
TZOFFSETTO:+0100
TZNAME:BST
DTSTART:20240331T010000
END:DAYLIGHT
BEGIN:STANDARD
TZOFFSETFROM:+0100
TZOFFSETTO:+0000
TZNAME:GMT
DTSTART:20241027T010000
END:STANDARD
BEGIN:DAYLIGHT
TZOFFSETFROM:+0000
TZOFFSETTO:+0100
TZNAME:BST
DTSTART:20250330T010000
END:DAYLIGHT
BEGIN:STANDARD
TZOFFSETFROM:+0100
TZOFFSETTO:+0000
TZNAME:GMT
DTSTART:20251026T010000
END:STANDARD
BEGIN:DAYLIGHT
TZOFFSETFROM:+0000
TZOFFSETTO:+0100
TZNAME:BST
DTSTART:20260329T010000
END:DAYLIGHT
BEGIN:STANDARD
TZOFFSETFROM:+0100
TZOFFSETTO:+0000
TZNAME:GMT
DTSTART:20261025T010000
END:STANDARD
END:VTIMEZONE
BEGIN:VEVENT
DTSTART;TZID=Europe/London:20250620T180000
DTEND;TZID=Europe/London:20250620T203000
DTSTAMP:20260424T104749
CREATED:20250518T151803Z
LAST-MODIFIED:20250518T152412Z
UID:10003077-1750442400-1750451400@rcts.org.uk
SUMMARY:Wickham Trolley Evening\, S&D Railway Midsomer Norton
DESCRIPTION:Come and join our Wickham Trolley Evening at the Somerset & Dorset Railway Station\, Midsomer Norton.\n6.00pm Pimms Reception\, donations to the Railway Children Charity\n6.30pm Trolley Rides the length of the line @ £5 a head.\nThe shop\, buffet\, book emporium and museum will all be open.
URL:https://rcts.org.uk/event/wickham-trolley-evening-sd-railway-midsomer-norton/
LOCATION:Midsomer Norton Station\, Silver Street\, Midsomer Norton\, BA2 2EY
CATEGORIES:BTL Bristol,Outdoor Event
ATTACH;FMTTYPE=image/jpeg:https://rcts.org.uk/wp-content/uploads/bristol-branch/900-Images-for-Meetings/Wickham-Trolley.jpg
END:VEVENT
END:VCALENDAR