BEGIN:VCALENDAR
VERSION:2.0
PRODID:-//The Railway Correspondence &amp; Travel Society - ECPv6.15.20//NONSGML v1.0//EN
CALSCALE:GREGORIAN
METHOD:PUBLISH
X-ORIGINAL-URL:https://rcts.org.uk
X-WR-CALDESC:Events for The Railway Correspondence &amp; Travel Society
REFRESH-INTERVAL;VALUE=DURATION:PT1H
X-Robots-Tag:noindex
X-PUBLISHED-TTL:PT1H
BEGIN:VTIMEZONE
TZID:Europe/London
BEGIN:DAYLIGHT
TZOFFSETFROM:+0000
TZOFFSETTO:+0100
TZNAME:BST
DTSTART:20240331T010000
END:DAYLIGHT
BEGIN:STANDARD
TZOFFSETFROM:+0100
TZOFFSETTO:+0000
TZNAME:GMT
DTSTART:20241027T010000
END:STANDARD
BEGIN:DAYLIGHT
TZOFFSETFROM:+0000
TZOFFSETTO:+0100
TZNAME:BST
DTSTART:20250330T010000
END:DAYLIGHT
BEGIN:STANDARD
TZOFFSETFROM:+0100
TZOFFSETTO:+0000
TZNAME:GMT
DTSTART:20251026T010000
END:STANDARD
BEGIN:DAYLIGHT
TZOFFSETFROM:+0000
TZOFFSETTO:+0100
TZNAME:BST
DTSTART:20260329T010000
END:DAYLIGHT
BEGIN:STANDARD
TZOFFSETFROM:+0100
TZOFFSETTO:+0000
TZNAME:GMT
DTSTART:20261025T010000
END:STANDARD
END:VTIMEZONE
BEGIN:VEVENT
DTSTART;VALUE=DATE:20250909
DTEND;VALUE=DATE:20250910
DTSTAMP:20260421T091719
CREATED:20250319T124631Z
LAST-MODIFIED:20250827T220146Z
UID:10003023-1757376000-1757462399@rcts.org.uk
SUMMARY:Visit to Llandudno & the Great Orme Tramway
DESCRIPTION:Please note change of venue
URL:https://rcts.org.uk/event/visit-to-llandudno/
CATEGORIES:MCN Merseyside Cheshire & North Wales
END:VEVENT
BEGIN:VEVENT
DTSTART;TZID=Europe/London:20250909T140000
DTEND;TZID=Europe/London:20250909T163000
DTSTAMP:20260421T091719
CREATED:20250629T144333Z
LAST-MODIFIED:20250821T103921Z
UID:10003112-1757426400-1757435400@rcts.org.uk
SUMMARY:The Midland Main Line - Bedford to St Pancras
DESCRIPTION:A Hitchin & Welwyn Garden City branch presentation\, from the Peter Bland Collection\, by Bryan Cross. \nA digital presentation of images mostly scanned directly from the negatives of Peter Bland & Harold Clements. \nWe will travel along the ex-Midland Main Line\, Bedford to St Pancras & Moorgate. Looking at the early history\, aided by maps & diagrams but mostly photographs covering the period mid 1950’s to 1961 and the end steam hauled suburban services. \nDoors open 13:30 for a 14:00 start. \n 
URL:https://rcts.org.uk/event/the-midland-main-line-bedford-to-st-pancras/
LOCATION:HTC Hitchin\, St Mark's Church\, St Mark's Close\, Lancaster Avenue\, Hitchin\, Hertfordshire\, SG5 1UR\, United Kingdom
CATEGORIES:Branch Meetings,HTC Hitchin and Welwyn Garden City,Indoor Event
ATTACH;FMTTYPE=image/jpeg:https://rcts.org.uk/wp-content/uploads/hitchin-and-welwyn-garden-city-branch/Misc/Sept-2025-Bryan-Cross-45614-on-8.52-ex-Bradford-to-St-Pancras-at-Flitwick-1.10.1959.jpg
END:VEVENT
BEGIN:VEVENT
DTSTART;TZID=Europe/London:20250909T140000
DTEND;TZID=Europe/London:20250909T163000
DTSTAMP:20260421T091719
CREATED:20250823T133319Z
LAST-MODIFIED:20250827T220507Z
UID:10003168-1757426400-1757435400@rcts.org.uk
SUMMARY:The Life and Times of Edward Thompson - Simon Martin
DESCRIPTION:“I have much to do\, gentlemen\, and little time in which to do it”. These words are attributed to Edward Thompson and have been taken in the past as meaning little time in which to enact change\, specifically to the work of his predecessor\, Sir Nigel Gresley. How far was this true\, was the question posed by Simon A.C. Martin when he started his research on the L.N.E.R.’s second C.M.E. over a decade and a half ago.
URL:https://rcts.org.uk/event/the-life-and-times-of-edward-thompson-simon-martin/
LOCATION:EMD Nottingham\, The New Mechanics\, 3 North Sherwood Street\, Nottingham\, NG1 4EZ\, United Kingdom
CATEGORIES:Branch Meetings,EMD East Midlands,Indoor Event
ATTACH;FMTTYPE=image/jpeg:https://rcts.org.uk/wp-content/uploads/Edward-Thompson.jpg
END:VEVENT
BEGIN:VEVENT
DTSTART;TZID=Europe/London:20250909T193000
DTEND;TZID=Europe/London:20250909T220000
DTSTAMP:20260421T091719
CREATED:20250617T162218Z
LAST-MODIFIED:20250902T195253Z
UID:10003098-1757446200-1757455200@rcts.org.uk
SUMMARY:"The North Eastern Railway and the Beginnings of the East Coast Mainline" by Raymond Schofield
DESCRIPTION:Our 2025/26 season opens with a much-anticipated visit from Raymond Schofield who will take us through the history of the East Coast Main Line. The North-East of England was at the forefront of railway growth\, starting some 300 years ago with colliery lines delivering coal to staithes on the Tyne and Tees. Early passenger lines followed and by 1840 York\, the ‘Gateway to the North’\, was connected to London. Shortly after\, in 1847\, the first Scottish trains came this way. In his talk\, Ray will look at some of the significant early lines and how they slotted into that 1847 route to the North. He will then follow the many changes through to the East Coast Main Line we know today\, using his own pictures and purchased images. The presentation is primarily steam-age\, but the pioneering North Eastern electrification developments are also included\, along with the occasional early diesel.
URL:https://rcts.org.uk/event/the-north-eastern-railway-and-the-beginnings-of-the-east-coast-mainline-by-raymond-schofield/
LOCATION:CBR Fulbourn\, Cambridge\, The Swifts\, Haggis Gap\, Fulbourn\, Cambridge\, CB21 5HD\, United Kingdom
CATEGORIES:Branch Meetings,CBR Cambridge
ATTACH;FMTTYPE=image/jpeg:https://rcts.org.uk/wp-content/uploads/cambridge-branch/Speaker-Images/20250909-NER-ECML-Ray-Schofield-AW.jpg
END:VEVENT
BEGIN:VEVENT
DTSTART;TZID=Europe/London:20250909T193000
DTEND;TZID=Europe/London:20250909T220000
DTSTAMP:20260421T091719
CREATED:20250823T223928Z
LAST-MODIFIED:20250823T231209Z
UID:10003175-1757446200-1757455200@rcts.org.uk
SUMMARY:British Steam in the Early 21st Century – a Personal View
DESCRIPTION:A look back at what I was able to photograph in the early years of this century\, both on preserved railways and the mainline. \n(This is a replacement for David Cable’s presentation\, previously planned for this meeting\, which has had to be postponed until 14th April 2026). \n 
URL:https://rcts.org.uk/event/september-2025-csl-croydon-branch-meeting/
LOCATION:CSL Croydon\, East Croydon United Reformed Church\, Addiscombe Grove\, Croydon\, CR0 5LP\, United Kingdom
CATEGORIES:Branch Meetings,CSL Croydon & South London
ATTACH;FMTTYPE=image/jpeg:https://rcts.org.uk/wp-content/uploads/croydon-south-london-branch/2025/JHF2871S05_cr_cr.jpg
END:VEVENT
END:VCALENDAR