BEGIN:VCALENDAR
VERSION:2.0
PRODID:-//The Railway Correspondence &amp; Travel Society - ECPv6.15.20//NONSGML v1.0//EN
CALSCALE:GREGORIAN
METHOD:PUBLISH
X-ORIGINAL-URL:https://rcts.org.uk
X-WR-CALDESC:Events for The Railway Correspondence &amp; Travel Society
REFRESH-INTERVAL;VALUE=DURATION:PT1H
X-Robots-Tag:noindex
X-PUBLISHED-TTL:PT1H
BEGIN:VTIMEZONE
TZID:Europe/London
BEGIN:DAYLIGHT
TZOFFSETFROM:+0000
TZOFFSETTO:+0100
TZNAME:BST
DTSTART:20240331T010000
END:DAYLIGHT
BEGIN:STANDARD
TZOFFSETFROM:+0100
TZOFFSETTO:+0000
TZNAME:GMT
DTSTART:20241027T010000
END:STANDARD
BEGIN:DAYLIGHT
TZOFFSETFROM:+0000
TZOFFSETTO:+0100
TZNAME:BST
DTSTART:20250330T010000
END:DAYLIGHT
BEGIN:STANDARD
TZOFFSETFROM:+0100
TZOFFSETTO:+0000
TZNAME:GMT
DTSTART:20251026T010000
END:STANDARD
BEGIN:DAYLIGHT
TZOFFSETFROM:+0000
TZOFFSETTO:+0100
TZNAME:BST
DTSTART:20260329T010000
END:DAYLIGHT
BEGIN:STANDARD
TZOFFSETFROM:+0100
TZOFFSETTO:+0000
TZNAME:GMT
DTSTART:20261025T010000
END:STANDARD
END:VTIMEZONE
BEGIN:VEVENT
DTSTART;TZID=Europe/London:20250915T133000
DTEND;TZID=Europe/London:20250915T154500
DTSTAMP:20260423T101120
CREATED:20250827T142838Z
LAST-MODIFIED:20250827T143127Z
UID:10003189-1757943000-1757951100@rcts.org.uk
SUMMARY:Colour Rail Journey 12 (A spotter's tale) by Paul Chancellor
DESCRIPTION:
URL:https://rcts.org.uk/event/colour-rail-journey-12-a-spotters-tale-by-paul-chancellor/
LOCATION:MCN Bromborough\, The Bromborough Suite. The Merebrook\, Greenfields Avenue\, Bromborough\, Wirral\, Merseyside\, CH62 6DD\, United Kingdom
CATEGORIES:MCN Merseyside Cheshire & North Wales
END:VEVENT
BEGIN:VEVENT
DTSTART;TZID=Europe/London:20250915T140000
DTEND;TZID=Europe/London:20250915T160000
DTSTAMP:20260423T101120
CREATED:20250717T130638Z
LAST-MODIFIED:20250717T130638Z
UID:10003130-1757944800-1757952000@rcts.org.uk
SUMMARY:The Great Train Robbery - Ian Boskett
DESCRIPTION:The Great Train Robbery – What you didn’t hear in the News. A well researched presentation with a more humorous take.
URL:https://rcts.org.uk/event/the-great-train-robbery-ian-boskett/
LOCATION:Buckinghamshire
CATEGORIES:Indoor Event,WMD West Midlands
END:VEVENT
BEGIN:VEVENT
DTSTART;TZID=Europe/London:20250915T193000
DTEND;TZID=Europe/London:20250915T223000
DTSTAMP:20260423T101120
CREATED:20250218T121221Z
LAST-MODIFIED:20250902T143851Z
UID:10002999-1757964600-1757975400@rcts.org.uk
SUMMARY:The Modern Image - Not Quite
DESCRIPTION:Physical meeting at Shenfield Parish Hall which will also be available on Zoom as a Hybrid Meeting.  Please note that this talk by Peter Robins replaces the originally listed talk on 21st Century Steam \n 
URL:https://rcts.org.uk/event/the-modern-image-not-quite/
LOCATION:ESX Shenfield\, Shenfield Parish Hall\, 60 Hutton Road\, Shenfield\, CM15 8LB\, United Kingdom
CATEGORIES:Branch Meetings,ESX South Essex,Hybrid Event,Virtual Event
ATTACH;FMTTYPE=image/jpeg:https://rcts.org.uk/wp-content/uploads/south-essex-branch/6101-75529H2-M60.jpg
END:VEVENT
END:VCALENDAR