BEGIN:VCALENDAR
VERSION:2.0
PRODID:-//The Railway Correspondence &amp; Travel Society - ECPv6.15.20//NONSGML v1.0//EN
CALSCALE:GREGORIAN
METHOD:PUBLISH
X-WR-CALNAME:The Railway Correspondence &amp; Travel Society
X-ORIGINAL-URL:https://rcts.org.uk
X-WR-CALDESC:Events for The Railway Correspondence &amp; Travel Society
REFRESH-INTERVAL;VALUE=DURATION:PT1H
X-Robots-Tag:noindex
X-PUBLISHED-TTL:PT1H
BEGIN:VTIMEZONE
TZID:Europe/London
BEGIN:DAYLIGHT
TZOFFSETFROM:+0000
TZOFFSETTO:+0100
TZNAME:BST
DTSTART:20240331T010000
END:DAYLIGHT
BEGIN:STANDARD
TZOFFSETFROM:+0100
TZOFFSETTO:+0000
TZNAME:GMT
DTSTART:20241027T010000
END:STANDARD
BEGIN:DAYLIGHT
TZOFFSETFROM:+0000
TZOFFSETTO:+0100
TZNAME:BST
DTSTART:20250330T010000
END:DAYLIGHT
BEGIN:STANDARD
TZOFFSETFROM:+0100
TZOFFSETTO:+0000
TZNAME:GMT
DTSTART:20251026T010000
END:STANDARD
BEGIN:DAYLIGHT
TZOFFSETFROM:+0000
TZOFFSETTO:+0100
TZNAME:BST
DTSTART:20260329T010000
END:DAYLIGHT
BEGIN:STANDARD
TZOFFSETFROM:+0100
TZOFFSETTO:+0000
TZNAME:GMT
DTSTART:20261025T010000
END:STANDARD
END:VTIMEZONE
BEGIN:VEVENT
DTSTART;TZID=Europe/London:20250917T110000
DTEND;TZID=Europe/London:20250917T160000
DTSTAMP:20260421T115829
CREATED:20250510T091348Z
LAST-MODIFIED:20250831T090625Z
UID:10003057-1758106800-1758124800@rcts.org.uk
SUMMARY:Archive And Library Open Day - CANCELLED
DESCRIPTION:Archive And Library Open Day – CANCELLED \nCancelled due to the interior works by GoviaThameslink Railway’s contractors still being incomplete.
URL:https://rcts.org.uk/event/archive-and-library-open-day-134/
LOCATION:RCTS Library\, Leatherhead Station Approach\, Leatherhead\, KT22 7SQ\, United Kingdom
CATEGORIES:Library Opening
END:VEVENT
BEGIN:VEVENT
DTSTART;TZID=Europe/London:20250917T193000
DTEND;TZID=Europe/London:20250917T220000
DTSTAMP:20260421T115829
CREATED:20250709T202318Z
LAST-MODIFIED:20250709T202318Z
UID:10003118-1758137400-1758146400@rcts.org.uk
SUMMARY:East - West Journey (UK)
DESCRIPTION:East – West Journey (UK)
URL:https://rcts.org.uk/event/east-west-journey-uk/
LOCATION:SOE Eastleigh\, Junction Church (formerly Eastleigh Railway Institute)\, 2 Romsey Road\, Eastleigh\, SO50 9FE\, United Kingdom
CATEGORIES:SOE Solent
END:VEVENT
END:VCALENDAR