BEGIN:VCALENDAR
VERSION:2.0
PRODID:-//The Railway Correspondence &amp; Travel Society - ECPv6.15.20//NONSGML v1.0//EN
CALSCALE:GREGORIAN
METHOD:PUBLISH
X-ORIGINAL-URL:https://rcts.org.uk
X-WR-CALDESC:Events for The Railway Correspondence &amp; Travel Society
REFRESH-INTERVAL;VALUE=DURATION:PT1H
X-Robots-Tag:noindex
X-PUBLISHED-TTL:PT1H
BEGIN:VTIMEZONE
TZID:Europe/London
BEGIN:DAYLIGHT
TZOFFSETFROM:+0000
TZOFFSETTO:+0100
TZNAME:BST
DTSTART:20240331T010000
END:DAYLIGHT
BEGIN:STANDARD
TZOFFSETFROM:+0100
TZOFFSETTO:+0000
TZNAME:GMT
DTSTART:20241027T010000
END:STANDARD
BEGIN:DAYLIGHT
TZOFFSETFROM:+0000
TZOFFSETTO:+0100
TZNAME:BST
DTSTART:20250330T010000
END:DAYLIGHT
BEGIN:STANDARD
TZOFFSETFROM:+0100
TZOFFSETTO:+0000
TZNAME:GMT
DTSTART:20251026T010000
END:STANDARD
BEGIN:DAYLIGHT
TZOFFSETFROM:+0000
TZOFFSETTO:+0100
TZNAME:BST
DTSTART:20260329T010000
END:DAYLIGHT
BEGIN:STANDARD
TZOFFSETFROM:+0100
TZOFFSETTO:+0000
TZNAME:GMT
DTSTART:20261025T010000
END:STANDARD
END:VTIMEZONE
BEGIN:VEVENT
DTSTART;TZID=Europe/London:20250923T110000
DTEND;TZID=Europe/London:20250923T160000
DTSTAMP:20260419T155609
CREATED:20250510T091446Z
LAST-MODIFIED:20250831T090610Z
UID:10003059-1758625200-1758643200@rcts.org.uk
SUMMARY:Archive And Library Open Day - CANCELLED
DESCRIPTION:Archive And Library Open Day – CANCELLED \nCancelled due to the interior works by GoviaThameslink Railway’s contractors still being incomplete.
URL:https://rcts.org.uk/event/archive-and-library-open-day-136/
LOCATION:RCTS Library\, Leatherhead Station Approach\, Leatherhead\, KT22 7SQ\, United Kingdom
CATEGORIES:Library Opening
END:VEVENT
BEGIN:VEVENT
DTSTART;TZID=Europe/London:20250923T140000
DTEND;TZID=Europe/London:20250923T163000
DTSTAMP:20260419T155609
CREATED:20250119T183253Z
LAST-MODIFIED:20250119T183253Z
UID:10002977-1758636000-1758645000@rcts.org.uk
SUMMARY:The Kettering to Cambridge branch line by Robin Cullup\, joint meeting of the Northampton and Milton Keynes branches
DESCRIPTION:This is a joint meeting with the Milton Keynes branch; the venue is Roade Village Hall.
URL:https://rcts.org.uk/event/the-kettering-to-cambridge-branch-line-by-robin-cullup-joint-meeting-of-the-northampton-and-milton-keynes-branches/
LOCATION:NHN Roade\, Roade Village Hall\, Bailey Brooks Lane\, Roade\, Northampton\, NN7 2LS\, United Kingdom
CATEGORIES:Branch Meetings,Indoor Event,NHN Northampton
END:VEVENT
BEGIN:VEVENT
DTSTART;TZID=Europe/London:20250923T140000
DTEND;TZID=Europe/London:20250923T163000
DTSTAMP:20260419T155609
CREATED:20250823T134250Z
LAST-MODIFIED:20250915T140028Z
UID:10003169-1758636000-1758645000@rcts.org.uk
SUMMARY:Midland Main Line Electrification - Matt Parkin
DESCRIPTION:Matt Parkin (Contractors Engineering Manager for the MMLE Electrification from Kettering to Wigston) from SPL Powerlines UK (SPL) will present a lecture about the challenges and innovation for new electrification schemes
URL:https://rcts.org.uk/event/midland-main-line-electrification-matt-parkin/
LOCATION:EMD Nottingham\, The New Mechanics\, 3 North Sherwood Street\, Nottingham\, NG1 4EZ\, United Kingdom
CATEGORIES:Branch Meetings,EMD East Midlands,Indoor Event
ATTACH;FMTTYPE=image/webp:https://rcts.org.uk/wp-content/uploads/OIP.webp
END:VEVENT
END:VCALENDAR