BEGIN:VCALENDAR
VERSION:2.0
PRODID:-//The Railway Correspondence &amp; Travel Society - ECPv6.15.20//NONSGML v1.0//EN
CALSCALE:GREGORIAN
METHOD:PUBLISH
X-ORIGINAL-URL:https://rcts.org.uk
X-WR-CALDESC:Events for The Railway Correspondence &amp; Travel Society
REFRESH-INTERVAL;VALUE=DURATION:PT1H
X-Robots-Tag:noindex
X-PUBLISHED-TTL:PT1H
BEGIN:VTIMEZONE
TZID:Europe/London
BEGIN:DAYLIGHT
TZOFFSETFROM:+0000
TZOFFSETTO:+0100
TZNAME:BST
DTSTART:20240331T010000
END:DAYLIGHT
BEGIN:STANDARD
TZOFFSETFROM:+0100
TZOFFSETTO:+0000
TZNAME:GMT
DTSTART:20241027T010000
END:STANDARD
BEGIN:DAYLIGHT
TZOFFSETFROM:+0000
TZOFFSETTO:+0100
TZNAME:BST
DTSTART:20250330T010000
END:DAYLIGHT
BEGIN:STANDARD
TZOFFSETFROM:+0100
TZOFFSETTO:+0000
TZNAME:GMT
DTSTART:20251026T010000
END:STANDARD
BEGIN:DAYLIGHT
TZOFFSETFROM:+0000
TZOFFSETTO:+0100
TZNAME:BST
DTSTART:20260329T010000
END:DAYLIGHT
BEGIN:STANDARD
TZOFFSETFROM:+0100
TZOFFSETTO:+0000
TZNAME:GMT
DTSTART:20261025T010000
END:STANDARD
END:VTIMEZONE
BEGIN:VEVENT
DTSTART;TZID=Europe/London:20250930T140000
DTEND;TZID=Europe/London:20250930T163000
DTSTAMP:20260419T155619
CREATED:20250629T144728Z
LAST-MODIFIED:20250821T102758Z
UID:10003113-1759240800-1759249800@rcts.org.uk
SUMMARY:The Doncaster Rover
DESCRIPTION:A Hitchin & Welwyn Garden City branch presentation by Stephen Gay. \nTravelling from Frickley to Finningly\, Mexborough to Moorends and Bentley\, Bessacarr to Bawtry. This is a railway journey which criss-crosses the Doncaster borough. Using Stephen’s slides taken over the last 40 years\, the presentation will also look at waterways and historic buildings. We will also take a bus journey\, helping to locate lost lines and stations! \n(Information provided by Stephen Gay) \nDoors open 13:30 for a 14:00 start.
URL:https://rcts.org.uk/event/the-doncaster-rover/
LOCATION:HTC Welwyn\, Digswell Village Church Hall\, Welwyn\, Hertfordshire\, AL6 0DH\, United Kingdom
CATEGORIES:Branch Meetings,HTC Hitchin and Welwyn Garden City,Indoor Event
ATTACH;FMTTYPE=image/jpeg:https://rcts.org.uk/wp-content/uploads/hitchin-and-welwyn-garden-city-branch/Misc/Sept-2025-Steven-Gay.jpg
END:VEVENT
END:VCALENDAR