BEGIN:VCALENDAR
VERSION:2.0
PRODID:-//The Railway Correspondence &amp; Travel Society - ECPv6.15.20//NONSGML v1.0//EN
CALSCALE:GREGORIAN
METHOD:PUBLISH
X-ORIGINAL-URL:https://rcts.org.uk
X-WR-CALDESC:Events for The Railway Correspondence &amp; Travel Society
REFRESH-INTERVAL;VALUE=DURATION:PT1H
X-Robots-Tag:noindex
X-PUBLISHED-TTL:PT1H
BEGIN:VTIMEZONE
TZID:Europe/London
BEGIN:DAYLIGHT
TZOFFSETFROM:+0000
TZOFFSETTO:+0100
TZNAME:BST
DTSTART:20250330T010000
END:DAYLIGHT
BEGIN:STANDARD
TZOFFSETFROM:+0100
TZOFFSETTO:+0000
TZNAME:GMT
DTSTART:20251026T010000
END:STANDARD
BEGIN:DAYLIGHT
TZOFFSETFROM:+0000
TZOFFSETTO:+0100
TZNAME:BST
DTSTART:20260329T010000
END:DAYLIGHT
BEGIN:STANDARD
TZOFFSETFROM:+0100
TZOFFSETTO:+0000
TZNAME:GMT
DTSTART:20261025T010000
END:STANDARD
BEGIN:DAYLIGHT
TZOFFSETFROM:+0000
TZOFFSETTO:+0100
TZNAME:BST
DTSTART:20270328T010000
END:DAYLIGHT
BEGIN:STANDARD
TZOFFSETFROM:+0100
TZOFFSETTO:+0000
TZNAME:GMT
DTSTART:20271031T010000
END:STANDARD
END:VTIMEZONE
BEGIN:VEVENT
DTSTART;VALUE=DATE:20260512
DTEND;VALUE=DATE:20260513
DTSTAMP:20260419T161541
CREATED:20260127T124345Z
LAST-MODIFIED:20260127T124345Z
UID:10003400-1778544000-1778630399@rcts.org.uk
SUMMARY:Visit to West & South London Area
DESCRIPTION:
URL:https://rcts.org.uk/event/visit-to-west-south-london-area/
CATEGORIES:MCN Merseyside Cheshire & North Wales,Outdoor Event
END:VEVENT
BEGIN:VEVENT
DTSTART;TZID=Europe/London:20260512T110000
DTEND;TZID=Europe/London:20260512T160000
DTSTAMP:20260419T161541
CREATED:20260116T175049Z
LAST-MODIFIED:20260116T175049Z
UID:10003383-1778583600-1778601600@rcts.org.uk
SUMMARY:Archive And Library Open Day
DESCRIPTION:Archive And Library Open Day
URL:https://rcts.org.uk/event/archive-and-library-open-day-166/
LOCATION:RCTS Library\, Leatherhead Station Approach\, Leatherhead\, KT22 7SQ\, United Kingdom
CATEGORIES:Library Opening
END:VEVENT
BEGIN:VEVENT
DTSTART;TZID=Europe/London:20260512T140000
DTEND;TZID=Europe/London:20260512T163000
DTSTAMP:20260419T161541
CREATED:20251126T161023Z
LAST-MODIFIED:20251126T161023Z
UID:10003308-1778594400-1778603400@rcts.org.uk
SUMMARY:Oliver Bulleid and 35028 "Clan Line"
DESCRIPTION:A Hitchin & Welwyn Garden City Branch presentation by Simon Martin. \nDetails to follow. \nDoors open 13:30 for 14:00 start.
URL:https://rcts.org.uk/event/oliver-bulleid-and-35028-clan-line/
LOCATION:HTC Hitchin\, St Mark's Church\, St Mark's Close\, Lancaster Avenue\, Hitchin\, Hertfordshire\, SG5 1UR\, United Kingdom
CATEGORIES:Branch Meetings,HTC Hitchin and Welwyn Garden City,Indoor Event
END:VEVENT
BEGIN:VEVENT
DTSTART;TZID=Europe/London:20260512T190000
DTEND;TZID=Europe/London:20260512T210000
DTSTAMP:20260419T161541
CREATED:20250912T214522Z
LAST-MODIFIED:20250912T214522Z
UID:10003230-1778612400-1778619600@rcts.org.uk
SUMMARY:Stephen Gay - Picture Postcard Railway Rambles - The Hope Valley Line.
DESCRIPTION:
URL:https://rcts.org.uk/event/stephen-gay-picture-postcard-railway-rambles-the-hope-valley-line/
LOCATION:SFD Sheffield Farm Road Sports & Social Club\, Farm Road\, Sheffield\, S2 2TP\, United Kingdom
CATEGORIES:Branch Meetings,Indoor Event,SFD Sheffield
END:VEVENT
BEGIN:VEVENT
DTSTART;TZID=Europe/London:20260512T193000
DTEND;TZID=Europe/London:20260512T220000
DTSTAMP:20260419T161541
CREATED:20241204T175451Z
LAST-MODIFIED:20251218T123424Z
UID:10002912-1778614200-1778623200@rcts.org.uk
SUMMARY:The Bluebell Railway through my lens
DESCRIPTION:David Cable is an excellent photographer\, regularly in action along the Bluebell Railway\, both on photo charters and normal service days\, and will giving us a presentation of the highlights of his results. \nThis is the presentation previously arranged for December 2024\, and then planned for September 2025\, updated with some newer images – we trust it will be a case of third time lucky.
URL:https://rcts.org.uk/event/may-2026-csl-croydon-branch-meeting/
LOCATION:CSL Croydon\, East Croydon United Reformed Church\, Addiscombe Grove\, Croydon\, CR0 5LP\, United Kingdom
CATEGORIES:Branch Meetings,CSL Croydon & South London
ATTACH;FMTTYPE=image/jpeg:https://rcts.org.uk/wp-content/uploads/croydon-south-london-branch/2024/Q-30541-on-JB-Bluebell-Charter-20151103-DCable.jpg
END:VEVENT
BEGIN:VEVENT
DTSTART;TZID=Europe/London:20260512T193000
DTEND;TZID=Europe/London:20260512T220000
DTSTAMP:20260419T161541
CREATED:20250617T164833Z
LAST-MODIFIED:20260307T180556Z
UID:10003106-1778614200-1778623200@rcts.org.uk
SUMMARY:"Rail Days in Humberside and North Lincolnshire" by Dick Crane
DESCRIPTION:Humberside and North Lincolnshire are often overlooked as major locations of interesting rail activity. We set this straight at our May meeting as Dick Crane closes the 25/26 season with a look at the past and present rail scene in this part of the network.
URL:https://rcts.org.uk/event/rail-days-in-humberside-and-north-lincolnshire-by-dick-crane/
LOCATION:CBR Fulbourn\, Cambridge\, The Swifts\, Haggis Gap\, Fulbourn\, Cambridge\, CB21 5HD\, United Kingdom
CATEGORIES:Branch Meetings,CBR Cambridge
ATTACH;FMTTYPE=image/jpeg:https://rcts.org.uk/wp-content/uploads/cambridge-branch/Speaker-Images/20260512-B1-Departing-Grimsby-for-Cleethorpes-AW.jpg
END:VEVENT
END:VCALENDAR