BEGIN:VCALENDAR
VERSION:2.0
PRODID:-//The Railway Correspondence &amp; Travel Society - ECPv6.15.20//NONSGML v1.0//EN
CALSCALE:GREGORIAN
METHOD:PUBLISH
X-WR-CALNAME:The Railway Correspondence &amp; Travel Society
X-ORIGINAL-URL:https://rcts.org.uk
X-WR-CALDESC:Events for The Railway Correspondence &amp; Travel Society
REFRESH-INTERVAL;VALUE=DURATION:PT1H
X-Robots-Tag:noindex
X-PUBLISHED-TTL:PT1H
BEGIN:VTIMEZONE
TZID:Europe/London
BEGIN:DAYLIGHT
TZOFFSETFROM:+0000
TZOFFSETTO:+0100
TZNAME:BST
DTSTART:20250330T010000
END:DAYLIGHT
BEGIN:STANDARD
TZOFFSETFROM:+0100
TZOFFSETTO:+0000
TZNAME:GMT
DTSTART:20251026T010000
END:STANDARD
BEGIN:DAYLIGHT
TZOFFSETFROM:+0000
TZOFFSETTO:+0100
TZNAME:BST
DTSTART:20260329T010000
END:DAYLIGHT
BEGIN:STANDARD
TZOFFSETFROM:+0100
TZOFFSETTO:+0000
TZNAME:GMT
DTSTART:20261025T010000
END:STANDARD
BEGIN:DAYLIGHT
TZOFFSETFROM:+0000
TZOFFSETTO:+0100
TZNAME:BST
DTSTART:20270328T010000
END:DAYLIGHT
BEGIN:STANDARD
TZOFFSETFROM:+0100
TZOFFSETTO:+0000
TZNAME:GMT
DTSTART:20271031T010000
END:STANDARD
END:VTIMEZONE
BEGIN:VEVENT
DTSTART;TZID=Europe/London:20260521T190000
DTEND;TZID=Europe/London:20260521T213000
DTSTAMP:20260419T144238
CREATED:20250822T105642Z
LAST-MODIFIED:20250830T114439Z
UID:10003158-1779390000-1779399000@rcts.org.uk
SUMMARY:NEA Branch - Flying Scotsman in America and Beyond
DESCRIPTION:Presented by Richard Hinchliffe
URL:https://rcts.org.uk/event/flying-scotsman-in-america-and-beyond-2/
LOCATION:NEA Darlington\, Darlington Cricket Club\, South Terrace\, Darlington\, DL1 5JD\, United Kingdom
CATEGORIES:Branch Meetings,NEA North East
END:VEVENT
BEGIN:VEVENT
DTSTART;TZID=Europe/London:20260521T191500
DTEND;TZID=Europe/London:20260521T213000
DTSTAMP:20260419T144238
CREATED:20250612T145410Z
LAST-MODIFIED:20250823T081401Z
UID:10003097-1779390900-1779399000@rcts.org.uk
SUMMARY:Surrey Branch - East West Rail
DESCRIPTION:East West Rail \nStuart Edwards – Engagement Manager Business\, Industry and Academia.
URL:https://rcts.org.uk/event/surrey-branch-may-2026-meeting/
LOCATION:SRY Woking\, Woking United Reform Church\, White Rose Lane\, Woking\, GU22 7HA\, United Kingdom
CATEGORIES:SRY Surrey
END:VEVENT
BEGIN:VEVENT
DTSTART;TZID=Europe/London:20260521T193000
DTEND;TZID=Europe/London:20260521T220000
DTSTAMP:20260419T144238
CREATED:20251111T210651Z
LAST-MODIFIED:20251111T211318Z
UID:10003285-1779391800-1779400800@rcts.org.uk
SUMMARY:WRD - A Tale of Two Stations
DESCRIPTION:Philip Lockwood explores the replacement station for Morley and the new station for White Rose Centre.
URL:https://rcts.org.uk/event/a-tale-of-two-stations/
LOCATION:WRD Shipley\, Saltaire Methodist Church\, Saltaire Road\, Shipley\, BD18 3HJ\, United Kingdom
CATEGORIES:Branch Meetings,WRD West Riding
END:VEVENT
END:VCALENDAR