BEGIN:VCALENDAR
VERSION:2.0
PRODID:-//The Railway Correspondence &amp; Travel Society - ECPv6.15.20//NONSGML v1.0//EN
CALSCALE:GREGORIAN
METHOD:PUBLISH
X-WR-CALNAME:The Railway Correspondence &amp; Travel Society
X-ORIGINAL-URL:https://rcts.org.uk
X-WR-CALDESC:Events for The Railway Correspondence &amp; Travel Society
REFRESH-INTERVAL;VALUE=DURATION:PT1H
X-Robots-Tag:noindex
X-PUBLISHED-TTL:PT1H
BEGIN:VTIMEZONE
TZID:Europe/London
BEGIN:DAYLIGHT
TZOFFSETFROM:+0000
TZOFFSETTO:+0100
TZNAME:BST
DTSTART:20220327T010000
END:DAYLIGHT
BEGIN:STANDARD
TZOFFSETFROM:+0100
TZOFFSETTO:+0000
TZNAME:GMT
DTSTART:20221030T010000
END:STANDARD
BEGIN:DAYLIGHT
TZOFFSETFROM:+0000
TZOFFSETTO:+0100
TZNAME:BST
DTSTART:20230326T010000
END:DAYLIGHT
BEGIN:STANDARD
TZOFFSETFROM:+0100
TZOFFSETTO:+0000
TZNAME:GMT
DTSTART:20231029T010000
END:STANDARD
BEGIN:DAYLIGHT
TZOFFSETFROM:+0000
TZOFFSETTO:+0100
TZNAME:BST
DTSTART:20240331T010000
END:DAYLIGHT
BEGIN:STANDARD
TZOFFSETFROM:+0100
TZOFFSETTO:+0000
TZNAME:GMT
DTSTART:20241027T010000
END:STANDARD
END:VTIMEZONE
BEGIN:VEVENT
DTSTART;TZID=Europe/London:20230802T103000
DTEND;TZID=Europe/London:20230802T170000
DTSTAMP:20260419T143458
CREATED:20230602T183307Z
LAST-MODIFIED:20230602T183818Z
UID:10002319-1690972200-1690995600@rcts.org.uk
SUMMARY:Visit to the Avon Valley Railway
DESCRIPTION:Midweek lunchtime visit to the Avon Valley Railway at Bitton Station.  Meet up to ride or photograph trains and enjoy lunch in the buffet.  Tables reserved in buffet coach ‘Rose’ from 12 noon.
URL:https://rcts.org.uk/event/visit-to-the-avon-valley-railway/
LOCATION:Bitton Station\, Bitton Station\, BS30 6HD\, United Kingdom
CATEGORIES:Branch Meetings,BTL Bristol,Outdoor Event
ATTACH;FMTTYPE=image/jpeg:https://rcts.org.uk/wp-content/uploads/bristol-branch/KAREL-Bitton-17-Jun-12-scaled.jpg
END:VEVENT
BEGIN:VEVENT
DTSTART;TZID=Europe/London:20230802T110000
DTEND;TZID=Europe/London:20230802T160000
DTSTAMP:20260419T143458
CREATED:20230311T113111Z
LAST-MODIFIED:20230311T113133Z
UID:10002212-1690974000-1690992000@rcts.org.uk
SUMMARY:Archive and Library Open Day
DESCRIPTION:Archive and Library Open Day
URL:https://rcts.org.uk/event/archive-and-library-open-day-53/
LOCATION:RCTS Library\, Leatherhead Station Approach\, Leatherhead\, KT22 7SQ\, United Kingdom
CATEGORIES:Library Opening
END:VEVENT
BEGIN:VEVENT
DTSTART;VALUE=DATE:20230806
DTEND;VALUE=DATE:20230807
DTSTAMP:20260419T143458
CREATED:20230612T163227Z
LAST-MODIFIED:20230718T164737Z
UID:10002326-1691280000-1691366399@rcts.org.uk
SUMMARY:Hitchin & Welwyn Garden City Branch Visit to the Epping Ongar Railway
DESCRIPTION:The Hitchin & Welwyn Garden City branch annual outdoor visit. \nThis is a confirmed booking. Details have now been finalised with the team at the Epping Ongar Railway. The visit\, with Day Rover tickets\, will in addition include a tour of the sheds and two signal boxes. \nYou can book your place by contacting the Branch Secretary\, Dave Elsdon\, by 25 July. Price: £20 per person. \nMembers may invite family & friends. Members from any RCTS branch are most welcome to join this visit but must also contact Dave to book their place(s).
URL:https://rcts.org.uk/event/branch-visit-to-the-epping-ongar-railway/
CATEGORIES:Branch Meetings,HTC Hitchin and Welwyn Garden City,Outdoor Event
END:VEVENT
BEGIN:VEVENT
DTSTART;VALUE=DATE:20230808
DTEND;VALUE=DATE:20230809
DTSTAMP:20260419T143458
CREATED:20230629T162358Z
LAST-MODIFIED:20230629T162445Z
UID:10002328-1691452800-1691539199@rcts.org.uk
SUMMARY:Visit to the Nene Valley Railway
DESCRIPTION:
URL:https://rcts.org.uk/event/visit-to-the-nene-valley-railway/
CATEGORIES:MCN Merseyside Cheshire & North Wales
END:VEVENT
BEGIN:VEVENT
DTSTART;TZID=Europe/London:20230808T110000
DTEND;TZID=Europe/London:20230808T160000
DTSTAMP:20260419T143458
CREATED:20230311T113202Z
LAST-MODIFIED:20230311T113202Z
UID:10002213-1691492400-1691510400@rcts.org.uk
SUMMARY:Archive and Library Open Day
DESCRIPTION:Archive and Library Open Day
URL:https://rcts.org.uk/event/archive-and-library-open-day-54/
LOCATION:RCTS Library\, Leatherhead Station Approach\, Leatherhead\, KT22 7SQ\, United Kingdom
CATEGORIES:Library Opening
END:VEVENT
BEGIN:VEVENT
DTSTART;TZID=Europe/London:20230813T120000
DTEND;TZID=Europe/London:20230813T170000
DTSTAMP:20260419T143458
CREATED:20230522T073310Z
LAST-MODIFIED:20230613T082641Z
UID:10002306-1691928000-1691946000@rcts.org.uk
SUMMARY:Fawley Hill Visit
DESCRIPTION:BOOKING NOW CLOSED \nPlease note: The RCTS Privacy Policy applies to everyone participating in\, or registering for\, this event. \n\nA visit has been booked for Fawley Hill for up to 30 people. Details below\, to book and arrange payment\, up to 13th June until the visit is  full\,  contact \nJohn Godfrey\ntel: 07850 220009\nemail: solent@rcts.org.uk\n9 Duddon Close West End Southampton SO18 3QA \nMeet at the entrance between 11:30 and 12:00
URL:https://rcts.org.uk/event/fawley-hill/
LOCATION:Fawley Hill\, Fawley Hill\, Fawley\, Henley-on-Thames\, Buckinghamshire\, RG9 6JA\, United Kingdom
CATEGORIES:SOE Solent
END:VEVENT
BEGIN:VEVENT
DTSTART;TZID=Europe/London:20230815T170000
DTEND;TZID=Europe/London:20230815T200000
DTSTAMP:20260419T143458
CREATED:20230424T141336Z
LAST-MODIFIED:20230424T142602Z
UID:10002271-1692118800-1692129600@rcts.org.uk
SUMMARY:Observation Evening - Didcot Parkway Station
DESCRIPTION:
URL:https://rcts.org.uk/event/observation-evening-didcot-parkway-station/
CATEGORIES:Outdoor Event,TVY Thames Valley
END:VEVENT
BEGIN:VEVENT
DTSTART;TZID=Europe/London:20230816T120000
DTEND;TZID=Europe/London:20230816T180000
DTSTAMP:20260419T143458
CREATED:20230624T183129Z
LAST-MODIFIED:20230624T184022Z
UID:10002327-1692187200-1692208800@rcts.org.uk
SUMMARY:Observation at Chesterfield
DESCRIPTION:Meet members of the Sheffield Branch for an observation session and a chat.
URL:https://rcts.org.uk/event/observation-at-chesterfield/
LOCATION:Chesterfield Station\, United Kingdom
CATEGORIES:Outdoor Event,SFD Sheffield
END:VEVENT
BEGIN:VEVENT
DTSTART;TZID=Europe/London:20230817T173000
DTEND;TZID=Europe/London:20230817T200000
DTSTAMP:20260419T143458
CREATED:20221127T145843Z
LAST-MODIFIED:20221127T145843Z
UID:10002147-1692293400-1692302400@rcts.org.uk
SUMMARY:Observation at Doncaster - Members
DESCRIPTION:
URL:https://rcts.org.uk/event/observation-at-doncaster-members/
LOCATION:Doncaster Railway Station\, United Kingdom
CATEGORIES:Outdoor Event,WRD West Riding
END:VEVENT
BEGIN:VEVENT
DTSTART;TZID=Europe/London:20230819T110000
DTEND;TZID=Europe/London:20230819T160000
DTSTAMP:20260419T143458
CREATED:20230311T113233Z
LAST-MODIFIED:20230311T113233Z
UID:10002214-1692442800-1692460800@rcts.org.uk
SUMMARY:Archive and Library Open Day
DESCRIPTION:Archive and Library Open Day
URL:https://rcts.org.uk/event/archive-and-library-open-day-55/
LOCATION:RCTS Library\, Leatherhead Station Approach\, Leatherhead\, KT22 7SQ\, United Kingdom
CATEGORIES:Library Opening
END:VEVENT
BEGIN:VEVENT
DTSTART;TZID=Europe/London:20230824T110000
DTEND;TZID=Europe/London:20230824T160000
DTSTAMP:20260419T143458
CREATED:20230311T113254Z
LAST-MODIFIED:20230311T113254Z
UID:10002215-1692874800-1692892800@rcts.org.uk
SUMMARY:Archive and Library Open Day
DESCRIPTION:Archive and Library Open Day
URL:https://rcts.org.uk/event/archive-and-library-open-day-56/
LOCATION:RCTS Library\, Leatherhead Station Approach\, Leatherhead\, KT22 7SQ\, United Kingdom
CATEGORIES:Library Opening
END:VEVENT
BEGIN:VEVENT
DTSTART;TZID=Europe/London:20230830T110000
DTEND;TZID=Europe/London:20230830T160000
DTSTAMP:20260419T143458
CREATED:20230311T113315Z
LAST-MODIFIED:20230311T113315Z
UID:10002216-1693393200-1693411200@rcts.org.uk
SUMMARY:Archive and Library Open Day
DESCRIPTION:Archive and Library Open Day
URL:https://rcts.org.uk/event/archive-and-library-open-day-57/
LOCATION:RCTS Library\, Leatherhead Station Approach\, Leatherhead\, KT22 7SQ\, United Kingdom
CATEGORIES:Library Opening
END:VEVENT
BEGIN:VEVENT
DTSTART;TZID=Europe/London:20230831T193000
DTEND;TZID=Europe/London:20230831T220000
DTSTAMP:20260419T143458
CREATED:20221115T233048Z
LAST-MODIFIED:20230827T171900Z
UID:10002110-1693510200-1693519200@rcts.org.uk
SUMMARY:Steam in Yugoslavia
DESCRIPTION:An event in two parts\, brought to us by two of our German members… \nIn the first half\, Helmut Dahlhaus presents “Steam in You-no-goslavia 1964 – 1977”\, a period when the country developed a reputation of being difficult for railway photography (hence its nickname). But he made several tours to the country\, some by car\, some by train\, before it became impossible\, and shows photos from these. \nIn September 2001\, 2-6-2 01 088 heads through the Timok Gorge\, between Knazevac and Svrljig in Serbia. Image credit: Günter Oczko \nAnd after the interval\, Günter Oczko brings us “Steam in You-could-goslavia\, 1987-2014”\, a period when things become easier\, the once unified Yugoslavia dissolved into seperate countries\, and rail photography tours were permitted.  Something he took advantage of\, to be able to present images from Serbia\, Bosnia\, Slovenia and Croatia. \n\n\nTo avoid disappointment\, don’t leave registration to the last minute. \n\nFor this virtual event there is a suggested donation of £2. If you wish to contribute just follow the National Meetings link below. \nTo receive information on coming National (and other) Zoom meetings\, please join the RCTS National Zoom E-mail List (RCTS-National@groups.io) by visiting https://groups.io/g/RCTS-National \, or by e-mail.
URL:https://rcts.org.uk/event/august-2023-national-zoom-meeting/
LOCATION:Virtual Meeting\, Virtual Meeting\, United Kingdom
CATEGORIES:National Meeting,Virtual Event
ATTACH;FMTTYPE=image/jpeg:https://rcts.org.uk/wp-content/uploads/national-meetings/2023/046-Jugoslawien-JZ-17_007-A-title.jpg
ORGANIZER;CN="National Meetings":MAILTO:zoom-national@rcts.org.uk
END:VEVENT
END:VCALENDAR