BEGIN:VCALENDAR
VERSION:2.0
PRODID:-//The Railway Correspondence &amp; Travel Society - ECPv6.15.20//NONSGML v1.0//EN
CALSCALE:GREGORIAN
METHOD:PUBLISH
X-WR-CALNAME:The Railway Correspondence &amp; Travel Society
X-ORIGINAL-URL:https://rcts.org.uk
X-WR-CALDESC:Events for The Railway Correspondence &amp; Travel Society
REFRESH-INTERVAL;VALUE=DURATION:PT1H
X-Robots-Tag:noindex
X-PUBLISHED-TTL:PT1H
BEGIN:VTIMEZONE
TZID:Europe/London
BEGIN:DAYLIGHT
TZOFFSETFROM:+0000
TZOFFSETTO:+0100
TZNAME:BST
DTSTART:20250330T010000
END:DAYLIGHT
BEGIN:STANDARD
TZOFFSETFROM:+0100
TZOFFSETTO:+0000
TZNAME:GMT
DTSTART:20251026T010000
END:STANDARD
BEGIN:DAYLIGHT
TZOFFSETFROM:+0000
TZOFFSETTO:+0100
TZNAME:BST
DTSTART:20260329T010000
END:DAYLIGHT
BEGIN:STANDARD
TZOFFSETFROM:+0100
TZOFFSETTO:+0000
TZNAME:GMT
DTSTART:20261025T010000
END:STANDARD
BEGIN:DAYLIGHT
TZOFFSETFROM:+0000
TZOFFSETTO:+0100
TZNAME:BST
DTSTART:20270328T010000
END:DAYLIGHT
BEGIN:STANDARD
TZOFFSETFROM:+0100
TZOFFSETTO:+0000
TZNAME:GMT
DTSTART:20271031T010000
END:STANDARD
END:VTIMEZONE
BEGIN:VEVENT
DTSTART;TZID=Europe/London:20260421T190000
DTEND;TZID=Europe/London:20260421T213000
DTSTAMP:20260421T123348
CREATED:20251112T204606Z
LAST-MODIFIED:20260417T112217Z
UID:10003286-1776798000-1776807000@rcts.org.uk
SUMMARY:TVY - My travels from Jasper to Halifax\, Saigon to Hanoi and elsewhere in 2025
DESCRIPTION:
URL:https://rcts.org.uk/event/tvy-travels-from-jasper-to-halifax-bangor-to-westport/
LOCATION:TVY Didcot\, Didcot Civic Hall\, Britwell Road\, Didcot\, OX11 7JN\, United Kingdom
CATEGORIES:Branch Meetings,TVY Thames Valley
END:VEVENT
BEGIN:VEVENT
DTSTART;TZID=Europe/London:20260421T193000
DTEND;TZID=Europe/London:20260421T220000
DTSTAMP:20260421T123348
CREATED:20250830T202956Z
LAST-MODIFIED:20250906T084446Z
UID:10003211-1776799800-1776808800@rcts.org.uk
SUMMARY:From the back of the cupboard
DESCRIPTION:
URL:https://rcts.org.uk/event/from-the-back-of-the-cupboard-2/
LOCATION:HSD Hull\, The Highway\, Willerby Road\, Hull\, HU5 5LH\, United Kingdom
CATEGORIES:Branch Meetings,HSD Humberside,Indoor Event
END:VEVENT
BEGIN:VEVENT
DTSTART;TZID=Europe/London:20260422T191500
DTEND;TZID=Europe/London:20260422T213000
DTSTAMP:20260421T123348
CREATED:20250429T204943Z
LAST-MODIFIED:20260227T110520Z
UID:10003046-1776885300-1776893400@rcts.org.uk
SUMMARY:Lines to Midhurst\, via Petworth\, Petersfield & Chichester
DESCRIPTION:The major part of the evening will be a presentation entitled “Rails to Midhurst” which is an illustrated talk given by former Assistant County Archivist Bill Gage of West Sussex Record Office. The presentation is not a technical one and can be enjoyed by both railway enthusiasts and those interest in social history .\n\nThe opening of a railway is always a significant event but for Midhurst this was unusual as the residents witnessed three such occasions\, namely September 1864\, October 1866 & July 1881. The sleepy town of Midhurst not only had three railway lines but also two railway stations which resulted in a number of interesting tales. The presentation will include the funeral train to Midhurst of a major national figure\, the runaway engine at Petworth\, Royal Trains at Singelton & Midhurst\, Sir Edward Elgar at Fittleworth\, and bombs and washout on the Chichester- Midhurst line. Film footage of the last train over the Pulborough- Petersfield line will also be shown.\n 
URL:https://rcts.org.uk/event/chr-branch-meeting-6/
LOCATION:CHR Bassil Shippam Centre\, Tozer Way\, St Pancras\, Chichester\, West Sussex\, PO19 7LG\, United Kingdom
CATEGORIES:Branch Meetings,CHR Chichester,Indoor Event
ATTACH;FMTTYPE=image/jpeg:https://rcts.org.uk/wp-content/uploads/chichester-branch/last-train-to-Midhurst-300ppi.jpg
END:VEVENT
BEGIN:VEVENT
DTSTART;TZID=Europe/London:20260425T110000
DTEND;TZID=Europe/London:20260425T160000
DTSTAMP:20260421T123348
CREATED:20251229T103221Z
LAST-MODIFIED:20251229T103221Z
UID:10003350-1777114800-1777132800@rcts.org.uk
SUMMARY:Archive And Library Open Day
DESCRIPTION:Archive And Library Open Day
URL:https://rcts.org.uk/event/archive-and-library-open-day-164/
LOCATION:RCTS Library\, Leatherhead Station Approach\, Leatherhead\, KT22 7SQ\, United Kingdom
CATEGORIES:Library Opening
END:VEVENT
BEGIN:VEVENT
DTSTART;TZID=Europe/London:20260427T193000
DTEND;TZID=Europe/London:20260427T220000
DTSTAMP:20260421T123348
CREATED:20250831T214625Z
LAST-MODIFIED:20260315T232118Z
UID:10003217-1777318200-1777327200@rcts.org.uk
SUMMARY:The Monochrome Model Railway
DESCRIPTION:Views on the railway in East London and Essex from the Historic England Aerofilms Collection
URL:https://rcts.org.uk/event/the-monochrome-model-railway-mhd/
LOCATION:MHD Cox Green\, Cox Green Community Centre\, Highfield Lane\, Cox Green\, Maidenhead\, SL6 3AX\, United Kingdom
CATEGORIES:Branch Meetings,Hybrid Event,Indoor Event,MHD Windsor and Maidenhead,Virtual Event
ATTACH;FMTTYPE=image/jpeg:https://rcts.org.uk/wp-content/uploads/windsor-maidenhead-branch/2026-April-image.jpg
ORGANIZER;CN="MHD Windsor & Maidenhead Branch":MAILTO:maidenhead@rcts.org.uk
END:VEVENT
BEGIN:VEVENT
DTSTART;TZID=Europe/London:20260428T140000
DTEND;TZID=Europe/London:20260428T160000
DTSTAMP:20260421T123348
CREATED:20250826T110348Z
LAST-MODIFIED:20260419T160945Z
UID:10003182-1777384800-1777392000@rcts.org.uk
SUMMARY:Tunnel vision : The story of the Metropolitan Railway - Colin Brading
DESCRIPTION:Colin is a railway civil engineer\, retired now after a career of more than 50 years. He was born and raised close to the Metropolitan railway\, and have used it for leisure and commuting purposes in the past\, but it has also had a significant work-related focus for me. So\, it’s close to my heart!  \nThe Metropolitan opened the world’s first underground railway in January 1863. It was less than four miles long\, but London’s ‘tube’ network has grown from this pioneering venture and it has inspired metro systems throughout the world.  \n \nThe talk describes the Metropolitan Railway’s origins and how it quickly developed into a proudly independent ‘main line’ railway company\, before becoming  a part of the new London Transport in 1933. Much has changed since then\, and in bringing the story up to date the talk also looks at some of the excellent heritage operations of recent years – not least the Met 150 events that celebrated one hundred and fifty eventful years.
URL:https://rcts.org.uk/event/tunnel-vision-the-story-of-the-metropolitan-railway-colin-brading/
LOCATION:EMD Nottingham\, The New Mechanics\, 3 North Sherwood Street\, Nottingham\, NG1 4EZ\, United Kingdom
CATEGORIES:Branch Meetings,EMD East Midlands,Indoor Event
END:VEVENT
BEGIN:VEVENT
DTSTART;TZID=Europe/London:20260428T140000
DTEND;TZID=Europe/London:20260428T163000
DTSTAMP:20260421T123348
CREATED:20251126T161435Z
LAST-MODIFIED:20260328T100450Z
UID:10003309-1777384800-1777393800@rcts.org.uk
SUMMARY:AGM and My Travels in 2025\, Rail 200 and More.
DESCRIPTION:The Hitchin & Welwyn Garden City Branch AGM followed by a presentation by John Tigg. \nFrom a very young age\, living in North West London between the West Coast Mainline and Metropolitan / Great Central route\, John has had an interest in railways.  Despite spending his last years before retirement travelling the country for a major plant supplier to the rail industry he was unable to visit many of the heritage railways close to his work. Since retiring in 2019\, living on the Bedfordshire / Buckinghamshire border\, with the West Coast Mainline on his doorstep\, he is centrally located to visit many of the railways on his ‘bucket list’. \nJohn describes his presentation as: .“A mix of standard and narrow gauge from national and heritage locations – local-to-home WCML and East West Rail to Wales and the Midlands. Some rare shots both traction and location. 2025 was a varied year!” \nDoors open 13:30 for 14:00 start.
URL:https://rcts.org.uk/event/agm-and-my-travels-in-2025-rail-200-and-more/
LOCATION:HTC Welwyn\, Digswell Village Church Hall\, Welwyn\, Hertfordshire\, AL6 0DH\, United Kingdom
CATEGORIES:Branch Meetings,HTC Hitchin and Welwyn Garden City,Indoor Event
ATTACH;FMTTYPE=image/jpeg:https://rcts.org.uk/wp-content/uploads/hitchin-and-welwyn-garden-city-branch/Misc/April-2026-John-Tigg-scaled.jpg
END:VEVENT
BEGIN:VEVENT
DTSTART;TZID=Europe/London:20260430T110000
DTEND;TZID=Europe/London:20260430T160000
DTSTAMP:20260421T123348
CREATED:20260116T174958Z
LAST-MODIFIED:20260116T174958Z
UID:10003381-1777546800-1777564800@rcts.org.uk
SUMMARY:Archive And Library Open Day
DESCRIPTION:Archive And Library Open Day
URL:https://rcts.org.uk/event/archive-and-library-open-day-2/
LOCATION:RCTS Library\, Leatherhead Station Approach\, Leatherhead\, KT22 7SQ\, United Kingdom
CATEGORIES:Library Opening
END:VEVENT
END:VCALENDAR