BEGIN:VCALENDAR
VERSION:2.0
PRODID:-//The Railway Correspondence &amp; Travel Society - ECPv6.15.20//NONSGML v1.0//EN
CALSCALE:GREGORIAN
METHOD:PUBLISH
X-WR-CALNAME:The Railway Correspondence &amp; Travel Society
X-ORIGINAL-URL:https://rcts.org.uk
X-WR-CALDESC:Events for The Railway Correspondence &amp; Travel Society
REFRESH-INTERVAL;VALUE=DURATION:PT1H
X-Robots-Tag:noindex
X-PUBLISHED-TTL:PT1H
BEGIN:VTIMEZONE
TZID:Europe/London
BEGIN:DAYLIGHT
TZOFFSETFROM:+0000
TZOFFSETTO:+0100
TZNAME:BST
DTSTART:20210328T010000
END:DAYLIGHT
BEGIN:STANDARD
TZOFFSETFROM:+0100
TZOFFSETTO:+0000
TZNAME:GMT
DTSTART:20211031T010000
END:STANDARD
BEGIN:DAYLIGHT
TZOFFSETFROM:+0000
TZOFFSETTO:+0100
TZNAME:BST
DTSTART:20220327T010000
END:DAYLIGHT
BEGIN:STANDARD
TZOFFSETFROM:+0100
TZOFFSETTO:+0000
TZNAME:GMT
DTSTART:20221030T010000
END:STANDARD
BEGIN:DAYLIGHT
TZOFFSETFROM:+0000
TZOFFSETTO:+0100
TZNAME:BST
DTSTART:20230326T010000
END:DAYLIGHT
BEGIN:STANDARD
TZOFFSETFROM:+0100
TZOFFSETTO:+0000
TZNAME:GMT
DTSTART:20231029T010000
END:STANDARD
END:VTIMEZONE
BEGIN:VEVENT
DTSTART;TZID=Europe/London:20221020T190000
DTEND;TZID=Europe/London:20221020T220000
DTSTAMP:20260424T163118
CREATED:20220909T063845Z
LAST-MODIFIED:20220912T100853Z
UID:10001987-1666292400-1666303200@rcts.org.uk
SUMMARY:Three decades of change on the Footplate
DESCRIPTION:Lee Davies is a driver for Cross Country Trains. Tonight we have his view of three decades of change\, from his time in the cab – from cl.47s to High Speed Trains to Voyagers\, over a variety of routes. Each type has very different characteristics and requires a very different driving style.
URL:https://rcts.org.uk/event/three-decades-of-change-on-the-footplate/
LOCATION:CHM Cheltenham\, Victory Club\, Burlington House\, Lypiatt Road\, Cheltenham\, GL50 2SY\, United Kingdom
CATEGORIES:CHM Cheltenham
ATTACH;FMTTYPE=image/jpeg:https://rcts.org.uk/wp-content/uploads/Whos-the-Kid.jpg
END:VEVENT
BEGIN:VEVENT
DTSTART;TZID=Europe/London:20221020T190000
DTEND;TZID=Europe/London:20221020T213000
DTSTAMP:20260424T163118
CREATED:20220901T103124Z
LAST-MODIFIED:20220901T103124Z
UID:10001968-1666292400-1666301400@rcts.org.uk
SUMMARY:RCTS and 5033 Reunited
DESCRIPTION:Preceded by BRANCH AGM at 18.30 hrs\nMembers only at AGM
URL:https://rcts.org.uk/event/rcts-and-5033-reunited/
LOCATION:NEA Darlington\, Darlington Cricket Club\, South Terrace\, Darlington\, DL1 5JD\, United Kingdom
CATEGORIES:Branch Meetings,Indoor Event,NEA North East
END:VEVENT
BEGIN:VEVENT
DTSTART;TZID=Europe/London:20221019T193000
DTEND;TZID=Europe/London:20221019T220000
DTSTAMP:20260424T163118
CREATED:20220831T190659Z
LAST-MODIFIED:20220831T190659Z
UID:10001965-1666207800-1666216800@rcts.org.uk
SUMMARY:“Transport of the Isle of Man”
DESCRIPTION:A Presentation
URL:https://rcts.org.uk/event/transport-of-the-isle-of-man/
LOCATION:SOE Eastleigh\, Junction Church (formerly Eastleigh Railway Institute)\, 2 Romsey Road\, Eastleigh\, SO50 9FE\, United Kingdom
CATEGORIES:Branch Meetings,Indoor Event,SOE Solent
END:VEVENT
BEGIN:VEVENT
DTSTART;TZID=Europe/London:20221019T110000
DTEND;TZID=Europe/London:20221019T160000
DTSTAMP:20260424T163118
CREATED:20220725T150242Z
LAST-MODIFIED:20220725T150242Z
UID:10001892-1666177200-1666195200@rcts.org.uk
SUMMARY:Archive & Library Open Day
DESCRIPTION:
URL:https://rcts.org.uk/event/archive-library-open-day-6/
LOCATION:RCTS Library\, Leatherhead Station Approach\, Leatherhead\, KT22 7SQ\, United Kingdom
CATEGORIES:Library Opening
END:VEVENT
BEGIN:VEVENT
DTSTART;TZID=Europe/London:20221018T193000
DTEND;TZID=Europe/London:20221018T220000
DTSTAMP:20260424T163118
CREATED:20220823T081534Z
LAST-MODIFIED:20220823T081534Z
UID:10001946-1666121400-1666130400@rcts.org.uk
SUMMARY:Lands End to John O’Groats by public transport and On and off the beaten track
DESCRIPTION:A two parter from Dan Longbottom.
URL:https://rcts.org.uk/event/lands-end-to-john-ogroats-by-public-transport-and-on-and-off-the-beaten-track/
LOCATION:HSD Hull\, The Highway\, Willerby Road\, Hull\, HU5 5LH\, United Kingdom
CATEGORIES:Branch Meetings,HSD Humberside,Indoor Event
END:VEVENT
BEGIN:VEVENT
DTSTART;TZID=Europe/London:20221017T193000
DTEND;TZID=Europe/London:20221017T223000
DTSTAMP:20260424T163118
CREATED:20220523T082606Z
LAST-MODIFIED:20221014T083106Z
UID:10001847-1666035000-1666045800@rcts.org.uk
SUMMARY:Roaming Around London with a Camera
DESCRIPTION:Those of us who live in London are very lucky for the sheer variety of rolling stock and liveries that can be seen and photographed. This is a quick-fire show of images taken in Greater London over the last two to three years that showcase that variety\, with an emphasis on the new and unusual. Although Geoff did a show under this title at Shenfield a while ago\, this is a fully updated presentation and Geoff has not shown any of these images at the branch previously. \nGeoff is now retired after working for London Underground. He is a familar figure at the branch and is to be found collecting money on the door of evert meeting. In addition to this important branch role he is also the RO Editor for fixtures and adverts and also writes the TfL notes for the Urban Railways section.
URL:https://rcts.org.uk/event/roaming-around-london-with-a-camera-2/
LOCATION:ESX Shenfield\, Shenfield Parish Hall\, 60 Hutton Road\, Shenfield\, CM15 8LB\, United Kingdom
CATEGORIES:Branch Meetings,ESX South Essex,Indoor Event
ATTACH;FMTTYPE=image/jpeg:https://rcts.org.uk/wp-content/uploads/south-essex-branch/img290-1-scaled.jpg
END:VEVENT
BEGIN:VEVENT
DTSTART;TZID=Europe/London:20221017T193000
DTEND;TZID=Europe/London:20221017T214500
DTSTAMP:20260424T163118
CREATED:20220731T122115Z
LAST-MODIFIED:20220731T123528Z
UID:10001912-1666035000-1666043100@rcts.org.uk
SUMMARY:An Illustrated History of the British Transport Police
DESCRIPTION:Zoom meeting
URL:https://rcts.org.uk/event/an-illustrated-history-of-the-british-transport-police/
LOCATION:Virtual Meeting\, Virtual Meeting\, United Kingdom
CATEGORIES:MCN Merseyside Cheshire & North Wales,Virtual Event
END:VEVENT
BEGIN:VEVENT
DTSTART;TZID=Europe/London:20221017T190000
DTEND;TZID=Europe/London:20221017T213000
DTSTAMP:20260424T163118
CREATED:20220904T162845Z
LAST-MODIFIED:20220906T090238Z
UID:10001978-1666033200-1666042200@rcts.org.uk
SUMMARY:Czech Railways
DESCRIPTION:A tour around the Czech Republic by rail by Robert Pritchard with some general interest photos and maybe the odd tram thrown in! From Prague to Ostrava\, Brno to Liberec we tour around the whole country\, area by area\, drawing on Robert’s extensive travels from 2011 through to this year.
URL:https://rcts.org.uk/event/czech-railways/
LOCATION:TVY Didcot\, Didcot Civic Hall\, Britwell Road\, Didcot\, OX11 7JN\, United Kingdom
CATEGORIES:Branch Meetings,Indoor Event,TVY Thames Valley
ATTACH;FMTTYPE=image/jpeg:https://rcts.org.uk/wp-content/uploads/221017-Czech-Railways-from-Robert-Pritchard-065A6770a-scaled.jpg
END:VEVENT
BEGIN:VEVENT
DTSTART;TZID=Europe/London:20221017T140000
DTEND;TZID=Europe/London:20221017T160000
DTSTAMP:20260424T163118
CREATED:20220927T112816Z
LAST-MODIFIED:20220927T112816Z
UID:10002071-1666015200-1666022400@rcts.org.uk
SUMMARY:Moving Coal by Rail
DESCRIPTION:This presentation takes us from the beginning of moving coal by rail on early waggon ways and progresses through to the present day.
URL:https://rcts.org.uk/event/moving-coal-by-rail/
LOCATION:WMD Coventry\, Cheylesmore Community Centre\, Arundel/Poitiers Road\, Coventry\, CV3 5JX\, United Kingdom
CATEGORIES:Indoor Event,WMD West Midlands
ATTACH;FMTTYPE=image/jpeg:https://rcts.org.uk/wp-content/uploads/gd660543-COPY-scaled.jpg
END:VEVENT
BEGIN:VEVENT
DTSTART;TZID=Europe/London:20221013T193000
DTEND;TZID=Europe/London:20221013T213000
DTSTAMP:20260424T163118
CREATED:20220716T154003Z
LAST-MODIFIED:20220922T103252Z
UID:10001877-1665689400-1665696600@rcts.org.uk
SUMMARY:Railways and steamers of the Clyde - David Shirres
DESCRIPTION:Zoom meeting – please note the change of date \nWhen: Oct 13\, 2022 19:00 London \nRegister in advance for this meeting: \nhttps://us06web.zoom.us/meeting/register/tZMkcuqqrTosHdcODyUl-GNXkGhnephgqYOs \n  \nAfter registering\, you will receive a confirmation email containing information about joining the meeting.” \n 
URL:https://rcts.org.uk/event/railways-and-steamers-of-the-clyde-david-shirres/
CATEGORIES:EMD East Midlands,Virtual Event
END:VEVENT
BEGIN:VEVENT
DTSTART;TZID=Europe/London:20221013T190000
DTEND;TZID=Europe/London:20221013T220000
DTSTAMP:20260424T163118
CREATED:20221005T204356Z
LAST-MODIFIED:20221005T204356Z
UID:10002072-1665687600-1665698400@rcts.org.uk
SUMMARY:Members' Evening
DESCRIPTION:
URL:https://rcts.org.uk/event/members-evening/
LOCATION:PBR Peterborough\, St Luke’s Church\, Mayor's Walk\, Peterborough\, PE3 6EZ\, United Kingdom
CATEGORIES:Branch Meetings,PBR Peterborough
ORGANIZER;CN="PBR Peterborough branch":MAILTO:peterborough@rcts.org.uk
END:VEVENT
BEGIN:VEVENT
DTSTART;TZID=Europe/London:20221013T110000
DTEND;TZID=Europe/London:20221013T160000
DTSTAMP:20260424T163118
CREATED:20220725T150206Z
LAST-MODIFIED:20220725T150206Z
UID:10001891-1665658800-1665676800@rcts.org.uk
SUMMARY:Archive & Library Open Day
DESCRIPTION:
URL:https://rcts.org.uk/event/archive-library-open-day-5/
LOCATION:RCTS Library\, Leatherhead Station Approach\, Leatherhead\, KT22 7SQ\, United Kingdom
CATEGORIES:Library Opening
END:VEVENT
BEGIN:VEVENT
DTSTART;TZID=Europe/London:20221012T193000
DTEND;TZID=Europe/London:20221012T213000
DTSTAMP:20260424T163118
CREATED:20220825T180131Z
LAST-MODIFIED:20220827T172245Z
UID:10001954-1665603000-1665610200@rcts.org.uk
SUMMARY:10 years of rail travel in UK and Europe - Alan Yearsley
DESCRIPTION:A debut for Alan at the Branch as he takes us on a tour of nine countries over the last 10 years: both trains and light rail feature. \nN.B. this is a change of programme to that advertised in the September RO. \nRecommended Donations:-  RCTS Members £3\, Guests £4
URL:https://rcts.org.uk/event/10-years-of-rail-travel-in-uk-and-europe-alan-yearsley/
LOCATION:SFD Sheffield\, 60-68 Trippet Lane\, Sheffield\, S1 4EL\, United Kingdom
CATEGORIES:Indoor Event,SFD Sheffield
END:VEVENT
BEGIN:VEVENT
DTSTART;TZID=Europe/London:20221012T190000
DTEND;TZID=Europe/London:20221012T220000
DTSTAMP:20260424T163118
CREATED:20220719T164248Z
LAST-MODIFIED:20220809T154514Z
UID:10001882-1665601200-1665612000@rcts.org.uk
SUMMARY:Freight Reorganisation in the Cardiff Valleys during the late 1960s
DESCRIPTION:Freight Reorganisation in the Cardiff Valleys\, during the late 1960s \nBy Brian Rolley \n 
URL:https://rcts.org.uk/event/freight-reorganisation-in-the-cardiff-valleys-during-the-late-1960s/
LOCATION:SWL Radyr\, Cardiff\, Old Church Rooms / Hen Ysgoldy'r Eglwys\, Park Road\, Radyr\, Cardiff\, CF15 8DF\, United Kingdom
CATEGORIES:SWL South Wales / De Cymru
END:VEVENT
BEGIN:VEVENT
DTSTART;TZID=Europe/London:20221011T193000
DTEND;TZID=Europe/London:20221011T220000
DTSTAMP:20260424T163118
CREATED:20220503T212602Z
LAST-MODIFIED:20220905T112506Z
UID:10001833-1665516600-1665525600@rcts.org.uk
SUMMARY:The Masked Gricer
DESCRIPTION:Simon’s Presentation provides a pictorial diary of what he got up to during the COVID pandemic. From scanning his own and other peoples slides to photographing Modern Traction and Preserved steam. This varied show has something for everyone\, 1960’s steam\, 1980’s diesels\, overseas steam and recent images of the railway today including heritage lines.
URL:https://rcts.org.uk/event/october-2022-croydon-sl-meeting/
LOCATION:CSL Croydon\, East Croydon United Reformed Church\, Addiscombe Grove\, Croydon\, CR0 5LP\, United Kingdom
CATEGORIES:Branch Meetings,CSL Croydon & South London,Indoor Event
ATTACH;FMTTYPE=image/jpeg:https://rcts.org.uk/wp-content/uploads/croydon-south-london-branch/2022/a0themaskedgricershow2022.jpg
END:VEVENT
BEGIN:VEVENT
DTSTART;TZID=Europe/London:20221011T193000
DTEND;TZID=Europe/London:20221011T220000
DTSTAMP:20260424T163118
CREATED:20220427T203958Z
LAST-MODIFIED:20220702T072543Z
UID:10001817-1665516600-1665525600@rcts.org.uk
SUMMARY:The Settle & Carlisle in the 80s & 90s
DESCRIPTION:On October 11th we welcome Stewart Jolly from the Bristol Branch who will take us on a journey over the spectacular Settle and Carlisle line. Stewart’s talk will cover both the geography of the line and the changing nature of its traffic from the latter days of BR ownership\, when closure was a very real prospect\, into the Sectorisation and Privatisation eras. This is certain to be a great evening with some superb photography.
URL:https://rcts.org.uk/event/thesettleandcarlisleinthe80sand90s/
LOCATION:CBR Fulbourn\, Cambridge\, The Swifts\, Haggis Gap\, Fulbourn\, Cambridge\, CB21 5HD\, United Kingdom
CATEGORIES:Branch Meetings,CBR Cambridge,Indoor Event
ATTACH;FMTTYPE=image/jpeg:https://rcts.org.uk/wp-content/uploads/cambridge-branch/Speaker-Images/19880827-Smardale-47517-1200x800-Stewart-Jolly.jpg
END:VEVENT
BEGIN:VEVENT
DTSTART;TZID=Europe/London:20221011T110000
DTEND;TZID=Europe/London:20221011T153000
DTSTAMP:20260424T163118
CREATED:20220306T211537Z
LAST-MODIFIED:20220306T211537Z
UID:10001781-1665486000-1665502200@rcts.org.uk
SUMMARY:Visit to Doncaster
DESCRIPTION:
URL:https://rcts.org.uk/event/visit-to-doncaster-2/
LOCATION:Doncaster Railway Station\, United Kingdom
CATEGORIES:MCN Merseyside Cheshire & North Wales,Outdoor Event
END:VEVENT
BEGIN:VEVENT
DTSTART;TZID=Europe/London:20221010T191500
DTEND;TZID=Europe/London:20221010T214500
DTSTAMP:20260424T163118
CREATED:20220520T135946Z
LAST-MODIFIED:20220729T135743Z
UID:10001842-1665429300-1665438300@rcts.org.uk
SUMMARY:The Other Side of The Wall-The Borders Railway by Dave Pearce
DESCRIPTION:A presentation of the Borders Railway in Scotland from Edinburgh to the current terminus at Tweedbank.
URL:https://rcts.org.uk/event/the-other-side-of-the-wall-the-borders-railway/
LOCATION:IPS Ipswich\, Greenfinch Church Hall\, Greenfinch Avenue\, Ipswich\, IP2 0SQ\, United Kingdom
CATEGORIES:Branch Meetings,Indoor Event,IPS Ipswich
END:VEVENT
BEGIN:VEVENT
DTSTART;TZID=Europe/London:20221008T190000
DTEND;TZID=Europe/London:20221008T213000
DTSTAMP:20260424T163118
CREATED:20220922T212716Z
LAST-MODIFIED:20220922T212716Z
UID:10002067-1665255600-1665264600@rcts.org.uk
SUMMARY:David Mitchell - The Southern in East Devon through the Years
DESCRIPTION:We start our 2022-23 programme with a presentation from the Branch Chair\, David Mitchell. The talk will cover the Southern lines in East Devon through the years with an eclectic mix of steam\, modern(ish) traction and the modern era. As with any talk from Dave there will be something for everyone! We hope to see you on the 8th October for a excellent evening of entertainmentEPSON scanner image
URL:https://rcts.org.uk/event/david-mitchell-the-southern-in-east-devon-through-the-years/
LOCATION:WEN Exeter [Mint Methodist Church]\, Fore Street\, Exeter\, EX4 3AT\, United Kingdom
END:VEVENT
BEGIN:VEVENT
DTSTART;TZID=Europe/London:20221008T110000
DTEND;TZID=Europe/London:20221008T160000
DTSTAMP:20260424T163118
CREATED:20220725T150125Z
LAST-MODIFIED:20220929T093507Z
UID:10001890-1665226800-1665244800@rcts.org.uk
SUMMARY:CANCELLED - Archive & Library Open Day
DESCRIPTION:This Archive & Library open day is CANCELLED. As the RMT are on strike and Southern has a very limited service\, it is unlikely that visitors will be able to come to Leatherhead by train.
URL:https://rcts.org.uk/event/archive-library-open-day-4/
LOCATION:RCTS Library\, Leatherhead Station Approach\, Leatherhead\, KT22 7SQ\, United Kingdom
CATEGORIES:Library Opening
END:VEVENT
BEGIN:VEVENT
DTSTART;TZID=Europe/London:20221007T193000
DTEND;TZID=Europe/London:20221007T220000
DTSTAMP:20260424T163118
CREATED:20220801T174616Z
LAST-MODIFIED:20220801T174616Z
UID:10001916-1665171000-1665180000@rcts.org.uk
SUMMARY:Steam in West Wales
DESCRIPTION:On 7th October we are pleased to welcome back Gerry Nichols to present ‘Steam in West Wales’.  West Wales in this context is west of Swansea and south of the Cumbrian main line to Aberystwyth.  It will cover both the “main lines” and the Cardigan branch and the Aberystwyth to Carmarthen line.
URL:https://rcts.org.uk/event/steam-in-west-wales/
LOCATION:BTL North Filton\, St Teresa’s Church Hall\, 71 Gloucester Road\, North Filton\, BS34 7PL\, United Kingdom
CATEGORIES:Branch Meetings,BTL Bristol,Indoor Event
ATTACH;FMTTYPE=image/jpeg:https://rcts.org.uk/wp-content/uploads/bristol-branch/MBW-SWales034Web-7825-Narberth-Up-PCE-230561.jpg
END:VEVENT
BEGIN:VEVENT
DTSTART;TZID=Europe/London:20221005T193000
DTEND;TZID=Europe/London:20221005T213000
DTSTAMP:20260424T163118
CREATED:20220524T091937Z
LAST-MODIFIED:20220524T091937Z
UID:10001850-1664998200-1665005400@rcts.org.uk
SUMMARY:the Clan Project
DESCRIPTION:
URL:https://rcts.org.uk/event/the-clan-project/
LOCATION:FLL Carnforth\, Royal Station Hotel\, Market Street\, Carnforth\, LA5 9BT\, United Kingdom
CATEGORIES:FLL Furness Lakes and Lune
END:VEVENT
BEGIN:VEVENT
DTSTART;TZID=Europe/London:20221004T193000
DTEND;TZID=Europe/London:20221004T220000
DTSTAMP:20260424T163118
CREATED:20220805T164216Z
LAST-MODIFIED:20220912T133951Z
UID:10001933-1664911800-1664920800@rcts.org.uk
SUMMARY:Geoff Brockett returns with a new show: 'Roaming Around London with a Camera'
DESCRIPTION:GEOFF BROCKETT returns  with a new show ‘Roaming around London with a Camera’ \nThose of us who live in London are very lucky for the sheer variety of rolling stock and liveries that can be seen. This is a quick-fire show of images taken in Greater London over the last two to three years that showcase that variety\, with an emphasis on the new and unusual. \nDoors open from around 19:00 for a 19:30 start.
URL:https://rcts.org.uk/event/geoff-brockett-returns-with-a-new-show-roaming-around-london-with-a-camera/
LOCATION:WFD Watford\, Beechen Grove Baptist Church\, Clarendon Road\, Watford\, WD17 1JJ\, United Kingdom
CATEGORIES:Branch Meetings,Indoor Event,WFD Watford
ATTACH;FMTTYPE=image/jpeg:https://rcts.org.uk/wp-content/uploads/watford-branch/GB_img289_Edited.jpg
END:VEVENT
BEGIN:VEVENT
DTSTART;TZID=Europe/London:20221001T100000
DTEND;TZID=Europe/London:20221001T120000
DTSTAMP:20260424T163118
CREATED:20220427T102921Z
LAST-MODIFIED:20220427T103121Z
UID:10001815-1664618400-1664625600@rcts.org.uk
SUMMARY:Eastleigh Arlington Works Visit
DESCRIPTION:A visit has been booked for Arlington Works for between 15 and 25 people. Details below\, to book and arrange payment\, up to  2 weeks before or until the visit is  full\,  contact \nJohn Godfrey\ntel: 07850 220009\nemail: solent@rcts.org.uk\n9 Duddon Close West End Southampton SO18 3QA \n  \n\n\n\nThe cost is £10 per person. All money goes to the Arlington nominated charity which changes each year. There is a minimum charge of £150 per group. \nTours start at our new entrance gate on Campbell Road promptly at 10:00 with a Safety Briefing from our Lead Guide. Visitors should arrive at least 15 minutes before. Minimum age is 12 and anyone under 18 must be accompanied by an adult who agrees to take full responsibility for the young person. Our yard has 750V electrified 3rd rail which will be on during the tour. Traffic on site can be busy with many vans and HGVs present. Tours typically last between one and two hours. \nAll visitors should wear stout footwear and a hi viz jacket. The site will be working during the tour and all instructions from our guides must be followed without question. Anyone without a hi viz jacket will be restricted to just the roadways and walking routes. We are unable to supply hi viz jackets. \nWe aim to show visitors as much of the site as possible but we cannot guarantee access to any particular area or item of rolling stock during the tour. Some of our tenants do not allow visitors to enter their areas so the guide will show the best viewing points to see as much as possible in those areas. \nPhotography is allowed for the most part and the Safety Briefing at the start will identify any rolling stock or areas where photography is not allowed. All photographs and video taken during the event must be for your own use ONLY and cannot be published in any media\, printed or online. \nThere is no car parking available on site\, except for Disabled badge holders. There are plenty of car parks in Eastleigh town centre. Just follow the signs. The nearest ones to the Works are opposite the station and just further down the main road at the Swan Centre. There is also a small pay and display car park just south of the Campbell Road junction\, between the main road and the railway line.
URL:https://rcts.org.uk/event/eastleigh-arlington-works-visit/
LOCATION:Arlington Works\, Campbell Road\, Eastleigh\, SO50 5AD\, United Kingdom
CATEGORIES:Outdoor Event,SOE Solent
END:VEVENT
BEGIN:VEVENT
DTSTART;TZID=Europe/London:20220929T193000
DTEND;TZID=Europe/London:20220929T220000
DTSTAMP:20260424T163118
CREATED:20220503T205656Z
LAST-MODIFIED:20220905T151003Z
UID:10001828-1664479800-1664488800@rcts.org.uk
SUMMARY:A Tour de France by Narrow Gauge
DESCRIPTION:Michael Bunn tells the story of the rise and fall of the secondary 60cm and metre gauge networks once a feature of French railways\, and of the tourist and SNCF public service narrow gauge lines still in service.
URL:https://rcts.org.uk/event/september-2022-national-zoom-meeting/
LOCATION:Virtual Meeting\, Virtual Meeting\, United Kingdom
CATEGORIES:National Meeting,Virtual Event
ATTACH;FMTTYPE=image/jpeg:https://rcts.org.uk/wp-content/uploads/national-meetings/2022/JHF2854S30_cr.jpg
ORGANIZER;CN="National Meetings":MAILTO:zoom-national@rcts.org.uk
END:VEVENT
BEGIN:VEVENT
DTSTART;TZID=Europe/London:20220928T191500
DTEND;TZID=Europe/London:20220928T213000
DTSTAMP:20260424T163118
CREATED:20220523T104726Z
LAST-MODIFIED:20220523T104726Z
UID:10001849-1664392500-1664400600@rcts.org.uk
SUMMARY:The Selsey Tramway
DESCRIPTION:Selsey at the southern tip of the Manhood peninsula has only ever had one rather difficult road to gain access to and from Chichester. In the late 1800’s the idea of a rail link was seen as a futuristic transport improvement. The committee set up to carry out the project appointed the young H.F.Stevens as engineer.  Stevens who was noted for being thrifty realized that for legal reasons if the line was designated as a tramway construction and operating costs could be kept to a minimum. Given the title “The Hundred of Manhood and Selsey Tramway” in many respects the line resembled a railway and the first train of locomotive and three bogie coaches left Chichester in 1897.\n \nFor the next 38 years it suffered several setbacks but played an important part in the development of Selsey and became a much appreciated institution although its many idiosyncrasies resulted in it being the butt of much humour.\n \nEventually the development of the motor bus gave a cheaper\, more frequent and reliable service resulting in the Tramway’s\, or West Sussex Railway as it had become known\, closure in 1935.\n \nVery little is left to be seen today. It closed before the advent of colour photography so the limited surviving pictures are black and white but fortunately much has been written to record the line’s quaint history.
URL:https://rcts.org.uk/event/the-selsey-tramway/
LOCATION:CHR Bassil Shippam Centre\, Tozer Way\, St Pancras\, Chichester\, West Sussex\, PO19 7LG\, United Kingdom
CATEGORIES:CHR Chichester
ATTACH;FMTTYPE=image/jpeg:https://rcts.org.uk/wp-content/uploads/chichester-branch/CB-1-Bridge-1-with-loco-29.__--scaled.jpg
END:VEVENT
BEGIN:VEVENT
DTSTART;TZID=Europe/London:20220927T193000
DTEND;TZID=Europe/London:20220927T213000
DTSTAMP:20260424T163118
CREATED:20220716T153937Z
LAST-MODIFIED:20220716T153937Z
UID:10001876-1664307000-1664314200@rcts.org.uk
SUMMARY:Ivatt Atlantic Passenger Locomotives of the GNR - Bob Bramson
DESCRIPTION:
URL:https://rcts.org.uk/event/ivatt-atlantic-passenger-locomotives-of-the-gnr-bob-bramson/
LOCATION:EMD Nottingham\, The New Mechanics\, 3 North Sherwood Street\, Nottingham\, NG1 4EZ\, United Kingdom
CATEGORIES:EMD East Midlands
END:VEVENT
BEGIN:VEVENT
DTSTART;TZID=Europe/London:20220927T110000
DTEND;TZID=Europe/London:20220927T160000
DTSTAMP:20260424T163118
CREATED:20220725T150047Z
LAST-MODIFIED:20220725T150047Z
UID:10001889-1664276400-1664294400@rcts.org.uk
SUMMARY:Archive & Library Open Day
DESCRIPTION:
URL:https://rcts.org.uk/event/archive-library-open-day-3/
LOCATION:RCTS Library\, Leatherhead Station Approach\, Leatherhead\, KT22 7SQ\, United Kingdom
CATEGORIES:Library Opening
END:VEVENT
BEGIN:VEVENT
DTSTART;TZID=Europe/London:20220926T193000
DTEND;TZID=Europe/London:20220926T220000
DTSTAMP:20260424T163118
CREATED:20220906T204531Z
LAST-MODIFIED:20220913T080231Z
UID:10001983-1664220600-1664229600@rcts.org.uk
SUMMARY:Australia 2020
DESCRIPTION:Stuart made a visit to Australia shortly before everything changed.  Join us for a flavour from Down Under
URL:https://rcts.org.uk/event/australia-2020/
LOCATION:MHD Cox Green\, Cox Green Community Centre\, Highfield Lane\, Cox Green\, Maidenhead\, SL6 3AX\, United Kingdom
CATEGORIES:Branch Meetings,Indoor Event,MHD Windsor and Maidenhead,Virtual Event
ATTACH;FMTTYPE=image/jpeg:https://rcts.org.uk/wp-content/uploads/windsor-maidenhead-branch/01-September-image-scaled.jpg
ORGANIZER;CN="MHD Windsor & Maidenhead Branch":MAILTO:maidenhead@rcts.org.uk
END:VEVENT
BEGIN:VEVENT
DTSTART;TZID=Europe/London:20220926T140000
DTEND;TZID=Europe/London:20220926T160000
DTSTAMP:20260424T163119
CREATED:20220811T130406Z
LAST-MODIFIED:20220913T115711Z
UID:10001935-1664200800-1664208000@rcts.org.uk
SUMMARY:Change of date: Is it 'A Clear Road Ahead for the Railways'
DESCRIPTION:Our local transport expert\, Fraser Pithie\, turns his attention to the national scene and asks the question “Is it “A Clear Road Ahead” for the Railways. \nChange of date: The meeting has been deferred by a week from its original date of 19th September owing to the Funeral of The late Queen Elizabeth taking place on that day.
URL:https://rcts.org.uk/event/is-it-a-clear-road-ahead-for-the-railways/
LOCATION:WMD Coventry\, Cheylesmore Community Centre\, Arundel/Poitiers Road\, Coventry\, CV3 5JX\, United Kingdom
CATEGORIES:WMD West Midlands
END:VEVENT
END:VCALENDAR