BEGIN:VCALENDAR
VERSION:2.0
PRODID:-//The Railway Correspondence &amp; Travel Society - ECPv6.15.20//NONSGML v1.0//EN
CALSCALE:GREGORIAN
METHOD:PUBLISH
X-ORIGINAL-URL:https://rcts.org.uk
X-WR-CALDESC:Events for The Railway Correspondence &amp; Travel Society
REFRESH-INTERVAL;VALUE=DURATION:PT1H
X-Robots-Tag:noindex
X-PUBLISHED-TTL:PT1H
BEGIN:VTIMEZONE
TZID:Europe/London
BEGIN:DAYLIGHT
TZOFFSETFROM:+0000
TZOFFSETTO:+0100
TZNAME:BST
DTSTART:20220327T010000
END:DAYLIGHT
BEGIN:STANDARD
TZOFFSETFROM:+0100
TZOFFSETTO:+0000
TZNAME:GMT
DTSTART:20221030T010000
END:STANDARD
BEGIN:DAYLIGHT
TZOFFSETFROM:+0000
TZOFFSETTO:+0100
TZNAME:BST
DTSTART:20230326T010000
END:DAYLIGHT
BEGIN:STANDARD
TZOFFSETFROM:+0100
TZOFFSETTO:+0000
TZNAME:GMT
DTSTART:20231029T010000
END:STANDARD
BEGIN:DAYLIGHT
TZOFFSETFROM:+0000
TZOFFSETTO:+0100
TZNAME:BST
DTSTART:20240331T010000
END:DAYLIGHT
BEGIN:STANDARD
TZOFFSETFROM:+0100
TZOFFSETTO:+0000
TZNAME:GMT
DTSTART:20241027T010000
END:STANDARD
END:VTIMEZONE
BEGIN:VEVENT
DTSTART;TZID=Europe/London:20230717T193000
DTEND;TZID=Europe/London:20230717T223000
DTSTAMP:20260420T095320
CREATED:20230330T114538Z
LAST-MODIFIED:20230525T091250Z
UID:10002233-1689622200-1689633000@rcts.org.uk
SUMMARY:The Year 2000 - UK and Overseas
DESCRIPTION:Adrian’s talk comprises of a chronological tour of pictures worldwide and in the UK in the first half of 2000. It visits: Cambodia\, Myanmar\, Denmark\, Cuba and  Canada. Interspersed are numerous UK scenes\, many of which are not repeatable due to replacement by more modern stock. The preserved scene is also covered.  Adrian has over 50 years experience of being a railfan. Occasional his work took him overseas. His first\, self-lead\, trip abroad for steam was to West Germany in 1975. He organises overseas tours for the LCGB and he has a second tour coming up to Japan later this year.
URL:https://rcts.org.uk/event/july2023/
LOCATION:ESX Shenfield\, Shenfield Parish Hall\, 60 Hutton Road\, Shenfield\, CM15 8LB\, United Kingdom
CATEGORIES:Branch Meetings,ESX South Essex
ATTACH;FMTTYPE=image/jpeg:https://rcts.org.uk/wp-content/uploads/south-essex-branch/20705-1-scaled.jpg
END:VEVENT
BEGIN:VEVENT
DTSTART;TZID=Europe/London:20230718T140000
DTEND;TZID=Europe/London:20230718T200000
DTSTAMP:20260420T095320
CREATED:20230424T140939Z
LAST-MODIFIED:20230424T142529Z
UID:10002270-1689688800-1689710400@rcts.org.uk
SUMMARY:Observation Afternoon Evening - Banbury Station
DESCRIPTION:
URL:https://rcts.org.uk/event/observation-afternoon-evening-banbury-station/
CATEGORIES:Outdoor Event,TVY Thames Valley
END:VEVENT
BEGIN:VEVENT
DTSTART;TZID=Europe/London:20230719T163000
DTEND;TZID=Europe/London:20230719T193000
DTSTAMP:20260420T095320
CREATED:20230202T161958Z
LAST-MODIFIED:20230205T140418Z
UID:10002189-1689784200-1689795000@rcts.org.uk
SUMMARY:Observation Evening - Reading station
DESCRIPTION:Come along and view the rail activity.
URL:https://rcts.org.uk/event/observation-evening-reading-station-2/
CATEGORIES:Branch Meetings,Outdoor Event,SOE Solent
ATTACH;FMTTYPE=image/png:https://rcts.org.uk/wp-content/uploads/2021/07/logo.png
END:VEVENT
BEGIN:VEVENT
DTSTART;TZID=Europe/London:20230719T183000
DTEND;TZID=Europe/London:20230719T203000
DTSTAMP:20260420T095320
CREATED:20221127T145706Z
LAST-MODIFIED:20230502T095511Z
UID:10002146-1689791400-1689798600@rcts.org.uk
SUMMARY:Outside Visit - Bradford Model Engineers - Please note change of date to Wednesday 19th July
DESCRIPTION:Bradford Model Engineers \nNorthcliff Woods Park \nShipley \nBD18 3DD
URL:https://rcts.org.uk/event/outside-visit-tbc/
CATEGORIES:Outdoor Event,WRD West Riding
END:VEVENT
BEGIN:VEVENT
DTSTART;TZID=Europe/London:20230722T100000
DTEND;TZID=Europe/London:20230722T170000
DTSTAMP:20260420T095320
CREATED:20230405T223614Z
LAST-MODIFIED:20230406T114948Z
UID:10002245-1690020000-1690045200@rcts.org.uk
SUMMARY:RCTS West of England Branch Sales Stand
DESCRIPTION:Come and meet the branch! \nOn 22/7 and 23/7 the branch will have a sales stand at the Exe Model Railway Exhibition at the Matford Livestock centre. \nCome and meet the committee and purchase from the well stock sales stand which will be selling books magazines\, photographic prints and other items\, all in aid of branch funds \nhttps://www.exemrs.co.uk/exhibition/
URL:https://rcts.org.uk/event/rcts-west-of-england-branch-sales-stand/2023-07-22/
CATEGORIES:WEN Branch Sales Stand
END:VEVENT
BEGIN:VEVENT
DTSTART;TZID=Europe/London:20230722T110000
DTEND;TZID=Europe/London:20230722T160000
DTSTAMP:20260420T095320
CREATED:20230311T112839Z
LAST-MODIFIED:20230714T104110Z
UID:10002210-1690023600-1690041600@rcts.org.uk
SUMMARY:Archive and Library Open Day - CANCELLED
DESCRIPTION:Archive and Library Open Day \nCancelled due to railstrikes making it difficult for volunteers and visitors to get to Leatherhead.
URL:https://rcts.org.uk/event/archive-and-library-open-day-51/
LOCATION:RCTS Library\, Leatherhead Station Approach\, Leatherhead\, KT22 7SQ\, United Kingdom
CATEGORIES:Library Opening
END:VEVENT
BEGIN:VEVENT
DTSTART;TZID=Europe/London:20230723T100000
DTEND;TZID=Europe/London:20230723T160000
DTSTAMP:20260420T095320
CREATED:20230405T223614Z
LAST-MODIFIED:20230406T114948Z
UID:10002246-1690106400-1690128000@rcts.org.uk
SUMMARY:RCTS West of England Branch Sales Stand
DESCRIPTION:Come and meet the branch! \nOn 22/7 and 23/7 the branch will have a sales stand at the Exe Model Railway Exhibition at the Matford Livestock centre. \nCome and meet the committee and purchase from the well stock sales stand which will be selling books magazines\, photographic prints and other items\, all in aid of branch funds \nhttps://www.exemrs.co.uk/exhibition/
URL:https://rcts.org.uk/event/rcts-west-of-england-branch-sales-stand/2023-07-23/
CATEGORIES:WEN Branch Sales Stand
END:VEVENT
END:VCALENDAR