BEGIN:VCALENDAR
VERSION:2.0
PRODID:-//The Railway Correspondence &amp; Travel Society - ECPv6.15.20//NONSGML v1.0//EN
CALSCALE:GREGORIAN
METHOD:PUBLISH
X-ORIGINAL-URL:https://rcts.org.uk
X-WR-CALDESC:Events for The Railway Correspondence &amp; Travel Society
REFRESH-INTERVAL;VALUE=DURATION:PT1H
X-Robots-Tag:noindex
X-PUBLISHED-TTL:PT1H
BEGIN:VTIMEZONE
TZID:Europe/London
BEGIN:DAYLIGHT
TZOFFSETFROM:+0000
TZOFFSETTO:+0100
TZNAME:BST
DTSTART:20230326T010000
END:DAYLIGHT
BEGIN:STANDARD
TZOFFSETFROM:+0100
TZOFFSETTO:+0000
TZNAME:GMT
DTSTART:20231029T010000
END:STANDARD
BEGIN:DAYLIGHT
TZOFFSETFROM:+0000
TZOFFSETTO:+0100
TZNAME:BST
DTSTART:20240331T010000
END:DAYLIGHT
BEGIN:STANDARD
TZOFFSETFROM:+0100
TZOFFSETTO:+0000
TZNAME:GMT
DTSTART:20241027T010000
END:STANDARD
BEGIN:DAYLIGHT
TZOFFSETFROM:+0000
TZOFFSETTO:+0100
TZNAME:BST
DTSTART:20250330T010000
END:DAYLIGHT
BEGIN:STANDARD
TZOFFSETFROM:+0100
TZOFFSETTO:+0000
TZNAME:GMT
DTSTART:20251026T010000
END:STANDARD
END:VTIMEZONE
BEGIN:VEVENT
DTSTART;TZID=Europe/London:20240130T140000
DTEND;TZID=Europe/London:20240130T163000
DTSTAMP:20260420T012925
CREATED:20231129T124724Z
LAST-MODIFIED:20231224T122213Z
UID:10002497-1706623200-1706632200@rcts.org.uk
SUMMARY:Steam in the Kings Cross Area - in the 50's and 60's
DESCRIPTION:A Hitchin & Welwyn Garden City Branch presentation. \nPresenter: David Percival. \nIt was in 1953 that the Percival family moved from South London to North Hertfordshire. For the next ten years\, until the end of regular steam in the area\, David spotted at the ECML lineside\, travelled by train to school and latterly commuted to Kings Cross.  \nThis presentation chronicles the variety of steam classes and workings he observed “on the GN” during that decade\, illustrated with photographs from ColourRail and others as well as some of his own pictures taken in the closing years. \nThis photo shows 64206 shunting the morning Hitchin-Hertford ‘pick up’ at Langley Junction on 17 January 1959 (photo by Basil Coles). This image is in the presentation. \nDoors open 13:30.
URL:https://rcts.org.uk/event/steam-in-the-kings-cross-area-in-the-50s-and-60s/
LOCATION:HTC Welwyn\, Digswell Village Church Hall\, Welwyn\, Hertfordshire\, AL6 0DH\, United Kingdom
CATEGORIES:Branch Meetings,HTC Hitchin and Welwyn Garden City,Indoor Event
ATTACH;FMTTYPE=image/jpeg:https://rcts.org.uk/wp-content/uploads/hitchin-and-welwyn-garden-city-branch/Misc/Jan-2024-David-Percival.jpg
END:VEVENT
BEGIN:VEVENT
DTSTART;TZID=Europe/London:20240201T193000
DTEND;TZID=Europe/London:20240201T210000
DTSTAMP:20260420T012925
CREATED:20231210T103225Z
LAST-MODIFIED:20231211T204607Z
UID:10002505-1706815800-1706821200@rcts.org.uk
SUMMARY:East West Rail Update & The Newport Nobby
DESCRIPTION:Join us for another evening of members’ presentations on Zoom. Clive Pepper will present an update on the developments with East West Rail and Steve Dexter will take a look back at the Newport Pagnell branch line.
URL:https://rcts.org.uk/event/east-west-rail-update-the-newport-nobby/
LOCATION:Virtual Meeting\, Virtual Meeting\, United Kingdom
CATEGORIES:Branch Meetings,MKY Milton Keynes,Virtual Event
ORGANIZER;CN="MKY Milton Keynes branch":MAILTO:miltonkeynes@rcts.org.uk
END:VEVENT
BEGIN:VEVENT
DTSTART;TZID=Europe/London:20240202T193000
DTEND;TZID=Europe/London:20240202T213000
DTSTAMP:20260420T012925
CREATED:20231029T161156Z
LAST-MODIFIED:20231031T132358Z
UID:10002461-1706902200-1706909400@rcts.org.uk
SUMMARY:an accidental but joyous career on the railways
DESCRIPTION:eddie pollock will guide us through his working life on the railways
URL:https://rcts.org.uk/event/an-accidental-but-joyous-career-on-the-railways/
CATEGORIES:FLL Furness Lakes and Lune
END:VEVENT
BEGIN:VEVENT
DTSTART;TZID=Europe/London:20240202T193000
DTEND;TZID=Europe/London:20240202T220000
DTSTAMP:20260420T012925
CREATED:20240109T174416Z
LAST-MODIFIED:20240109T181534Z
UID:10002557-1706902200-1706911200@rcts.org.uk
SUMMARY:2 February 2024 'Steam & Semaphores to Penzance'\, presented by Nick Dudman.
DESCRIPTION:Maurice Dudman’s excellent slides presented by his son Nick.  In Part 1 we reached Weston-Super-Mare and so tonight we will continue on to Penzance.
URL:https://rcts.org.uk/event/2-february-2024-steam-semaphores-to-penzance-presented-by-nick-dudman/
LOCATION:BTL North Filton\, St Teresa’s Church Hall\, 71 Gloucester Road\, North Filton\, BS34 7PL\, United Kingdom
CATEGORIES:Branch Meetings,BTL Bristol,Indoor Event
END:VEVENT
BEGIN:VEVENT
DTSTART;TZID=Europe/London:20240203T110000
DTEND;TZID=Europe/London:20240203T160000
DTSTAMP:20260420T012925
CREATED:20231214T145226Z
LAST-MODIFIED:20231214T145226Z
UID:10002513-1706958000-1706976000@rcts.org.uk
SUMMARY:Archive and Library Open Day
DESCRIPTION:Archive and Library Open Day
URL:https://rcts.org.uk/event/archive-and-library-open-day-78/
LOCATION:RCTS Library\, Leatherhead Station Approach\, Leatherhead\, KT22 7SQ\, United Kingdom
CATEGORIES:Library Opening
END:VEVENT
BEGIN:VEVENT
DTSTART;TZID=Europe/London:20240203T190000
DTEND;TZID=Europe/London:20240203T213000
DTSTAMP:20260420T012925
CREATED:20230405T211936Z
LAST-MODIFIED:20231015T131559Z
UID:10002244-1706986800-1706995800@rcts.org.uk
SUMMARY:RCTS West of England Branch Meeting "The Barnstaple & Okehampton Branches through the years"  David Mitchell
DESCRIPTION:RCTS West of England Branch meeting will feature another talk by Branch Chair David Mitchell with a talk entitled “The Barnstaple & Okehampton Branches through the years” – a mix with mainly B&W oldies  more modern\, mainly colour stuff from Dave camera. \n*******PLEASE NOTE CHANGE OF DATE******** Owing to Parking issues at the Mint the meeting has been brought forward to 03/02/24 \n 
URL:https://rcts.org.uk/event/rcts-west-of-england-branch-meeting-tbc-3/
LOCATION:WEN Exeter [Mint Methodist Church]\, Fore Street\, Exeter\, EX4 3AT\, United Kingdom
END:VEVENT
END:VCALENDAR