BEGIN:VCALENDAR
VERSION:2.0
PRODID:-//The Railway Correspondence &amp; Travel Society - ECPv6.15.20//NONSGML v1.0//EN
CALSCALE:GREGORIAN
METHOD:PUBLISH
X-ORIGINAL-URL:https://rcts.org.uk
X-WR-CALDESC:Events for The Railway Correspondence &amp; Travel Society
REFRESH-INTERVAL;VALUE=DURATION:PT1H
X-Robots-Tag:noindex
X-PUBLISHED-TTL:PT1H
BEGIN:VTIMEZONE
TZID:Europe/London
BEGIN:DAYLIGHT
TZOFFSETFROM:+0000
TZOFFSETTO:+0100
TZNAME:BST
DTSTART:20230326T010000
END:DAYLIGHT
BEGIN:STANDARD
TZOFFSETFROM:+0100
TZOFFSETTO:+0000
TZNAME:GMT
DTSTART:20231029T010000
END:STANDARD
BEGIN:DAYLIGHT
TZOFFSETFROM:+0000
TZOFFSETTO:+0100
TZNAME:BST
DTSTART:20240331T010000
END:DAYLIGHT
BEGIN:STANDARD
TZOFFSETFROM:+0100
TZOFFSETTO:+0000
TZNAME:GMT
DTSTART:20241027T010000
END:STANDARD
BEGIN:DAYLIGHT
TZOFFSETFROM:+0000
TZOFFSETTO:+0100
TZNAME:BST
DTSTART:20250330T010000
END:DAYLIGHT
BEGIN:STANDARD
TZOFFSETFROM:+0100
TZOFFSETTO:+0000
TZNAME:GMT
DTSTART:20251026T010000
END:STANDARD
END:VTIMEZONE
BEGIN:VEVENT
DTSTART;TZID=Europe/London:20241105T190000
DTEND;TZID=Europe/London:20241105T213000
DTSTAMP:20260424T172237
CREATED:20240823T142825Z
LAST-MODIFIED:20241026T113559Z
UID:10002792-1730833200-1730842200@rcts.org.uk
SUMMARY:WFD Branch - 'Funeral Trains and Final Journeys'\, by Nicolas Wheatley\, 5th November 2024
DESCRIPTION:Further details of this meeting will be added nearer the date. \nPlease note this is a physical meeting to be held at our usual venue at Beechen Grove Baptist Church\, doors open from 18:30. The meeting takes place in the first floor Conference Room\, there is level access into the building and a lift is available (and stairs) to the first floor.
URL:https://rcts.org.uk/event/wfd-branch-funeral-trains-and-final-journeys-by-nicholas-wheatley-5th-november-2024/
LOCATION:WFD Watford\, Beechen Grove Baptist Church\, Clarendon Road\, Watford\, WD17 1JJ\, United Kingdom
CATEGORIES:Branch Meetings,Indoor Event,WFD Watford
ATTACH;FMTTYPE=image/jpeg:https://rcts.org.uk/wp-content/uploads/watford-branch/NW_111-THP-book-cover-final-journey-comp-0994330-1-04feb20.jpg
END:VEVENT
BEGIN:VEVENT
DTSTART;TZID=Europe/London:20241106T193000
DTEND;TZID=Europe/London:20241106T213000
DTSTAMP:20260424T172237
CREATED:20240725T145510Z
LAST-MODIFIED:20240807T131557Z
UID:10002735-1730921400-1730928600@rcts.org.uk
SUMMARY:Flying Scotsman in America and beyond
DESCRIPTION:this will be an excellent session given by richard hinchcliffe the son of the tour manager of this famous trip
URL:https://rcts.org.uk/event/flying-scotsman-in-america-and-beyond/
CATEGORIES:Branch Meetings,FLL Furness Lakes and Lune,Indoor Event
ATTACH;FMTTYPE=image/jpeg:https://rcts.org.uk/wp-content/uploads/Shropshire_Scotsman.jpg
END:VEVENT
BEGIN:VEVENT
DTSTART;TZID=Europe/London:20241107T193000
DTEND;TZID=Europe/London:20241107T220000
DTSTAMP:20260424T172237
CREATED:20240528T132018Z
LAST-MODIFIED:20240528T132224Z
UID:10002647-1731007800-1731016800@rcts.org.uk
SUMMARY:Christian Wolmar ‘The Liberation Line\, the last untold story of the Normandy Landings’
DESCRIPTION:Christian Wolmar\, transport writer\, broadcaster and author of numerous books\, returns to present on his new book\, the story of the railwaymen who rebuilt the lines after D Day\, allowing the invasion of Northwestern Europe to be successfully completed.
URL:https://rcts.org.uk/event/christian-wolmar-the-liberation-line-the-last-untold-story-of-the-normandy-landings/
LOCATION:MKY Milton Keynes\, Network Rail - The Quadrant: MK\, Elder Gate\, Milton Keynes\, Buckinghamshire\, MK9 1EN\, United Kingdom
CATEGORIES:Branch Meetings,Indoor Event,MKY Milton Keynes
ATTACH;FMTTYPE=image/jpeg:https://rcts.org.uk/wp-content/uploads/Wolmar.jpg
ORGANIZER;CN="MKY Milton Keynes branch":MAILTO:miltonkeynes@rcts.org.uk
END:VEVENT
BEGIN:VEVENT
DTSTART;TZID=Europe/London:20241108T193000
DTEND;TZID=Europe/London:20241108T220000
DTSTAMP:20260424T172237
CREATED:20240717T153905Z
LAST-MODIFIED:20240717T153905Z
UID:10002726-1731094200-1731103200@rcts.org.uk
SUMMARY:'That Was The Year That Was 1965' Presented by Geoff Plumb.
DESCRIPTION:A welcome return by Geoff Plumb to share with us his record of the events of 1965. \nNOTE – SECOND FRIDAY OF THE MONTH.
URL:https://rcts.org.uk/event/that-was-the-year-that-was-1965-presented-by-geoff-plumb/
LOCATION:BTL North Filton\, St Teresa’s Church Hall\, 71 Gloucester Road\, North Filton\, BS34 7PL\, United Kingdom
CATEGORIES:Branch Meetings,BTL Bristol,Indoor Event
ATTACH;FMTTYPE=image/jpeg:https://rcts.org.uk/wp-content/uploads/bristol-branch/900-Images-for-Meetings/GMP_04FrontTitle.jpg
END:VEVENT
BEGIN:VEVENT
DTSTART;TZID=Europe/London:20241109T100000
DTEND;TZID=Europe/London:20241109T170000
DTSTAMP:20260424T172237
CREATED:20240531T113450Z
LAST-MODIFIED:20240531T113817Z
UID:10002688-1731146400-1731171600@rcts.org.uk
SUMMARY:Tolworth Showtrain
DESCRIPTION:Surrey Branch will be attending the Hampton Court Model Railway Society exhibition\, Tolworth Showtrain.  We will have Society publications and second hand books for sale.
URL:https://rcts.org.uk/event/tolworth-showtrain-3/
LOCATION:Tolworth Recreation Centre Fullers Way North\, Tolworth\, KT6 7LQ.\, Tolworth Recreation Centre\, Fullers Way North\, Tolworth\, Surrey\, KT6 7LQ.\, United Kingdom
CATEGORIES:SRY Surrey
END:VEVENT
BEGIN:VEVENT
DTSTART;TZID=Europe/London:20241109T110000
DTEND;TZID=Europe/London:20241109T160000
DTSTAMP:20260424T172237
CREATED:20240531T105130Z
LAST-MODIFIED:20240531T105130Z
UID:10002668-1731150000-1731168000@rcts.org.uk
SUMMARY:Archive & Library Open Day
DESCRIPTION:Archive & Library Open Day
URL:https://rcts.org.uk/event/archive-library-open-day-33/
LOCATION:RCTS Library\, Leatherhead Station Approach\, Leatherhead\, KT22 7SQ\, United Kingdom
CATEGORIES:Library Opening
END:VEVENT
BEGIN:VEVENT
DTSTART;TZID=Europe/London:20241110T100000
DTEND;TZID=Europe/London:20241110T160000
DTSTAMP:20260424T172237
CREATED:20240531T113621Z
LAST-MODIFIED:20240531T113802Z
UID:10002689-1731232800-1731254400@rcts.org.uk
SUMMARY:Tolworth Showtrain
DESCRIPTION:Surrey Branch will be attending the Hampton Court Model Railway Society exhibition\, Tolworth Showtrain.  We will have Society publications and second hand books for sale.
URL:https://rcts.org.uk/event/tolworth-showtrain-4/
LOCATION:Tolworth Recreation Centre Fullers Way North\, Tolworth\, KT6 7LQ.\, Tolworth Recreation Centre\, Fullers Way North\, Tolworth\, Surrey\, KT6 7LQ.\, United Kingdom
CATEGORIES:SRY Surrey
END:VEVENT
END:VCALENDAR