BEGIN:VCALENDAR
VERSION:2.0
PRODID:-//The Railway Correspondence &amp; Travel Society - ECPv6.15.20//NONSGML v1.0//EN
CALSCALE:GREGORIAN
METHOD:PUBLISH
X-WR-CALNAME:The Railway Correspondence &amp; Travel Society
X-ORIGINAL-URL:https://rcts.org.uk
X-WR-CALDESC:Events for The Railway Correspondence &amp; Travel Society
REFRESH-INTERVAL;VALUE=DURATION:PT1H
X-Robots-Tag:noindex
X-PUBLISHED-TTL:PT1H
BEGIN:VTIMEZONE
TZID:Europe/London
BEGIN:DAYLIGHT
TZOFFSETFROM:+0000
TZOFFSETTO:+0100
TZNAME:BST
DTSTART:20240331T010000
END:DAYLIGHT
BEGIN:STANDARD
TZOFFSETFROM:+0100
TZOFFSETTO:+0000
TZNAME:GMT
DTSTART:20241027T010000
END:STANDARD
BEGIN:DAYLIGHT
TZOFFSETFROM:+0000
TZOFFSETTO:+0100
TZNAME:BST
DTSTART:20250330T010000
END:DAYLIGHT
BEGIN:STANDARD
TZOFFSETFROM:+0100
TZOFFSETTO:+0000
TZNAME:GMT
DTSTART:20251026T010000
END:STANDARD
BEGIN:DAYLIGHT
TZOFFSETFROM:+0000
TZOFFSETTO:+0100
TZNAME:BST
DTSTART:20260329T010000
END:DAYLIGHT
BEGIN:STANDARD
TZOFFSETFROM:+0100
TZOFFSETTO:+0000
TZNAME:GMT
DTSTART:20261025T010000
END:STANDARD
END:VTIMEZONE
BEGIN:VEVENT
DTSTART;TZID=Europe/London:20250113T141500
DTEND;TZID=Europe/London:20250113T163000
DTSTAMP:20260424T162303
CREATED:20240522T144847Z
LAST-MODIFIED:20240522T144847Z
UID:10002639-1736777700-1736785800@rcts.org.uk
SUMMARY:My work in Control and my control of D6732 on the NNR by Alistair Barham.
DESCRIPTION:
URL:https://rcts.org.uk/event/my-work-in-control-and-my-control-of-d6732-on-the-nnr-by-alistair-barham/
LOCATION:Greenfinch Hall\,Greenfinch Avenue Ipswich IP2 0SQ
CATEGORIES:IPS Ipswich
END:VEVENT
BEGIN:VEVENT
DTSTART;TZID=Europe/London:20250114T140000
DTEND;TZID=Europe/London:20250114T163000
DTSTAMP:20260424T162303
CREATED:20241117T132716Z
LAST-MODIFIED:20241208T114410Z
UID:10002890-1736863200-1736872200@rcts.org.uk
SUMMARY:Euston to Carlisle late fifties early sixties photos  - preceded by Branch AGM - David Cross
DESCRIPTION:David will entertain us with a selection of his famous father’s slides (Derek Cross)
URL:https://rcts.org.uk/event/an-afternoon-with-my-fathers-slides-preceded-by-branch-agm-david-cross/
LOCATION:EMD Nottingham\, The New Mechanics\, 3 North Sherwood Street\, Nottingham\, NG1 4EZ\, United Kingdom
CATEGORIES:EMD East Midlands
ATTACH;FMTTYPE=image/jpeg:https://rcts.org.uk/wp-content/uploads/east-midlands-branch/Turbomotive-Euston.jpg
END:VEVENT
BEGIN:VEVENT
DTSTART;TZID=Europe/London:20250114T140000
DTEND;TZID=Europe/London:20250114T163000
DTSTAMP:20260424T162303
CREATED:20241130T115746Z
LAST-MODIFIED:20241214T222624Z
UID:10002906-1736863200-1736872200@rcts.org.uk
SUMMARY:North from Kings Cross - Photos from the RCTS Archive
DESCRIPTION:A Presentation by David Jackman for the Hitchin & Welwyn Garden City Branch. \nDavid Jackman will present a photographic review of the southern ECML as seen through the lens of the society’s photographic archive.  This will feature both steam and diesel eras – not completely forgetting the electric era – with the odd deviation along the way. \nIn the photo Class B1 No. 61272 on the up ‘Butlins Holiday Express’ at Hitchin 2/7/60 (Courtney Haydon) \nPlease note that this will be at the new venue in Hitchin and will start at 14:00. \nDoors open 13:30 for a 14:00 start.
URL:https://rcts.org.uk/event/north-from-kings-cross-photos-from-the-rcts-archive/
LOCATION:St Marks Church Hall\, Hitchin SG5 1UR\, St Mark's Close\, Lancaster Avenue\, Hitchin\, Hertfordshire\, SG5 1UR
CATEGORIES:HTC Hitchin and Welwyn Garden City,Indoor Event
ATTACH;FMTTYPE=image/jpeg:https://rcts.org.uk/wp-content/uploads/hitchin-and-welwyn-garden-city-branch/Misc/Jan-2025-David-Jackman-2-scaled.jpg
END:VEVENT
BEGIN:VEVENT
DTSTART;TZID=Europe/London:20250114T193000
DTEND;TZID=Europe/London:20250114T220000
DTSTAMP:20260424T162303
CREATED:20240706T073612Z
LAST-MODIFIED:20240724T211700Z
UID:10002706-1736883000-1736892000@rcts.org.uk
SUMMARY:"Appalachian Mountain Wanderings" by Tony Field
DESCRIPTION:Passage through these mountains still provides a stern test even for modern traction. This video presentation shows a variety of such workings\, all set in spectacular scenery.
URL:https://rcts.org.uk/event/appalachian-mountain-wanderings-by-tony-field/
LOCATION:CBR Fulbourn\, Cambridge\, The Swifts\, Haggis Gap\, Fulbourn\, Cambridge\, CB21 5HD\, United Kingdom
CATEGORIES:Branch Meetings,CBR Cambridge
ATTACH;FMTTYPE=image/jpeg:https://rcts.org.uk/wp-content/uploads/cambridge-branch/Speaker-Images/Appalachian-Montage-Tony-Field-E1W.jpg
END:VEVENT
BEGIN:VEVENT
DTSTART;TZID=Europe/London:20250114T193000
DTEND;TZID=Europe/London:20250114T220000
DTSTAMP:20260424T162303
CREATED:20241204T174514Z
LAST-MODIFIED:20241204T210437Z
UID:10002908-1736883000-1736892000@rcts.org.uk
SUMMARY:Railways 1933-36\, from the Sutton Coldfield Railway Society's Moseley collection
DESCRIPTION:A further presentation of photographs from the Sutton Coldfield Railway Society’s Moseley Archive of over 2000 photographs taken by the late Percy Moseley between 1911 and the 1970s. Following previous presentations of images from the 1940s and early 1950s\, for this evening’s presentation we return to the pre-war era of the early 1930s\, when many of the steam locos that were part of the spotting experience for many of us were only just appearing (or still in the future). It will be given by Robin Mathams\, joint archivist for the SCRS.
URL:https://rcts.org.uk/event/january-2025-csl-croydon-meeting/
LOCATION:Virtual Meeting\, Virtual Meeting\, United Kingdom
CATEGORIES:Branch Meetings,CSL Croydon & South London,National Meeting,Virtual Event
ATTACH;FMTTYPE=image/jpeg:https://rcts.org.uk/wp-content/uploads/croydon-south-london-branch/2025/Moseley-1933-4-10-M572w1920-with-lettering.jpg
END:VEVENT
BEGIN:VEVENT
DTSTART;TZID=Europe/London:20250115T110000
DTEND;TZID=Europe/London:20250115T160000
DTSTAMP:20260424T162303
CREATED:20241210T100746Z
LAST-MODIFIED:20241210T102645Z
UID:10002930-1736938800-1736956800@rcts.org.uk
SUMMARY:Archive And Library Open Day
DESCRIPTION:Archive And Library Open Day
URL:https://rcts.org.uk/event/archive-library-open-day-42/
LOCATION:RCTS Library\, Leatherhead Station Approach\, Leatherhead\, KT22 7SQ\, United Kingdom
CATEGORIES:Library Opening
END:VEVENT
BEGIN:VEVENT
DTSTART;TZID=Europe/London:20250115T183000
DTEND;TZID=Europe/London:20250115T193000
DTSTAMP:20260424T162303
CREATED:20240710T111714Z
LAST-MODIFIED:20240710T111714Z
UID:10002717-1736965800-1736969400@rcts.org.uk
SUMMARY:Branch AGM
DESCRIPTION:
URL:https://rcts.org.uk/event/branch-agm-6/
LOCATION:SOE Eastleigh\, Junction Church (formerly Eastleigh Railway Institute)\, 2 Romsey Road\, Eastleigh\, SO50 9FE\, United Kingdom
CATEGORIES:SOE Solent
END:VEVENT
BEGIN:VEVENT
DTSTART;TZID=Europe/London:20250115T193000
DTEND;TZID=Europe/London:20250115T220000
DTSTAMP:20260424T162303
CREATED:20240710T111853Z
LAST-MODIFIED:20250102T104956Z
UID:10002718-1736969400-1736978400@rcts.org.uk
SUMMARY:Chemin de fer du Provence
DESCRIPTION:
URL:https://rcts.org.uk/event/british-freight/
LOCATION:SOE Eastleigh\, Junction Church (formerly Eastleigh Railway Institute)\, 2 Romsey Road\, Eastleigh\, SO50 9FE\, United Kingdom
CATEGORIES:SOE Solent
END:VEVENT
BEGIN:VEVENT
DTSTART;TZID=Europe/London:20250116T140000
DTEND;TZID=Europe/London:20250116T163000
DTSTAMP:20260424T162303
CREATED:20240330T214814Z
LAST-MODIFIED:20241208T113706Z
UID:10002613-1737036000-1737045000@rcts.org.uk
SUMMARY:The Dick Sansbury Collection
DESCRIPTION:Dick was a Geography teacher and taught at Eastleigh and also at Aberystwyth University which is why this show mainly covers Hampshire and the Cambrian lines of the Western Region in the 1950s. There are also odd pictures taken around the western region and some on the London Midland Region\, but virtually little on the eastern region. Whilst mainly steam\, some modern traction is there as well\, but of course not modern now. EE type 4. Warships and Hampshire and Hastings DEMUs appear as well. The original pioneer preserved narrow gauge railways of Wales also feature. The best pictures of local interest are men at work in Eastleigh works in the 1950s. Dick was a good friend of Eastleigh Shed master and well-known author and photographer Stephen Townroe so got into places not always available to the public like footplate rides and accident scenes. Most of the pictures were taken between 1950 and 1965.
URL:https://rcts.org.uk/event/the-dick-sansbury-collection/
CATEGORIES:CHR Chichester
ATTACH;FMTTYPE=image/jpeg:https://rcts.org.uk/wp-content/uploads/chichester-branch/101030061230-scaled.jpg
END:VEVENT
BEGIN:VEVENT
DTSTART;TZID=Europe/London:20250116T190000
DTEND;TZID=Europe/London:20250116T213000
DTSTAMP:20260424T162303
CREATED:20241209T071913Z
LAST-MODIFIED:20241209T073659Z
UID:10002924-1737054000-1737063000@rcts.org.uk
SUMMARY:North East Branch - The Photography of Eric Wilson
DESCRIPTION:David Dunn brings us some images from the photographic collection of Eric Wilson
URL:https://rcts.org.uk/event/north-east-branch-the-photography-of-eric-wilson/
LOCATION:NEA Darlington\, Darlington Cricket Club\, South Terrace\, Darlington\, DL1 5JD\, United Kingdom
CATEGORIES:NEA North East
END:VEVENT
BEGIN:VEVENT
DTSTART;TZID=Europe/London:20250116T190000
DTEND;TZID=Europe/London:20250116T220000
DTSTAMP:20260424T162303
CREATED:20240905T163633Z
LAST-MODIFIED:20240911T095528Z
UID:10002857-1737054000-1737064800@rcts.org.uk
SUMMARY:CHM Branch - All about the letter 'A'
DESCRIPTION:Mike Dodd returns with some of the steam age railway images held by The Restoration & Archiving Trust at Toddington\, taken by a wide selection of a photographers. The show includes images from the railways of Argentina\, Austria & Australia\, followed by stations and locations across Britain all beginning with the letter “A”.
URL:https://rcts.org.uk/event/all-about-the-letter-a/
LOCATION:CHM Cheltenham\, Victory Club\, Burlington House\, Lypiatt Road\, Cheltenham\, GL50 2SY\, United Kingdom
CATEGORIES:CHM Cheltenham
ATTACH;FMTTYPE=image/jpeg:https://rcts.org.uk/wp-content/uploads/RAT-show-160125.jpg
END:VEVENT
BEGIN:VEVENT
DTSTART;TZID=Europe/London:20250116T191500
DTEND;TZID=Europe/London:20250116T213000
DTSTAMP:20260424T162303
CREATED:20240531T112214Z
LAST-MODIFIED:20241006T145943Z
UID:10002681-1737054900-1737063000@rcts.org.uk
SUMMARY:Surrey Branch - Electrification Of Freight Routes
DESCRIPTION:Electrification Of Freight Routes \nby Julian Worth
URL:https://rcts.org.uk/event/surrey-branch-january-2025-meeting/
LOCATION:SRY Woking\, Woking United Reform Church\, White Rose Lane\, Woking\, GU22 7HA\, United Kingdom
CATEGORIES:SRY Surrey
END:VEVENT
BEGIN:VEVENT
DTSTART;TZID=Europe/London:20250116T193000
DTEND;TZID=Europe/London:20250116T213000
DTSTAMP:20260424T162303
CREATED:20240928T093938Z
LAST-MODIFIED:20240928T093938Z
UID:10002872-1737055800-1737063000@rcts.org.uk
SUMMARY:"Manchester in the 1960's" by Roger Hepworth
DESCRIPTION:
URL:https://rcts.org.uk/event/manchester-in-the-1960s-by-roger-hepworth/
LOCATION:WRD Shipley\, Saltaire Methodist Church\, Saltaire Road\, Shipley\, BD18 3HJ\, United Kingdom
CATEGORIES:Indoor Event,WRD West Riding
END:VEVENT
END:VCALENDAR