BEGIN:VCALENDAR
VERSION:2.0
PRODID:-//The Railway Correspondence &amp; Travel Society - ECPv6.15.20//NONSGML v1.0//EN
CALSCALE:GREGORIAN
METHOD:PUBLISH
X-WR-CALNAME:The Railway Correspondence &amp; Travel Society
X-ORIGINAL-URL:https://rcts.org.uk
X-WR-CALDESC:Events for The Railway Correspondence &amp; Travel Society
REFRESH-INTERVAL;VALUE=DURATION:PT1H
X-Robots-Tag:noindex
X-PUBLISHED-TTL:PT1H
BEGIN:VTIMEZONE
TZID:Europe/London
BEGIN:DAYLIGHT
TZOFFSETFROM:+0000
TZOFFSETTO:+0100
TZNAME:BST
DTSTART:20240331T010000
END:DAYLIGHT
BEGIN:STANDARD
TZOFFSETFROM:+0100
TZOFFSETTO:+0000
TZNAME:GMT
DTSTART:20241027T010000
END:STANDARD
BEGIN:DAYLIGHT
TZOFFSETFROM:+0000
TZOFFSETTO:+0100
TZNAME:BST
DTSTART:20250330T010000
END:DAYLIGHT
BEGIN:STANDARD
TZOFFSETFROM:+0100
TZOFFSETTO:+0000
TZNAME:GMT
DTSTART:20251026T010000
END:STANDARD
BEGIN:DAYLIGHT
TZOFFSETFROM:+0000
TZOFFSETTO:+0100
TZNAME:BST
DTSTART:20260329T010000
END:DAYLIGHT
BEGIN:STANDARD
TZOFFSETFROM:+0100
TZOFFSETTO:+0000
TZNAME:GMT
DTSTART:20261025T010000
END:STANDARD
END:VTIMEZONE
BEGIN:VEVENT
DTSTART;TZID=Europe/London:20250120T140000
DTEND;TZID=Europe/London:20250120T160000
DTSTAMP:20260424T143551
CREATED:20240822T135249Z
LAST-MODIFIED:20241220T122313Z
UID:10002783-1737381600-1737388800@rcts.org.uk
SUMMARY:The History of Trams - Peter Waller
DESCRIPTION:
URL:https://rcts.org.uk/event/the-history-of-birmingham-trams-peter-waller/
LOCATION:Cheylesmore Community Centre\, Poitiers Road\, Coventry 5JX\, Poitiers Road\, Cheylesmore\,\, Coventry\, CV3 5JX
CATEGORIES:WMD West Midlands
END:VEVENT
BEGIN:VEVENT
DTSTART;TZID=Europe/London:20250120T140000
DTEND;TZID=Europe/London:20250120T163000
DTSTAMP:20260424T143551
CREATED:20250119T171607Z
LAST-MODIFIED:20250119T173635Z
UID:10002972-1737381600-1737390600@rcts.org.uk
SUMMARY:York to Edinburgh on the ECML by Stephen Gay\, Northampton Branch Meeting
DESCRIPTION:
URL:https://rcts.org.uk/event/york-to-edinburgh-on-the-ecml/
LOCATION:NHN Northampton – Weston Favell\, Weston Favell Parish Hall\, Booth Lane South\, Northampton\, NN3 3EP\, United Kingdom
CATEGORIES:Branch Meetings,Indoor Event,NHN Northampton
END:VEVENT
BEGIN:VEVENT
DTSTART;TZID=Europe/London:20250120T193000
DTEND;TZID=Europe/London:20250120T214500
DTSTAMP:20260424T143551
CREATED:20240903T184704Z
LAST-MODIFIED:20241224T181316Z
UID:10002842-1737401400-1737409500@rcts.org.uk
SUMMARY:AGM followed by A Miscellany of Railways by Jon Penn
DESCRIPTION:Only branch members will be able to take an active part in the AGM
URL:https://rcts.org.uk/event/agm-followed-by-a-miscellany-of-railways/
LOCATION:MCN Bromborough\, The Bromborough Suite. The Merebrook\, Greenfields Avenue\, Bromborough\, Wirral\, Merseyside\, CH62 6DD\, United Kingdom
CATEGORIES:MCN Merseyside Cheshire & North Wales
END:VEVENT
BEGIN:VEVENT
DTSTART;TZID=Europe/London:20250120T193000
DTEND;TZID=Europe/London:20250120T223000
DTSTAMP:20260424T143551
CREATED:20241119T120337Z
LAST-MODIFIED:20250109T144534Z
UID:10002898-1737401400-1737412200@rcts.org.uk
SUMMARY:Middle East Travels
DESCRIPTION:Physical meeting at Shenfield Parish Hall which will also be available on Zoom as a Hybrid Meeting. \nUnlike Europe\, the Middle East is a bit of a desert (no pun intended) for railways. However there are systems in some countries and Iain’s presentation will cover three of these namely: Israel\, Jordan and Saudi Arabia. \nIain is a South Essex member. His photos are always interesting and of excellent quality. He is a regular contributor of images to the major rail publications.
URL:https://rcts.org.uk/event/middle-east-travels/
LOCATION:ESX Shenfield\, Shenfield Parish Hall\, 60 Hutton Road\, Shenfield\, CM15 8LB\, United Kingdom
CATEGORIES:Branch Meetings,ESX South Essex,Hybrid Event,Virtual Event
ATTACH;FMTTYPE=image/jpeg:https://rcts.org.uk/wp-content/uploads/south-essex-branch/ESX-Jan-2025.jpg
END:VEVENT
BEGIN:VEVENT
DTSTART;TZID=Europe/London:20250121T110000
DTEND;TZID=Europe/London:20250121T160000
DTSTAMP:20260424T143551
CREATED:20241210T102828Z
LAST-MODIFIED:20241210T102953Z
UID:10002931-1737457200-1737475200@rcts.org.uk
SUMMARY:Archive And Library Open Day
DESCRIPTION:Archive And Library Open Day
URL:https://rcts.org.uk/event/archive-and-library-open-day-101/
LOCATION:RCTS Library\, Leatherhead Station Approach\, Leatherhead\, KT22 7SQ\, United Kingdom
CATEGORIES:Library Opening
END:VEVENT
BEGIN:VEVENT
DTSTART;TZID=Europe/London:20250121T133000
DTEND;TZID=Europe/London:20250121T160000
DTSTAMP:20260424T143551
CREATED:20240821T144211Z
LAST-MODIFIED:20240821T144445Z
UID:10002773-1737466200-1737475200@rcts.org.uk
SUMMARY:HSD branch - AGM & Railways in a Cornish landscape Pt 1
DESCRIPTION:Branch AGM + Stephen Gay-“Railways in a Cornish landscape Pt 1”
URL:https://rcts.org.uk/event/hsd-branch-agm-railways-in-a-cornish-landscape-pt-1/
LOCATION:HSD Hull\, The Highway\, Willerby Road\, Hull\, HU5 5LH\, United Kingdom
CATEGORIES:Branch Meetings,HSD Humberside,Indoor Event
END:VEVENT
BEGIN:VEVENT
DTSTART;TZID=Europe/London:20250121T140000
DTEND;TZID=Europe/London:20250121T163000
DTSTAMP:20260424T143551
CREATED:20240828T085834Z
LAST-MODIFIED:20241125T204819Z
UID:10002810-1737468000-1737477000@rcts.org.uk
SUMMARY:North Staffordshire Railway (Part 4)
DESCRIPTION:In the fourth and final part of the North Staffordshire Railway talks series using digitised images from the collection of over 15\,000 colour slides taken by the late Tommy Tomalin (who sadly passed away in 2021 at the grand old age of 96).  Brian Sullivan continues by showing us views (with historical details) of the Potteries Loop Line from Etruria Junction to Kidsgrove\, the North Staffs main line from Stoke to Macclesfield\, the Macclesfield Bollington and Marple line (Great Central and North Staffs Joint Line) also known as the Macclesfield Committee Line\, and finally the North Staffs line from Lawton Junction to Sandbach.
URL:https://rcts.org.uk/event/north-staffordshire-railway-part-4/
LOCATION:TVY Didcot\, Didcot Civic Hall\, Britwell Road\, Didcot\, OX11 7JN\, United Kingdom
CATEGORIES:Branch Meetings,Indoor Event,TVY Thames Valley
ATTACH;FMTTYPE=image/jpeg:https://rcts.org.uk/wp-content/uploads/thames-valley-branch/MACCLE_1-scaled.jpg
END:VEVENT
BEGIN:VEVENT
DTSTART;TZID=Europe/London:20250122T191500
DTEND;TZID=Europe/London:20250122T220000
DTSTAMP:20260424T143551
CREATED:20240601T212700Z
LAST-MODIFIED:20241215T230221Z
UID:10002690-1737573300-1737583200@rcts.org.uk
SUMMARY:Metropolitan Lancashire & The West Riding
DESCRIPTION:The Late Gerald Dixon Collection \nThe show covers areas of Lancashire from Preston southwards and much of the West Riding of Yorkshire with a brief incursion into North Yorkshire to York. \nIt is all in colour and with the pictures almost exclusively depicting steam operations between 1962 & 1968.
URL:https://rcts.org.uk/event/metropolitan-lancashire-the-west-riding/
LOCATION:Virtual Meeting\, Virtual Meeting\, United Kingdom
CATEGORIES:Branch Meetings,CHR Chichester,Virtual Event
ATTACH;FMTTYPE=image/jpeg:https://rcts.org.uk/wp-content/uploads/chichester-branch/gd670205-scaled.jpg
END:VEVENT
END:VCALENDAR