BEGIN:VCALENDAR
VERSION:2.0
PRODID:-//The Railway Correspondence &amp; Travel Society - ECPv6.15.20//NONSGML v1.0//EN
CALSCALE:GREGORIAN
METHOD:PUBLISH
X-WR-CALNAME:The Railway Correspondence &amp; Travel Society
X-ORIGINAL-URL:https://rcts.org.uk
X-WR-CALDESC:Events for The Railway Correspondence &amp; Travel Society
REFRESH-INTERVAL;VALUE=DURATION:PT1H
X-Robots-Tag:noindex
X-PUBLISHED-TTL:PT1H
BEGIN:VTIMEZONE
TZID:Europe/London
BEGIN:DAYLIGHT
TZOFFSETFROM:+0000
TZOFFSETTO:+0100
TZNAME:BST
DTSTART:20240331T010000
END:DAYLIGHT
BEGIN:STANDARD
TZOFFSETFROM:+0100
TZOFFSETTO:+0000
TZNAME:GMT
DTSTART:20241027T010000
END:STANDARD
BEGIN:DAYLIGHT
TZOFFSETFROM:+0000
TZOFFSETTO:+0100
TZNAME:BST
DTSTART:20250330T010000
END:DAYLIGHT
BEGIN:STANDARD
TZOFFSETFROM:+0100
TZOFFSETTO:+0000
TZNAME:GMT
DTSTART:20251026T010000
END:STANDARD
BEGIN:DAYLIGHT
TZOFFSETFROM:+0000
TZOFFSETTO:+0100
TZNAME:BST
DTSTART:20260329T010000
END:DAYLIGHT
BEGIN:STANDARD
TZOFFSETFROM:+0100
TZOFFSETTO:+0000
TZNAME:GMT
DTSTART:20261025T010000
END:STANDARD
END:VTIMEZONE
BEGIN:VEVENT
DTSTART;TZID=Europe/London:20250729T110000
DTEND;TZID=Europe/London:20250729T160000
DTSTAMP:20260419T185840
CREATED:20250510T091111Z
LAST-MODIFIED:20250711T184808Z
UID:10003052-1753786800-1753804800@rcts.org.uk
SUMMARY:Archive And Library Open Day - CANCELLED
DESCRIPTION:Archive And Library Open Day CANCELLED due to awaiting completion of interior works in The Stationmaster’s House.
URL:https://rcts.org.uk/event/archive-and-library-open-day-129/
LOCATION:RCTS Library\, Leatherhead Station Approach\, Leatherhead\, KT22 7SQ\, United Kingdom
CATEGORIES:Library Opening
END:VEVENT
BEGIN:VEVENT
DTSTART;TZID=Europe/London:20250729T140000
DTEND;TZID=Europe/London:20250729T163000
DTSTAMP:20260419T185840
CREATED:20241215T121610Z
LAST-MODIFIED:20250629T141029Z
UID:10002962-1753797600-1753806600@rcts.org.uk
SUMMARY:UK Railways in the 21st Century
DESCRIPTION:A Hitchin & Welwyn Garden City branch presentation by John Day. \nA presentation taken year on year for the first 25 years of the 21st Century looking at everyday service trains\, passenger\, freight\, locomotive  units\, both diesel and electric multiple units that run regularly in public and freight timetabled service. \nLivery and franchise changes will feature without delving into statistical analysis. Special liveries will feature where appropriate and space within each year allow. The images featured will be from personal travels around the UK\, especially as the network moved from loco hauled passenger trains to set formations built around  the InterCity 125 staple. It is hoped you will enjoy the variety presented and my apologies if I might have missed\, or not photographed one of your favourites. So much has changed this century\, with much more to come as the Department for Transport take the franchised railway back into public ownership. \nJohn Day \nDoors open 13:30 for a 14:00 start.
URL:https://rcts.org.uk/event/uk-railways-in-the-21st-century/
LOCATION:HTC Welwyn\, Digswell Village Church Hall\, Welwyn\, Hertfordshire\, AL6 0DH\, United Kingdom
CATEGORIES:Branch Meetings,HTC Hitchin and Welwyn Garden City,Indoor Event
ATTACH;FMTTYPE=image/jpeg:https://rcts.org.uk/wp-content/uploads/hitchin-and-welwyn-garden-city-branch/Misc/July-2025-John-Day-1-scaled.jpg
END:VEVENT
BEGIN:VEVENT
DTSTART;TZID=Europe/London:20250731T193000
DTEND;TZID=Europe/London:20250731T220000
DTSTAMP:20260419T185840
CREATED:20250227T231634Z
LAST-MODIFIED:20250622T233352Z
UID:10003005-1753990200-1753999200@rcts.org.uk
SUMMARY:That Was The Year That Was 1965
DESCRIPTION:Geoff Plumb returns with another presentation of his excellent photography\, this time looking back at 1965. Steam was still in evidence on his local line\, the Metropolitan and Great Central Joint\, while he also made many visits to the South Western Mainline\, the Isle of Wight\, North Wales\, and other steam strongholds round the country\, including many shed and works visits. Steam specials also feature strongly\, not only various Society (and other) railtours\, but also Sir Winston Churchill’s funeral train. But in many areas\, diesel traction was to the fore\, and is included in Geoff’s show. \nFor this virtual event\, you will require a ticket. Free for RCTS members\, but a £2.50 donation will be requested at the checkout. Non-member tickets are £2.50. (Or you can join the Society in the same transaction to take advantage of members’ benefits) \nTo receive information on coming National (and other) Zoom meetings\, please join the RCTS National Zoom E-mail List (RCTS-National@groups.io) by visiting https://groups.io/g/RCTS-National \, or by e-mail to RCTS-National+subscribe@groups.io.
URL:https://rcts.org.uk/event/july-2025-national-zoom-meeting/
LOCATION:Virtual Meeting\, Virtual Meeting\, United Kingdom
CATEGORIES:National Meeting,Virtual Event
ATTACH;FMTTYPE=image/jpeg:https://rcts.org.uk/wp-content/uploads/croydon-south-london-branch/2023/GMP_04FrontTitle.jpg
ORGANIZER;CN="National Meetings":MAILTO:zoom-national@rcts.org.uk
END:VEVENT
END:VCALENDAR