BEGIN:VCALENDAR
VERSION:2.0
PRODID:-//The Railway Correspondence &amp; Travel Society - ECPv6.15.20//NONSGML v1.0//EN
CALSCALE:GREGORIAN
METHOD:PUBLISH
X-ORIGINAL-URL:https://rcts.org.uk
X-WR-CALDESC:Events for The Railway Correspondence &amp; Travel Society
REFRESH-INTERVAL;VALUE=DURATION:PT1H
X-Robots-Tag:noindex
X-PUBLISHED-TTL:PT1H
BEGIN:VTIMEZONE
TZID:Europe/London
BEGIN:DAYLIGHT
TZOFFSETFROM:+0000
TZOFFSETTO:+0100
TZNAME:BST
DTSTART:20240331T010000
END:DAYLIGHT
BEGIN:STANDARD
TZOFFSETFROM:+0100
TZOFFSETTO:+0000
TZNAME:GMT
DTSTART:20241027T010000
END:STANDARD
BEGIN:DAYLIGHT
TZOFFSETFROM:+0000
TZOFFSETTO:+0100
TZNAME:BST
DTSTART:20250330T010000
END:DAYLIGHT
BEGIN:STANDARD
TZOFFSETFROM:+0100
TZOFFSETTO:+0000
TZNAME:GMT
DTSTART:20251026T010000
END:STANDARD
BEGIN:DAYLIGHT
TZOFFSETFROM:+0000
TZOFFSETTO:+0100
TZNAME:BST
DTSTART:20260329T010000
END:DAYLIGHT
BEGIN:STANDARD
TZOFFSETFROM:+0100
TZOFFSETTO:+0000
TZNAME:GMT
DTSTART:20261025T010000
END:STANDARD
END:VTIMEZONE
BEGIN:VEVENT
DTSTART;TZID=Europe/London:20250807T183000
DTEND;TZID=Europe/London:20250807T210000
DTSTAMP:20260419T203144
CREATED:20240824T122912Z
LAST-MODIFIED:20250623T095428Z
UID:10002805-1754591400-1754600400@rcts.org.uk
SUMMARY:Milton Keynes Branch Lineside Observation - Bletchley Station
DESCRIPTION:Join us for an evening of lineside observation at Bletchley station from 18:00hrs. Hopefully there will be plenty to see\, from the recently introduced London Northwestern Railway Class 730/2 units\, to the return run of a new intermodal freight flow from the newly opened Northampton Gateway.
URL:https://rcts.org.uk/event/milton-keynes-branch-outdoor-meeting-location-tbc/
LOCATION:MKY Milton Keynes\, Network Rail - The Quadrant: MK\, Elder Gate\, Milton Keynes\, Buckinghamshire\, MK9 1EN\, United Kingdom
CATEGORIES:MKY Milton Keynes,Outdoor Event
ORGANIZER;CN="MKY Milton Keynes branch":MAILTO:miltonkeynes@rcts.org.uk
END:VEVENT
BEGIN:VEVENT
DTSTART;TZID=Europe/London:20250809T110000
DTEND;TZID=Europe/London:20250809T160000
DTSTAMP:20260419T203144
CREATED:20250510T091140Z
LAST-MODIFIED:20250730T101345Z
UID:10003053-1754737200-1754755200@rcts.org.uk
SUMMARY:Archive And Library Open Day - CANCELLED
DESCRIPTION:This Archive And Library Open Day is cancelled as we are still awiting completion of works by GTR’s Contractors.
URL:https://rcts.org.uk/event/archive-and-library-open-day-130/
LOCATION:RCTS Library\, Leatherhead Station Approach\, Leatherhead\, KT22 7SQ\, United Kingdom
CATEGORIES:Library Opening
END:VEVENT
BEGIN:VEVENT
DTSTART;VALUE=DATE:20250810
DTEND;VALUE=DATE:20250811
DTSTAMP:20260419T203144
CREATED:20250526T134804Z
LAST-MODIFIED:20250611T110624Z
UID:10003079-1754784000-1754870399@rcts.org.uk
SUMMARY:The Annual August Outing
DESCRIPTION:BOOK YOUR PLACE NOW \nThe Hitchin & Welwyn Garden City Branch outing for 2025 is on 10th August to the Mid Suffolk Light Railway\, at Brockford Station\, Wetheringsett\, Stowmarket\, Suffolk\, IP14 5PW – AND – to the Big Bus Show at Stonham Barns\, Pettaugh Road\, Stonham Aspal\, Suffolk\, IP14 6AT\n(These locationa are approx 6 miles apart.) \nThe  visit is expected to start at Stonham Barns and we will be using the heritage bus service from Stonham to and from the MSLR. \nSpecial prices have been obtained for this visit and places must be pre-booked with our Branch Secretary.
URL:https://rcts.org.uk/event/the-annual-august-outing/
LOCATION:Mid Suffolk Light Railway\, Wetheringsett\, Stowmarket\, Suffolk\, IP14 5PW
CATEGORIES:HTC Hitchin and Welwyn Garden City,Outdoor Event
END:VEVENT
END:VCALENDAR