BEGIN:VCALENDAR
VERSION:2.0
PRODID:-//The Railway Correspondence &amp; Travel Society - ECPv6.15.20//NONSGML v1.0//EN
CALSCALE:GREGORIAN
METHOD:PUBLISH
X-ORIGINAL-URL:https://rcts.org.uk
X-WR-CALDESC:Events for The Railway Correspondence &amp; Travel Society
REFRESH-INTERVAL;VALUE=DURATION:PT1H
X-Robots-Tag:noindex
X-PUBLISHED-TTL:PT1H
BEGIN:VTIMEZONE
TZID:Europe/London
BEGIN:DAYLIGHT
TZOFFSETFROM:+0000
TZOFFSETTO:+0100
TZNAME:BST
DTSTART:20240331T010000
END:DAYLIGHT
BEGIN:STANDARD
TZOFFSETFROM:+0100
TZOFFSETTO:+0000
TZNAME:GMT
DTSTART:20241027T010000
END:STANDARD
BEGIN:DAYLIGHT
TZOFFSETFROM:+0000
TZOFFSETTO:+0100
TZNAME:BST
DTSTART:20250330T010000
END:DAYLIGHT
BEGIN:STANDARD
TZOFFSETFROM:+0100
TZOFFSETTO:+0000
TZNAME:GMT
DTSTART:20251026T010000
END:STANDARD
BEGIN:DAYLIGHT
TZOFFSETFROM:+0000
TZOFFSETTO:+0100
TZNAME:BST
DTSTART:20260329T010000
END:DAYLIGHT
BEGIN:STANDARD
TZOFFSETFROM:+0100
TZOFFSETTO:+0000
TZNAME:GMT
DTSTART:20261025T010000
END:STANDARD
END:VTIMEZONE
BEGIN:VEVENT
DTSTART;TZID=Europe/London:20250930T140000
DTEND;TZID=Europe/London:20250930T163000
DTSTAMP:20260423T105051
CREATED:20250629T144728Z
LAST-MODIFIED:20250821T102758Z
UID:10003113-1759240800-1759249800@rcts.org.uk
SUMMARY:The Doncaster Rover
DESCRIPTION:A Hitchin & Welwyn Garden City branch presentation by Stephen Gay. \nTravelling from Frickley to Finningly\, Mexborough to Moorends and Bentley\, Bessacarr to Bawtry. This is a railway journey which criss-crosses the Doncaster borough. Using Stephen’s slides taken over the last 40 years\, the presentation will also look at waterways and historic buildings. We will also take a bus journey\, helping to locate lost lines and stations! \n(Information provided by Stephen Gay) \nDoors open 13:30 for a 14:00 start.
URL:https://rcts.org.uk/event/the-doncaster-rover/
LOCATION:HTC Welwyn\, Digswell Village Church Hall\, Welwyn\, Hertfordshire\, AL6 0DH\, United Kingdom
CATEGORIES:Branch Meetings,HTC Hitchin and Welwyn Garden City,Indoor Event
ATTACH;FMTTYPE=image/jpeg:https://rcts.org.uk/wp-content/uploads/hitchin-and-welwyn-garden-city-branch/Misc/Sept-2025-Steven-Gay.jpg
END:VEVENT
BEGIN:VEVENT
DTSTART;TZID=Europe/London:20251001T103000
DTEND;TZID=Europe/London:20251001T133000
DTSTAMP:20260423T105051
CREATED:20250904T205050Z
LAST-MODIFIED:20250904T205050Z
UID:10003224-1759314600-1759325400@rcts.org.uk
SUMMARY:SOUTH WALES BRANCH OUTDOOR EVENT - WALKING OLD RAILWAY LINES
DESCRIPTION:On Wednesday 1st October Ian Reese will be leading a walk along the west bank of the River Usk and into the Pillgwenlly area of Newport to show us the almost entirely disappeared railway scene of years gone by. There were many railway lines crowding the west bank\, bringing coal down from the valleys for loading onto ships\, amongst other activities\, by the Monmouthshire Railway and Canal Co. and successor companies. We will walk along the river bank to visit the site of an old railway station\, a locomotive engine shed and a mishap which befell a ship on the river\, amongst other locations. Ian will bring some folders of photographs from the past of the locations we will visit. The walk will be about two to three miles long on flat surfaces\, with frequent stops. We could ‘replenish our tanks’ with ‘coal and water’\, back to the town centre after the walk\, at a suitable ‘refuelling point’.If you would to join us please meet Ian in the bus station at the rear of the Potters public house in Newport town centre at 10.30 am on Wednesday 1st October. Parking is available at the Friars’ Walk car park (payment required) next door to the meeting point. Address ; John Frost Square\, Newport\,  Gwent\, NP20 1EA. The meeting point is 5 to 10 minutes’ walk from the Railway Station.  (NB. There are two bus stations in Newport ; make sure you go to the one by the Potters public house). \nMill Street\, Newport
URL:https://rcts.org.uk/event/south-wales-branch-outdoor-event-walking-old-railway-lines/
LOCATION:Potters Public House\, 22-24 Upper Dock St\, Newport\, Gwent\, NP20 1DL\, United Kingdom
CATEGORIES:SWL South Wales / De Cymru
END:VEVENT
BEGIN:VEVENT
DTSTART;TZID=Europe/London:20251001T133000
DTEND;TZID=Europe/London:20251001T154500
DTSTAMP:20260423T105051
CREATED:20250827T143036Z
LAST-MODIFIED:20250827T143036Z
UID:10003190-1759325400-1759333500@rcts.org.uk
SUMMARY:The Last Days of Steam on Merseyside and in the North West (The Ted Baxendale Collection) by Philip Parker
DESCRIPTION:
URL:https://rcts.org.uk/event/the-last-days-of-steam-on-merseyside-and-in-the-north-west-the-ted-baxendale-collection-by-philip-parker/
LOCATION:MCN Liverpool\, Haig House Social Club\, Woolton Road\, Garston\, Liverpool\, L19 5NQ\, United Kingdom
CATEGORIES:MCN Merseyside Cheshire & North Wales
END:VEVENT
BEGIN:VEVENT
DTSTART;TZID=Europe/London:20251002T193000
DTEND;TZID=Europe/London:20251002T213000
DTSTAMP:20260423T105051
CREATED:20240824T122633Z
LAST-MODIFIED:20250424T160623Z
UID:10002802-1759433400-1759440600@rcts.org.uk
SUMMARY:Milton Keynes Branch Meeting - ‘West Midlands Trains – Our Challenges & Opportunities for the Future’
DESCRIPTION:Geoff Grant\, Stakeholder Manager for West Midlands Trains\, gives an overview of the key priorities facing the company in terms of their fleet\, customer experience\, accessibility and innovation.
URL:https://rcts.org.uk/event/milton-keynes-branch-meeting-title-tbc-7/
LOCATION:MKY Milton Keynes\, Network Rail - The Quadrant: MK\, Elder Gate\, Milton Keynes\, Buckinghamshire\, MK9 1EN\, United Kingdom
CATEGORIES:Indoor Event,MKY Milton Keynes
ATTACH;FMTTYPE=image/jpeg:https://rcts.org.uk/wp-content/uploads/WMT-Class-730.jpg
ORGANIZER;CN="MKY Milton Keynes branch":MAILTO:miltonkeynes@rcts.org.uk
END:VEVENT
BEGIN:VEVENT
DTSTART;TZID=Europe/London:20251003T193000
DTEND;TZID=Europe/London:20251003T220000
DTSTAMP:20260423T105051
CREATED:20250618T180618Z
LAST-MODIFIED:20250618T181214Z
UID:10003109-1759519800-1759528800@rcts.org.uk
SUMMARY:Bristol Meeting - 'The Advanced Passenger Train' by Kit Spackman
DESCRIPTION:Kit Spackman\, who was the Tilt System Development Engineer on the APT-E programme\, will explain the fascinating story of the whole APT Programme.
URL:https://rcts.org.uk/event/bristol-meeting-the-advanced-passenger-train-by-kit-spackman/
LOCATION:BTL North Filton\, St Teresa’s Church Hall\, 71 Gloucester Road\, North Filton\, BS34 7PL\, United Kingdom
CATEGORIES:Branch Meetings,BTL Bristol,Indoor Event
ATTACH;FMTTYPE=image/jpeg:https://rcts.org.uk/wp-content/uploads/bristol-branch/900-Images-for-Meetings/APT-E-@-Grimston.jpg
END:VEVENT
BEGIN:VEVENT
DTSTART;TZID=Europe/London:20251004T110000
DTEND;TZID=Europe/London:20251004T160000
DTSTAMP:20260423T105051
CREATED:20250510T091526Z
LAST-MODIFIED:20250926T075317Z
UID:10003060-1759575600-1759593600@rcts.org.uk
SUMMARY:Archive And Library Open Day - CANCELLED
DESCRIPTION:Archive And Library Open Day \nCancelled due to us STILL awaiting completion of the interior works by GTR.
URL:https://rcts.org.uk/event/archive-and-library-open-day-137/
LOCATION:RCTS Library\, Leatherhead Station Approach\, Leatherhead\, KT22 7SQ\, United Kingdom
CATEGORIES:Library Opening
END:VEVENT
END:VCALENDAR