BEGIN:VCALENDAR
VERSION:2.0
PRODID:-//The Railway Correspondence &amp; Travel Society - ECPv6.15.20//NONSGML v1.0//EN
CALSCALE:GREGORIAN
METHOD:PUBLISH
X-WR-CALNAME:The Railway Correspondence &amp; Travel Society
X-ORIGINAL-URL:https://rcts.org.uk
X-WR-CALDESC:Events for The Railway Correspondence &amp; Travel Society
REFRESH-INTERVAL;VALUE=DURATION:PT1H
X-Robots-Tag:noindex
X-PUBLISHED-TTL:PT1H
BEGIN:VTIMEZONE
TZID:Europe/London
BEGIN:DAYLIGHT
TZOFFSETFROM:+0000
TZOFFSETTO:+0100
TZNAME:BST
DTSTART:20250330T010000
END:DAYLIGHT
BEGIN:STANDARD
TZOFFSETFROM:+0100
TZOFFSETTO:+0000
TZNAME:GMT
DTSTART:20251026T010000
END:STANDARD
BEGIN:DAYLIGHT
TZOFFSETFROM:+0000
TZOFFSETTO:+0100
TZNAME:BST
DTSTART:20260329T010000
END:DAYLIGHT
BEGIN:STANDARD
TZOFFSETFROM:+0100
TZOFFSETTO:+0000
TZNAME:GMT
DTSTART:20261025T010000
END:STANDARD
BEGIN:DAYLIGHT
TZOFFSETFROM:+0000
TZOFFSETTO:+0100
TZNAME:BST
DTSTART:20270328T010000
END:DAYLIGHT
BEGIN:STANDARD
TZOFFSETFROM:+0100
TZOFFSETTO:+0000
TZNAME:GMT
DTSTART:20271031T010000
END:STANDARD
END:VTIMEZONE
BEGIN:VEVENT
DTSTART;VALUE=DATE:20260414
DTEND;VALUE=DATE:20260415
DTSTAMP:20260419T152230
CREATED:20260127T124255Z
LAST-MODIFIED:20260127T124255Z
UID:10003399-1776124800-1776211199@rcts.org.uk
SUMMARY:Visit to East London Area
DESCRIPTION:
URL:https://rcts.org.uk/event/visit-to-east-london-area/
CATEGORIES:MCN Merseyside Cheshire & North Wales,Outdoor Event
END:VEVENT
BEGIN:VEVENT
DTSTART;TZID=Europe/London:20260414T110000
DTEND;TZID=Europe/London:20260414T160000
DTSTAMP:20260419T152230
CREATED:20251229T103137Z
LAST-MODIFIED:20251229T103137Z
UID:10003349-1776164400-1776182400@rcts.org.uk
SUMMARY:Archive And Library Open Day
DESCRIPTION:Archive And Library Open Day
URL:https://rcts.org.uk/event/archive-and-library-open-day-163/
LOCATION:RCTS Library\, Leatherhead Station Approach\, Leatherhead\, KT22 7SQ\, United Kingdom
CATEGORIES:Library Opening
END:VEVENT
BEGIN:VEVENT
DTSTART;TZID=Europe/London:20260414T140000
DTEND;TZID=Europe/London:20260414T160000
DTSTAMP:20260419T152230
CREATED:20250826T110434Z
LAST-MODIFIED:20260401T150713Z
UID:10003181-1776175200-1776182400@rcts.org.uk
SUMMARY:Midland Main Line miscellany - Phil Lyndsey
DESCRIPTION:Phil Lindsey takes us on a journey along the Midland Main Line from St Pancras to Ratcliffe on Soar\, with the main focus being the Northamptonshire and Leicestershire sections.  The presentation contains many of Phil’s own images\, from the ‘Leicester Gap’ years to the modern day\, but also draws on the extensive and historical Midland Railway Society archive of photos\, posters\, maps and timetables.  It’s a real eclectic mix of material that will hopefully be of interest to railway historians and enthusiasts of steam and modern traction alike.  There are several ‘then and now’ comparisons at locations en-route.  It’s not intended to be exhaustive and at times focuses on historical locations that are rarely covered elsewhere such as Welsh Harp\, Great Bowden\, Gumley and Newton.
URL:https://rcts.org.uk/event/midland-main-line-miscellany-phil-lyndsey/
LOCATION:EMD Nottingham\, The New Mechanics\, 3 North Sherwood Street\, Nottingham\, NG1 4EZ\, United Kingdom
CATEGORIES:Indoor Event
END:VEVENT
BEGIN:VEVENT
DTSTART;TZID=Europe/London:20260414T140000
DTEND;TZID=Europe/London:20260414T160000
DTSTAMP:20260419T152230
CREATED:20250912T213725Z
LAST-MODIFIED:20250912T213725Z
UID:10003229-1776175200-1776182400@rcts.org.uk
SUMMARY:Barry Coward - A talk on British Transport Films illustrated with excerpts from BTF titles.
DESCRIPTION:
URL:https://rcts.org.uk/event/barry-coward-a-talk-on-british-transport-films-illustrated-with-excerpts-from-btf-titles/
LOCATION:SFD Sheffield Farm Road Sports & Social Club\, Farm Road\, Sheffield\, S2 2TP\, United Kingdom
CATEGORIES:Branch Meetings,Indoor Event,SFD Sheffield
END:VEVENT
BEGIN:VEVENT
DTSTART;TZID=Europe/London:20260414T140000
DTEND;TZID=Europe/London:20260414T163000
DTSTAMP:20260419T152230
CREATED:20251126T160659Z
LAST-MODIFIED:20251126T160659Z
UID:10003307-1776175200-1776184200@rcts.org.uk
SUMMARY:The Vintage Trains Story - To a Train Operating Company
DESCRIPTION:A Hitchin & Welwyn Garden City Branch presentation by Mike Corbett. \nDetails to follow. \nDoors open 13:30 for 14:00 start.
URL:https://rcts.org.uk/event/the-vintage-trains-story-to-a-train-operating-company/
LOCATION:HTC Hitchin\, St Mark's Church\, St Mark's Close\, Lancaster Avenue\, Hitchin\, Hertfordshire\, SG5 1UR\, United Kingdom
CATEGORIES:Branch Meetings,HTC Hitchin and Welwyn Garden City,Indoor Event
END:VEVENT
BEGIN:VEVENT
DTSTART;TZID=Europe/London:20260414T193000
DTEND;TZID=Europe/London:20260414T220000
DTSTAMP:20260419T152230
CREATED:20250617T164636Z
LAST-MODIFIED:20260307T180041Z
UID:10003105-1776195000-1776204000@rcts.org.uk
SUMMARY:"The Soham Disaster" by Richard Munns
DESCRIPTION:Following his highly successful talk on the railways of March in last year’s programme\, local railway historian Richard Munns pays another very welcome visit to the Branch to take us through the infamous accident at Soham on June 2nd 1944.
URL:https://rcts.org.uk/event/the-soham-disaster-by-richard-munns/
LOCATION:CBR Fulbourn\, Cambridge\, The Swifts\, Haggis Gap\, Fulbourn\, Cambridge\, CB21 5HD\, United Kingdom
CATEGORIES:Branch Meetings,CBR Cambridge
ATTACH;FMTTYPE=image/jpeg:https://rcts.org.uk/wp-content/uploads/cambridge-branch/Speaker-Images/20260414-1944-View-of-Wrecked-Signal-Box-at-Soham-AW.jpg
END:VEVENT
BEGIN:VEVENT
DTSTART;TZID=Europe/London:20260414T193000
DTEND;TZID=Europe/London:20260414T220000
DTSTAMP:20260419T152230
CREATED:20251224T145527Z
LAST-MODIFIED:20251224T145740Z
UID:10003333-1776195000-1776204000@rcts.org.uk
SUMMARY:Westward Bound - a Selection of Photographs from the Society’s Photographic Archive
DESCRIPTION:David Jackman will make a photographic journey through the last hundred years of steam\, diesel and electric traction starting at Paddington and heading west using photographs from the society’s photographic archive
URL:https://rcts.org.uk/event/april-2026-csl-croydon-branch-meeting/
LOCATION:CSL Croydon\, East Croydon United Reformed Church\, Addiscombe Grove\, Croydon\, CR0 5LP\, United Kingdom
CATEGORIES:Branch Meetings,CSL Croydon & South London
ATTACH;FMTTYPE=image/jpeg:https://rcts.org.uk/wp-content/uploads/croydon-south-london-branch/2026/GLE0448C_1920-9.jpg
END:VEVENT
BEGIN:VEVENT
DTSTART;TZID=Europe/London:20260415T193000
DTEND;TZID=Europe/London:20260415T220000
DTSTAMP:20260419T152230
CREATED:20250709T204053Z
LAST-MODIFIED:20250709T204053Z
UID:10003126-1776281400-1776290400@rcts.org.uk
SUMMARY:South Wales Transformation
DESCRIPTION:
URL:https://rcts.org.uk/event/south-wales-transformation/
LOCATION:SOE Eastleigh\, Junction Church (formerly Eastleigh Railway Institute)\, 2 Romsey Road\, Eastleigh\, SO50 9FE\, United Kingdom
CATEGORIES:SOE Solent
END:VEVENT
BEGIN:VEVENT
DTSTART;TZID=Europe/London:20260416T190000
DTEND;TZID=Europe/London:20260416T213000
DTSTAMP:20260419T152230
CREATED:20250822T105234Z
LAST-MODIFIED:20250830T114419Z
UID:10003157-1776366000-1776375000@rcts.org.uk
SUMMARY:NEA Branch - Coal Traffic and Branch Lines in the North East
DESCRIPTION:Presented by Malcolm Paul
URL:https://rcts.org.uk/event/coal-traffic-and-branch-lines-in-the-north-east/
LOCATION:NEA Darlington\, Darlington Cricket Club\, South Terrace\, Darlington\, DL1 5JD\, United Kingdom
CATEGORIES:Branch Meetings,NEA North East
END:VEVENT
BEGIN:VEVENT
DTSTART;TZID=Europe/London:20260416T190000
DTEND;TZID=Europe/London:20260416T220000
DTSTAMP:20260419T152230
CREATED:20250822T135331Z
LAST-MODIFIED:20250830T113602Z
UID:10003167-1776366000-1776376800@rcts.org.uk
SUMMARY:CHM Branch - Branch Annual Business Meeting and Members Entertain
DESCRIPTION:Time to review the past year and select the committee to take us into the next season. We’ll try and keep the business bit brief so we can spend more time enjoying the fruits of our members research and image captures. \n 
URL:https://rcts.org.uk/event/branch-annual-business-meeting-and-members-entertain-2/
LOCATION:CHM Cheltenham\, Victory Club\, Burlington House\, Lypiatt Road\, Cheltenham\, GL50 2SY\, United Kingdom
CATEGORIES:Branch Meetings,CHM Cheltenham
ATTACH;FMTTYPE=image/jpeg:https://rcts.org.uk/wp-content/uploads/cheltenham-branch/UKP2408-scaled.jpg
END:VEVENT
BEGIN:VEVENT
DTSTART;TZID=Europe/London:20260416T191500
DTEND;TZID=Europe/London:20260416T213000
DTSTAMP:20260419T152230
CREATED:20250612T145241Z
LAST-MODIFIED:20260119T142436Z
UID:10003096-1776366900-1776375000@rcts.org.uk
SUMMARY:Surrey Branch - A Mediterranean Odyssey
DESCRIPTION:A Mediterranean Odyssey \nNarrow Gauge steam in 9 countries from the Near East to Iberia.  Featuring Lebanon\, Greece\, Macedonia\, Bosnia\, Croatia\, Italy\, France\, Spain and Portugal.  \nBy Nicholas Lera – Independent Documentary Producer and former BBC cameraman
URL:https://rcts.org.uk/event/surrey-branch-april-2026-meeting/
LOCATION:SRY Woking\, Woking United Reform Church\, White Rose Lane\, Woking\, GU22 7HA\, United Kingdom
CATEGORIES:SRY Surrey
END:VEVENT
BEGIN:VEVENT
DTSTART;TZID=Europe/London:20260416T193000
DTEND;TZID=Europe/London:20260416T220000
DTSTAMP:20260419T152230
CREATED:20251111T192326Z
LAST-MODIFIED:20251111T192326Z
UID:10003284-1776367800-1776376800@rcts.org.uk
SUMMARY:WRD - Branch AGM and Members Presentations
DESCRIPTION:We will keep the business bit of the meeting as brief as possible. If you can spare a few hours to help the committee to run the Branch please do step up and volunteer. Contact Peter Mann\, the Branch Secretary. \nDig out those images and slides of railway interest and bring them along to show the attendees. \n 
URL:https://rcts.org.uk/event/wrd-branch-agm-and-members-presentations/
LOCATION:WRD Shipley\, Saltaire Methodist Church\, Saltaire Road\, Shipley\, BD18 3HJ\, United Kingdom
CATEGORIES:Branch Meetings,WRD West Riding
END:VEVENT
BEGIN:VEVENT
DTSTART;VALUE=DATE:20260418
DTEND;VALUE=DATE:20260419
DTSTAMP:20260419T152230
CREATED:20251229T104723Z
LAST-MODIFIED:20260321T220926Z
UID:10003351-1776470400-1776556799@rcts.org.uk
SUMMARY:RCTS Members' Day and Annual General Meeting 2026
DESCRIPTION:The Annual RCTS Members Day and AGM will take place at The Grand Station\, Sun Street\, Wolverhampton\, WV10 0BF on Saturday 18th April 2026\, commencing at 1100hrs (doors open from 10:30). We have a wide ranging line up of guest speakers coming to give us presentations: – \nJack Boskett (renowned railway photographer) to present Britain’s Railways through the Lens \nChris Green (former Managing Director\, InterCity) will present The Chris Green Story 1945 – 2025. \nLunch will be available and must be booked in advance using this link:- \nAGM 2026 lunch \n \nThe AGM itself will commence at 1315hrs – the agenda\, and reports of activities in 2025\,  and accounts for the year ending 31st October 2025 will appear in the supplement to be issued with the April RO. The supplement will also be available on line. \nPLEASE NOTE: – This event is strictly for RCTS members only. It is not open to the general public. \n 
URL:https://rcts.org.uk/event/rcts-members-day-and-annual-general-meeting/
LOCATION:Grand Station\, Wolverhampton\, Sun Street\, Wolverhampton\, WV10 0BF\, United Kingdom
CATEGORIES:Indoor Event,RCTS National Event
ORGANIZER;CN="RCTS National Events":MAILTO:secretary@rcts.org.uk
END:VEVENT
END:VCALENDAR