BEGIN:VCALENDAR
VERSION:2.0
PRODID:-//The Railway Correspondence &amp; Travel Society - ECPv6.15.20//NONSGML v1.0//EN
CALSCALE:GREGORIAN
METHOD:PUBLISH
X-ORIGINAL-URL:https://rcts.org.uk
X-WR-CALDESC:Events for The Railway Correspondence &amp; Travel Society
REFRESH-INTERVAL;VALUE=DURATION:PT1H
X-Robots-Tag:noindex
X-PUBLISHED-TTL:PT1H
BEGIN:VTIMEZONE
TZID:Europe/London
BEGIN:DAYLIGHT
TZOFFSETFROM:+0000
TZOFFSETTO:+0100
TZNAME:BST
DTSTART:20230326T010000
END:DAYLIGHT
BEGIN:STANDARD
TZOFFSETFROM:+0100
TZOFFSETTO:+0000
TZNAME:GMT
DTSTART:20231029T010000
END:STANDARD
BEGIN:DAYLIGHT
TZOFFSETFROM:+0000
TZOFFSETTO:+0100
TZNAME:BST
DTSTART:20240331T010000
END:DAYLIGHT
BEGIN:STANDARD
TZOFFSETFROM:+0100
TZOFFSETTO:+0000
TZNAME:GMT
DTSTART:20241027T010000
END:STANDARD
BEGIN:DAYLIGHT
TZOFFSETFROM:+0000
TZOFFSETTO:+0100
TZNAME:BST
DTSTART:20250330T010000
END:DAYLIGHT
BEGIN:STANDARD
TZOFFSETFROM:+0100
TZOFFSETTO:+0000
TZNAME:GMT
DTSTART:20251026T010000
END:STANDARD
BEGIN:DAYLIGHT
TZOFFSETFROM:+0000
TZOFFSETTO:+0100
TZNAME:BST
DTSTART:20260329T010000
END:DAYLIGHT
BEGIN:STANDARD
TZOFFSETFROM:+0100
TZOFFSETTO:+0000
TZNAME:GMT
DTSTART:20261025T010000
END:STANDARD
END:VTIMEZONE
BEGIN:VEVENT
DTSTART;TZID=Europe/London:20250201T110000
DTEND;TZID=Europe/London:20250201T160000
DTSTAMP:20260419T235618
CREATED:20241210T103120Z
LAST-MODIFIED:20241210T103120Z
UID:10002932-1738407600-1738425600@rcts.org.uk
SUMMARY:Archive And Library Open Day
DESCRIPTION:Archive And Library Open Day
URL:https://rcts.org.uk/event/archive-and-library-open-day-102/
LOCATION:RCTS Library\, Leatherhead Station Approach\, Leatherhead\, KT22 7SQ\, United Kingdom
CATEGORIES:Library Opening
END:VEVENT
BEGIN:VEVENT
DTSTART;TZID=Europe/London:20250121T110000
DTEND;TZID=Europe/London:20250121T160000
DTSTAMP:20260419T235618
CREATED:20241210T102828Z
LAST-MODIFIED:20241210T102953Z
UID:10002931-1737457200-1737475200@rcts.org.uk
SUMMARY:Archive And Library Open Day
DESCRIPTION:Archive And Library Open Day
URL:https://rcts.org.uk/event/archive-and-library-open-day-101/
LOCATION:RCTS Library\, Leatherhead Station Approach\, Leatherhead\, KT22 7SQ\, United Kingdom
CATEGORIES:Library Opening
END:VEVENT
BEGIN:VEVENT
DTSTART;TZID=Europe/London:20250115T110000
DTEND;TZID=Europe/London:20250115T160000
DTSTAMP:20260419T235618
CREATED:20241210T100746Z
LAST-MODIFIED:20241210T102645Z
UID:10002930-1736938800-1736956800@rcts.org.uk
SUMMARY:Archive And Library Open Day
DESCRIPTION:Archive And Library Open Day
URL:https://rcts.org.uk/event/archive-library-open-day-42/
LOCATION:RCTS Library\, Leatherhead Station Approach\, Leatherhead\, KT22 7SQ\, United Kingdom
CATEGORIES:Library Opening
END:VEVENT
BEGIN:VEVENT
DTSTART;TZID=Europe/London:20250109T110000
DTEND;TZID=Europe/London:20250109T160000
DTSTAMP:20260419T235618
CREATED:20241210T100746Z
LAST-MODIFIED:20241210T102704Z
UID:10002929-1736420400-1736438400@rcts.org.uk
SUMMARY:Archive And Library Open Day
DESCRIPTION:Archive And Library Open Day
URL:https://rcts.org.uk/event/archive-library-open-day-41/
LOCATION:RCTS Library\, Leatherhead Station Approach\, Leatherhead\, KT22 7SQ\, United Kingdom
CATEGORIES:Library Opening
END:VEVENT
BEGIN:VEVENT
DTSTART;TZID=Europe/London:20250104T110000
DTEND;TZID=Europe/London:20250104T160000
DTSTAMP:20260419T235618
CREATED:20240531T105815Z
LAST-MODIFIED:20240531T105815Z
UID:10002675-1735988400-1736006400@rcts.org.uk
SUMMARY:Archive & Library Open Day
DESCRIPTION:Archive & Library Open Day
URL:https://rcts.org.uk/event/archive-library-open-day-40/
LOCATION:RCTS Library\, Leatherhead Station Approach\, Leatherhead\, KT22 7SQ\, United Kingdom
CATEGORIES:Library Opening
END:VEVENT
BEGIN:VEVENT
DTSTART;TZID=Europe/London:20241218T110000
DTEND;TZID=Europe/London:20241218T160000
DTSTAMP:20260419T235618
CREATED:20240531T105717Z
LAST-MODIFIED:20240531T105717Z
UID:10002674-1734519600-1734537600@rcts.org.uk
SUMMARY:Archive & Library Open Day
DESCRIPTION:Archive & Library Open Day
URL:https://rcts.org.uk/event/archive-library-open-day-39/
LOCATION:RCTS Library\, Leatherhead Station Approach\, Leatherhead\, KT22 7SQ\, United Kingdom
CATEGORIES:Library Opening
END:VEVENT
BEGIN:VEVENT
DTSTART;TZID=Europe/London:20241212T110000
DTEND;TZID=Europe/London:20241212T160000
DTSTAMP:20260419T235618
CREATED:20240531T105618Z
LAST-MODIFIED:20240531T105618Z
UID:10002673-1734001200-1734019200@rcts.org.uk
SUMMARY:Archive & Library Open Day
DESCRIPTION:Archive & Library Open Day
URL:https://rcts.org.uk/event/archive-library-open-day-38/
LOCATION:RCTS Library\, Leatherhead Station Approach\, Leatherhead\, KT22 7SQ\, United Kingdom
CATEGORIES:Library Opening
END:VEVENT
BEGIN:VEVENT
DTSTART;TZID=Europe/London:20241207T110000
DTEND;TZID=Europe/London:20241207T160000
DTSTAMP:20260419T235618
CREATED:20240531T105522Z
LAST-MODIFIED:20240531T105522Z
UID:10002672-1733569200-1733587200@rcts.org.uk
SUMMARY:Archive & Library Open Day
DESCRIPTION:Archive & Library Open Day
URL:https://rcts.org.uk/event/archive-library-open-day-37/
LOCATION:RCTS Library\, Leatherhead Station Approach\, Leatherhead\, KT22 7SQ\, United Kingdom
CATEGORIES:Library Opening
END:VEVENT
BEGIN:VEVENT
DTSTART;TZID=Europe/London:20241126T110000
DTEND;TZID=Europe/London:20241126T160000
DTSTAMP:20260419T235618
CREATED:20240531T105436Z
LAST-MODIFIED:20240531T105436Z
UID:10002671-1732618800-1732636800@rcts.org.uk
SUMMARY:Archive & Library Open Day
DESCRIPTION:Archive & Library Open Day
URL:https://rcts.org.uk/event/archive-library-open-day-36/
LOCATION:RCTS Library\, Leatherhead Station Approach\, Leatherhead\, KT22 7SQ\, United Kingdom
CATEGORIES:Library Opening
END:VEVENT
BEGIN:VEVENT
DTSTART;TZID=Europe/London:20241120T110000
DTEND;TZID=Europe/London:20241120T160000
DTSTAMP:20260419T235618
CREATED:20240531T105345Z
LAST-MODIFIED:20240531T105345Z
UID:10002670-1732100400-1732118400@rcts.org.uk
SUMMARY:Archive & Library Open Day
DESCRIPTION:Archive & Library Open Day
URL:https://rcts.org.uk/event/archive-library-open-day-35/
LOCATION:RCTS Library\, Leatherhead Station Approach\, Leatherhead\, KT22 7SQ\, United Kingdom
CATEGORIES:Library Opening
END:VEVENT
BEGIN:VEVENT
DTSTART;TZID=Europe/London:20241114T110000
DTEND;TZID=Europe/London:20241114T160000
DTSTAMP:20260419T235618
CREATED:20240531T105239Z
LAST-MODIFIED:20240531T105239Z
UID:10002669-1731582000-1731600000@rcts.org.uk
SUMMARY:Archive & Library Open Day
DESCRIPTION:Archive & Library Open Day
URL:https://rcts.org.uk/event/archive-library-open-day-34/
LOCATION:RCTS Library\, Leatherhead Station Approach\, Leatherhead\, KT22 7SQ\, United Kingdom
CATEGORIES:Library Opening
END:VEVENT
BEGIN:VEVENT
DTSTART;TZID=Europe/London:20241109T110000
DTEND;TZID=Europe/London:20241109T160000
DTSTAMP:20260419T235618
CREATED:20240531T105130Z
LAST-MODIFIED:20240531T105130Z
UID:10002668-1731150000-1731168000@rcts.org.uk
SUMMARY:Archive & Library Open Day
DESCRIPTION:Archive & Library Open Day
URL:https://rcts.org.uk/event/archive-library-open-day-33/
LOCATION:RCTS Library\, Leatherhead Station Approach\, Leatherhead\, KT22 7SQ\, United Kingdom
CATEGORIES:Library Opening
END:VEVENT
BEGIN:VEVENT
DTSTART;TZID=Europe/London:20241029T110000
DTEND;TZID=Europe/London:20241029T160000
DTSTAMP:20260419T235618
CREATED:20240531T105040Z
LAST-MODIFIED:20240531T105040Z
UID:10002667-1730199600-1730217600@rcts.org.uk
SUMMARY:Archive & Library Open Day
DESCRIPTION:Archive & Library Open Day
URL:https://rcts.org.uk/event/archive-library-open-day-32/
LOCATION:RCTS Library\, Leatherhead Station Approach\, Leatherhead\, KT22 7SQ\, United Kingdom
CATEGORIES:Library Opening
END:VEVENT
BEGIN:VEVENT
DTSTART;TZID=Europe/London:20241023T110000
DTEND;TZID=Europe/London:20241023T160000
DTSTAMP:20260419T235618
CREATED:20240531T104942Z
LAST-MODIFIED:20240531T104942Z
UID:10002666-1729681200-1729699200@rcts.org.uk
SUMMARY:Archive & Library Open Day
DESCRIPTION:Archive & Library Open Day
URL:https://rcts.org.uk/event/archive-library-open-day-31/
LOCATION:RCTS Library\, Leatherhead Station Approach\, Leatherhead\, KT22 7SQ\, United Kingdom
CATEGORIES:Library Opening
END:VEVENT
BEGIN:VEVENT
DTSTART;TZID=Europe/London:20241017T110000
DTEND;TZID=Europe/London:20241017T160000
DTSTAMP:20260419T235618
CREATED:20240531T104841Z
LAST-MODIFIED:20240531T104841Z
UID:10002665-1729162800-1729180800@rcts.org.uk
SUMMARY:Archive & Library Open Day
DESCRIPTION:Archive & Library Open Day
URL:https://rcts.org.uk/event/archive-library-open-day-30/
LOCATION:RCTS Library\, Leatherhead Station Approach\, Leatherhead\, KT22 7SQ\, United Kingdom
CATEGORIES:Library Opening
END:VEVENT
BEGIN:VEVENT
DTSTART;TZID=Europe/London:20241012T110000
DTEND;TZID=Europe/London:20241012T160000
DTSTAMP:20260419T235618
CREATED:20240531T104635Z
LAST-MODIFIED:20240531T104635Z
UID:10002664-1728730800-1728748800@rcts.org.uk
SUMMARY:Archive & Library Open Day
DESCRIPTION:Archive & Library Open Day
URL:https://rcts.org.uk/event/archive-library-open-day-29/
LOCATION:RCTS Library\, Leatherhead Station Approach\, Leatherhead\, KT22 7SQ\, United Kingdom
CATEGORIES:Library Opening
END:VEVENT
BEGIN:VEVENT
DTSTART;TZID=Europe/London:20241001T110000
DTEND;TZID=Europe/London:20241001T160000
DTSTAMP:20260419T235618
CREATED:20240531T104536Z
LAST-MODIFIED:20240531T104536Z
UID:10002663-1727780400-1727798400@rcts.org.uk
SUMMARY:Archive & Library Open Day
DESCRIPTION:Archive & Library Open Day
URL:https://rcts.org.uk/event/archive-library-open-day-28/
LOCATION:RCTS Library\, Leatherhead Station Approach\, Leatherhead\, KT22 7SQ\, United Kingdom
CATEGORIES:Library Opening
END:VEVENT
BEGIN:VEVENT
DTSTART;TZID=Europe/London:20240925T110000
DTEND;TZID=Europe/London:20240925T160000
DTSTAMP:20260419T235618
CREATED:20240531T104447Z
LAST-MODIFIED:20240531T104447Z
UID:10002662-1727262000-1727280000@rcts.org.uk
SUMMARY:Archive & Library Open Day
DESCRIPTION:Archive & Library Open Day
URL:https://rcts.org.uk/event/archive-library-open-day-27/
LOCATION:RCTS Library\, Leatherhead Station Approach\, Leatherhead\, KT22 7SQ\, United Kingdom
CATEGORIES:Library Opening
END:VEVENT
BEGIN:VEVENT
DTSTART;TZID=Europe/London:20240919T110000
DTEND;TZID=Europe/London:20240919T160000
DTSTAMP:20260419T235618
CREATED:20240531T104353Z
LAST-MODIFIED:20240531T104353Z
UID:10002661-1726743600-1726761600@rcts.org.uk
SUMMARY:Archive & Library Open Day
DESCRIPTION:Archive & Library Open Day
URL:https://rcts.org.uk/event/archive-library-open-day-26/
LOCATION:RCTS Library\, Leatherhead Station Approach\, Leatherhead\, KT22 7SQ\, United Kingdom
CATEGORIES:Library Opening
END:VEVENT
BEGIN:VEVENT
DTSTART;TZID=Europe/London:20240914T110000
DTEND;TZID=Europe/London:20240914T160000
DTSTAMP:20260419T235618
CREATED:20240531T104301Z
LAST-MODIFIED:20240531T104301Z
UID:10002660-1726311600-1726329600@rcts.org.uk
SUMMARY:Archive & Library Open Day
DESCRIPTION:Archive & Library Open Day
URL:https://rcts.org.uk/event/archive-library-open-day-25/
LOCATION:RCTS Library\, Leatherhead Station Approach\, Leatherhead\, KT22 7SQ\, United Kingdom
CATEGORIES:Library Opening
END:VEVENT
BEGIN:VEVENT
DTSTART;TZID=Europe/London:20240903T110000
DTEND;TZID=Europe/London:20240903T160000
DTSTAMP:20260419T235618
CREATED:20240531T104121Z
LAST-MODIFIED:20240531T104121Z
UID:10002657-1725361200-1725379200@rcts.org.uk
SUMMARY:Archive & Library Open Day
DESCRIPTION:Archive & Library Open Day
URL:https://rcts.org.uk/event/archive-library-open-day-24/
LOCATION:RCTS Library\, Leatherhead Station Approach\, Leatherhead\, KT22 7SQ\, United Kingdom
CATEGORIES:Library Opening
END:VEVENT
BEGIN:VEVENT
DTSTART;TZID=Europe/London:20240828T110000
DTEND;TZID=Europe/London:20240828T160000
DTSTAMP:20260419T235618
CREATED:20240531T103947Z
LAST-MODIFIED:20240531T103947Z
UID:10002656-1724842800-1724860800@rcts.org.uk
SUMMARY:Archive & Library Open Day
DESCRIPTION:Archive & Library Open Day
URL:https://rcts.org.uk/event/archive-library-open-day-23/
LOCATION:RCTS Library\, Leatherhead Station Approach\, Leatherhead\, KT22 7SQ\, United Kingdom
CATEGORIES:Library Opening
END:VEVENT
BEGIN:VEVENT
DTSTART;TZID=Europe/London:20240822T110000
DTEND;TZID=Europe/London:20240822T160000
DTSTAMP:20260419T235618
CREATED:20240531T103849Z
LAST-MODIFIED:20240531T103849Z
UID:10002655-1724324400-1724342400@rcts.org.uk
SUMMARY:Archive & Library Open Day
DESCRIPTION:Archive & Library Open Day
URL:https://rcts.org.uk/event/archive-library-open-day-22/
LOCATION:RCTS Library\, Leatherhead Station Approach\, Leatherhead\, KT22 7SQ\, United Kingdom
CATEGORIES:Library Opening
END:VEVENT
BEGIN:VEVENT
DTSTART;TZID=Europe/London:20240817T110000
DTEND;TZID=Europe/London:20240817T160000
DTSTAMP:20260419T235618
CREATED:20240531T103752Z
LAST-MODIFIED:20240531T103752Z
UID:10002654-1723892400-1723910400@rcts.org.uk
SUMMARY:Archive & Library Open Day
DESCRIPTION:Archive & Library Open Day
URL:https://rcts.org.uk/event/archive-library-open-day-21/
LOCATION:RCTS Library\, Leatherhead Station Approach\, Leatherhead\, KT22 7SQ\, United Kingdom
CATEGORIES:Library Opening
END:VEVENT
BEGIN:VEVENT
DTSTART;TZID=Europe/London:20240806T110000
DTEND;TZID=Europe/London:20240806T160000
DTSTAMP:20260419T235618
CREATED:20240531T103639Z
LAST-MODIFIED:20240531T103639Z
UID:10002653-1722942000-1722960000@rcts.org.uk
SUMMARY:Archive & Library Open Day
DESCRIPTION:Archive & Library Open Day
URL:https://rcts.org.uk/event/archive-library-open-day-20/
LOCATION:RCTS Library\, Leatherhead Station Approach\, Leatherhead\, KT22 7SQ\, United Kingdom
CATEGORIES:Library Opening
END:VEVENT
BEGIN:VEVENT
DTSTART;TZID=Europe/London:20240731T110000
DTEND;TZID=Europe/London:20240731T160000
DTSTAMP:20260419T235618
CREATED:20240531T103549Z
LAST-MODIFIED:20240531T103549Z
UID:10002652-1722423600-1722441600@rcts.org.uk
SUMMARY:Archive & Library Open Day
DESCRIPTION:Archive & Library Open Day
URL:https://rcts.org.uk/event/archive-library-open-day-19/
LOCATION:RCTS Library\, Leatherhead Station Approach\, Leatherhead\, KT22 7SQ\, United Kingdom
CATEGORIES:Library Opening
END:VEVENT
BEGIN:VEVENT
DTSTART;TZID=Europe/London:20240725T110000
DTEND;TZID=Europe/London:20240725T160000
DTSTAMP:20260419T235618
CREATED:20240531T103456Z
LAST-MODIFIED:20240531T103456Z
UID:10002651-1721905200-1721923200@rcts.org.uk
SUMMARY:Archive & Library Open Day
DESCRIPTION:Archive & Library Open Day
URL:https://rcts.org.uk/event/archive-library-open-day-18/
LOCATION:RCTS Library\, Leatherhead Station Approach\, Leatherhead\, KT22 7SQ\, United Kingdom
CATEGORIES:Library Opening
END:VEVENT
BEGIN:VEVENT
DTSTART;TZID=Europe/London:20240720T110000
DTEND;TZID=Europe/London:20240720T160000
DTSTAMP:20260419T235618
CREATED:20240531T103346Z
LAST-MODIFIED:20240531T103346Z
UID:10002650-1721473200-1721491200@rcts.org.uk
SUMMARY:Archive & Library Open Day
DESCRIPTION:Archive & Library Open Day
URL:https://rcts.org.uk/event/archive-library-open-day-17/
LOCATION:RCTS Library\, Leatherhead Station Approach\, Leatherhead\, KT22 7SQ\, United Kingdom
CATEGORIES:Library Opening
END:VEVENT
BEGIN:VEVENT
DTSTART;TZID=Europe/London:20240709T110000
DTEND;TZID=Europe/London:20240709T160000
DTSTAMP:20260419T235618
CREATED:20240531T103153Z
LAST-MODIFIED:20240531T103153Z
UID:10002649-1720522800-1720540800@rcts.org.uk
SUMMARY:Archive & Library Open Day
DESCRIPTION:Archive & Library Open Day
URL:https://rcts.org.uk/event/archive-library-open-day-16/
LOCATION:RCTS Library\, Leatherhead Station Approach\, Leatherhead\, KT22 7SQ\, United Kingdom
CATEGORIES:Library Opening
END:VEVENT
BEGIN:VEVENT
DTSTART;TZID=Europe/London:20240703T110000
DTEND;TZID=Europe/London:20240703T160000
DTSTAMP:20260419T235618
CREATED:20231214T151617Z
LAST-MODIFIED:20231214T151617Z
UID:10002535-1720004400-1720022400@rcts.org.uk
SUMMARY:Archive and Library Open Day
DESCRIPTION:Archive and Library Open Day
URL:https://rcts.org.uk/event/archive-and-library-open-day-100/
LOCATION:RCTS Library\, Leatherhead Station Approach\, Leatherhead\, KT22 7SQ\, United Kingdom
CATEGORIES:Library Opening
END:VEVENT
END:VCALENDAR