BEGIN:VCALENDAR
VERSION:2.0
PRODID:-//The Railway Correspondence &amp; Travel Society - ECPv6.15.20//NONSGML v1.0//EN
CALSCALE:GREGORIAN
METHOD:PUBLISH
X-WR-CALNAME:The Railway Correspondence &amp; Travel Society
X-ORIGINAL-URL:https://rcts.org.uk
X-WR-CALDESC:Events for The Railway Correspondence &amp; Travel Society
REFRESH-INTERVAL;VALUE=DURATION:PT1H
X-Robots-Tag:noindex
X-PUBLISHED-TTL:PT1H
BEGIN:VTIMEZONE
TZID:Europe/London
BEGIN:DAYLIGHT
TZOFFSETFROM:+0000
TZOFFSETTO:+0100
TZNAME:BST
DTSTART:20210328T010000
END:DAYLIGHT
BEGIN:STANDARD
TZOFFSETFROM:+0100
TZOFFSETTO:+0000
TZNAME:GMT
DTSTART:20211031T010000
END:STANDARD
BEGIN:DAYLIGHT
TZOFFSETFROM:+0000
TZOFFSETTO:+0100
TZNAME:BST
DTSTART:20220327T010000
END:DAYLIGHT
BEGIN:STANDARD
TZOFFSETFROM:+0100
TZOFFSETTO:+0000
TZNAME:GMT
DTSTART:20221030T010000
END:STANDARD
BEGIN:DAYLIGHT
TZOFFSETFROM:+0000
TZOFFSETTO:+0100
TZNAME:BST
DTSTART:20230326T010000
END:DAYLIGHT
BEGIN:STANDARD
TZOFFSETFROM:+0100
TZOFFSETTO:+0000
TZNAME:GMT
DTSTART:20231029T010000
END:STANDARD
BEGIN:DAYLIGHT
TZOFFSETFROM:+0000
TZOFFSETTO:+0100
TZNAME:BST
DTSTART:20240331T010000
END:DAYLIGHT
BEGIN:STANDARD
TZOFFSETFROM:+0100
TZOFFSETTO:+0000
TZNAME:GMT
DTSTART:20241027T010000
END:STANDARD
END:VTIMEZONE
BEGIN:VEVENT
DTSTART;TZID=Europe/London:20231116T193000
DTEND;TZID=Europe/London:20231116T213000
DTSTAMP:20260424T093122
CREATED:20230810T102232Z
LAST-MODIFIED:20230810T102232Z
UID:10002379-1700163000-1700170200@rcts.org.uk
SUMMARY:"Steam & Diesel in the Northern Fells 2010 - 2016" - Presenter Ian Pilkington
DESCRIPTION:
URL:https://rcts.org.uk/event/steam-diesel-in-the-northern-fells-2010-2016-presenter-ian-pilkington/
LOCATION:WRD Shipley\, Saltaire Methodist Church\, Saltaire Road\, Shipley\, BD18 3HJ\, United Kingdom
CATEGORIES:Indoor Event,WRD West Riding
END:VEVENT
BEGIN:VEVENT
DTSTART;TZID=Europe/London:20231019T140000
DTEND;TZID=Europe/London:20231019T160000
DTSTAMP:20260424T093122
CREATED:20230810T101824Z
LAST-MODIFIED:20230810T101824Z
UID:10002378-1697724000-1697731200@rcts.org.uk
SUMMARY:"Along the Trackside" - Presenter Steve Batty
DESCRIPTION:Please note this is an afternoon meeting
URL:https://rcts.org.uk/event/along-the-trackside-presenter-steve-batty/
LOCATION:WRD Shipley\, Saltaire Methodist Church\, Saltaire Road\, Shipley\, BD18 3HJ\, United Kingdom
CATEGORIES:Indoor Event,WRD West Riding
END:VEVENT
BEGIN:VEVENT
DTSTART;TZID=Europe/London:20230921T193000
DTEND;TZID=Europe/London:20230921T213000
DTSTAMP:20260424T093122
CREATED:20230810T101110Z
LAST-MODIFIED:20230810T101110Z
UID:10002377-1695324600-1695331800@rcts.org.uk
SUMMARY:"The Keith Pirt Collection" - Presenter Bob Gellatly
DESCRIPTION:
URL:https://rcts.org.uk/event/the-keith-pirt-collection-presenter-bob-gellatly/
LOCATION:WRD Shipley\, Saltaire Methodist Church\, Saltaire Road\, Shipley\, BD18 3HJ\, United Kingdom
CATEGORIES:Indoor Event,WRD West Riding
END:VEVENT
BEGIN:VEVENT
DTSTART;TZID=Europe/London:20230615T193000
DTEND;TZID=Europe/London:20230615T213000
DTSTAMP:20260424T093122
CREATED:20221127T145534Z
LAST-MODIFIED:20221127T145534Z
UID:10002145-1686857400-1686864600@rcts.org.uk
SUMMARY:"Sheffield to Carlisle by Steam" - Roger Hepworth
DESCRIPTION:
URL:https://rcts.org.uk/event/sheffield-to-carlisle-by-steam-roger-hepworth/
LOCATION:WRD Shipley\, Saltaire Methodist Church\, Saltaire Road\, Shipley\, BD18 3HJ\, United Kingdom
CATEGORIES:Indoor Event,WRD West Riding
END:VEVENT
BEGIN:VEVENT
DTSTART;TZID=Europe/London:20230518T193000
DTEND;TZID=Europe/London:20230518T213000
DTSTAMP:20260424T093122
CREATED:20221127T145355Z
LAST-MODIFIED:20221127T150818Z
UID:10002144-1684438200-1684445400@rcts.org.uk
SUMMARY:"NYMR 1969 - 2022" - David Birtle
DESCRIPTION:
URL:https://rcts.org.uk/event/north-yorkshire-moors-railway-1969-2022-david-birtle/
LOCATION:WRD Shipley\, Saltaire Methodist Church\, Saltaire Road\, Shipley\, BD18 3HJ\, United Kingdom
CATEGORIES:Indoor Event,WRD West Riding
END:VEVENT
BEGIN:VEVENT
DTSTART;TZID=Europe/London:20230504T140000
DTEND;TZID=Europe/London:20230504T160000
DTSTAMP:20260424T093122
CREATED:20221127T145150Z
LAST-MODIFIED:20230501T150227Z
UID:10002143-1683208800-1683216000@rcts.org.uk
SUMMARY:"Lost Loco's\, Lost Locations" - Ted Parker
DESCRIPTION:Please note this is an afternoon meeting to be held in the Church and not the usual meeting room.
URL:https://rcts.org.uk/event/lost-locos-lost-locations-ted-parker/
LOCATION:WRD Shipley\, Saltaire Methodist Church\, Saltaire Road\, Shipley\, BD18 3HJ\, United Kingdom
CATEGORIES:Indoor Event,WRD West Riding
END:VEVENT
BEGIN:VEVENT
DTSTART;TZID=Europe/London:20230420T193000
DTEND;TZID=Europe/London:20230420T213000
DTSTAMP:20260424T093122
CREATED:20221127T144930Z
LAST-MODIFIED:20221127T144930Z
UID:10002142-1682019000-1682026200@rcts.org.uk
SUMMARY:Branch AGM + Members' Presentations
DESCRIPTION:
URL:https://rcts.org.uk/event/branch-agm-members-presentations-2/
LOCATION:WRD Shipley\, Saltaire Methodist Church\, Saltaire Road\, Shipley\, BD18 3HJ\, United Kingdom
CATEGORIES:Indoor Event,WRD West Riding
END:VEVENT
BEGIN:VEVENT
DTSTART;TZID=Europe/London:20230316T193000
DTEND;TZID=Europe/London:20230316T213000
DTSTAMP:20260424T093122
CREATED:20221127T144733Z
LAST-MODIFIED:20221127T144733Z
UID:10002141-1678995000-1679002200@rcts.org.uk
SUMMARY:"Colour Rail Journey" - Paul Chancellor
DESCRIPTION:
URL:https://rcts.org.uk/event/colour-rail-journey-paul-chancellor/
LOCATION:WRD Shipley\, Saltaire Methodist Church\, Saltaire Road\, Shipley\, BD18 3HJ\, United Kingdom
CATEGORIES:Indoor Event,WRD West Riding
END:VEVENT
BEGIN:VEVENT
DTSTART;TZID=Europe/London:20230216T193000
DTEND;TZID=Europe/London:20230216T213000
DTSTAMP:20260424T093122
CREATED:20221127T144538Z
LAST-MODIFIED:20221127T151050Z
UID:10002140-1676575800-1676583000@rcts.org.uk
SUMMARY:"Shots in the Dark" - Peter Holden
DESCRIPTION:
URL:https://rcts.org.uk/event/shots-in-the-dark-peter-holden/
LOCATION:WRD Shipley\, Saltaire Methodist Church\, Saltaire Road\, Shipley\, BD18 3HJ\, United Kingdom
CATEGORIES:Indoor Event,WRD West Riding
END:VEVENT
BEGIN:VEVENT
DTSTART;TZID=Europe/London:20230119T193000
DTEND;TZID=Europe/London:20230119T213000
DTSTAMP:20260424T093122
CREATED:20221127T144027Z
LAST-MODIFIED:20221127T144027Z
UID:10002139-1674156600-1674163800@rcts.org.uk
SUMMARY:"Steam Day Memories - Past and Present" - Vic Drake
DESCRIPTION:
URL:https://rcts.org.uk/event/steam-day-memories-past-and-present-vic-drake/
LOCATION:WRD Shipley\, Saltaire Methodist Church\, Saltaire Road\, Shipley\, BD18 3HJ\, United Kingdom
CATEGORIES:Indoor Event,WRD West Riding
END:VEVENT
BEGIN:VEVENT
DTSTART;TZID=Europe/London:20221215T193000
DTEND;TZID=Europe/London:20221215T213000
DTSTAMP:20260424T093122
CREATED:20220302T143827Z
LAST-MODIFIED:20220302T143827Z
UID:10001769-1671132600-1671139800@rcts.org.uk
SUMMARY:BR Steam's Last Redemption
DESCRIPTION:
URL:https://rcts.org.uk/event/br-steams-last-redemption/
LOCATION:WRD Shipley\, Saltaire Methodist Church\, Saltaire Road\, Shipley\, BD18 3HJ\, United Kingdom
CATEGORIES:Indoor Event,WRD West Riding
END:VEVENT
BEGIN:VEVENT
DTSTART;TZID=Europe/London:20221117T193000
DTEND;TZID=Europe/London:20221117T213000
DTSTAMP:20260424T093122
CREATED:20220302T143645Z
LAST-MODIFIED:20220302T143645Z
UID:10001768-1668713400-1668720600@rcts.org.uk
SUMMARY:All Things North & Eastern
DESCRIPTION:
URL:https://rcts.org.uk/event/all-things-north-eastern/
LOCATION:WRD Shipley\, Saltaire Methodist Church\, Saltaire Road\, Shipley\, BD18 3HJ\, United Kingdom
CATEGORIES:Indoor Event,WRD West Riding
END:VEVENT
BEGIN:VEVENT
DTSTART;TZID=Europe/London:20221020T193000
DTEND;TZID=Europe/London:20221020T213000
DTSTAMP:20260424T093122
CREATED:20220302T143205Z
LAST-MODIFIED:20220302T143205Z
UID:10001766-1666294200-1666301400@rcts.org.uk
SUMMARY:Adventures in Search of Steam
DESCRIPTION:
URL:https://rcts.org.uk/event/adventures-in-search-of-steam/
LOCATION:WRD Shipley\, Saltaire Methodist Church\, Saltaire Road\, Shipley\, BD18 3HJ\, United Kingdom
CATEGORIES:Indoor Event,WRD West Riding
END:VEVENT
BEGIN:VEVENT
DTSTART;TZID=Europe/London:20220915T193000
DTEND;TZID=Europe/London:20220915T213000
DTSTAMP:20260424T093122
CREATED:20220302T143319Z
LAST-MODIFIED:20220302T143319Z
UID:10001767-1663270200-1663277400@rcts.org.uk
SUMMARY:Far Away and Close to Home
DESCRIPTION:
URL:https://rcts.org.uk/event/far-away-and-close-to-home/
LOCATION:WRD Shipley\, Saltaire Methodist Church\, Saltaire Road\, Shipley\, BD18 3HJ\, United Kingdom
CATEGORIES:Indoor Event,WRD West Riding
END:VEVENT
BEGIN:VEVENT
DTSTART;TZID=Europe/London:20220616T193000
DTEND;TZID=Europe/London:20220616T213000
DTSTAMP:20260424T093122
CREATED:20220103T162917Z
LAST-MODIFIED:20220103T162917Z
UID:10001702-1655407800-1655415000@rcts.org.uk
SUMMARY:Northern Excursions
DESCRIPTION:
URL:https://rcts.org.uk/event/northern-excursions/
LOCATION:WRD Shipley\, Saltaire Methodist Church\, Saltaire Road\, Shipley\, BD18 3HJ\, United Kingdom
CATEGORIES:Indoor Event,WRD West Riding
END:VEVENT
BEGIN:VEVENT
DTSTART;TZID=Europe/London:20220519T193000
DTEND;TZID=Europe/London:20220519T213000
DTSTAMP:20260424T093122
CREATED:20220103T162112Z
LAST-MODIFIED:20220512T133758Z
UID:10001701-1652988600-1652995800@rcts.org.uk
SUMMARY:Looking Back
DESCRIPTION:Please note this is a change to the advertised presentation.
URL:https://rcts.org.uk/event/around-and-about/
LOCATION:WRD Shipley\, Saltaire Methodist Church\, Saltaire Road\, Shipley\, BD18 3HJ\, United Kingdom
CATEGORIES:Indoor Event,WRD West Riding
END:VEVENT
BEGIN:VEVENT
DTSTART;TZID=Europe/London:20220421T193000
DTEND;TZID=Europe/London:20220421T213000
DTSTAMP:20260424T093122
CREATED:20220103T161942Z
LAST-MODIFIED:20220103T161942Z
UID:10001700-1650569400-1650576600@rcts.org.uk
SUMMARY:Branch AGM + Members' Presentations
DESCRIPTION:
URL:https://rcts.org.uk/event/branch-agm-members-presentations/
LOCATION:WRD Shipley\, Saltaire Methodist Church\, Saltaire Road\, Shipley\, BD18 3HJ\, United Kingdom
CATEGORIES:Indoor Event,WRD West Riding
END:VEVENT
BEGIN:VEVENT
DTSTART;TZID=Europe/London:20220317T193000
DTEND;TZID=Europe/London:20220317T213000
DTSTAMP:20260424T093122
CREATED:20220103T161801Z
LAST-MODIFIED:20220317T103527Z
UID:10001699-1647545400-1647552600@rcts.org.uk
SUMMARY:From the Back of the Cupboard
DESCRIPTION:
URL:https://rcts.org.uk/event/from-the-back-of-the-cupboard/
LOCATION:WRD Shipley\, Saltaire Methodist Church\, Saltaire Road\, Shipley\, BD18 3HJ\, United Kingdom
CATEGORIES:Indoor Event,WRD West Riding
END:VEVENT
BEGIN:VEVENT
DTSTART;TZID=Europe/London:20220217T193000
DTEND;TZID=Europe/London:20220217T213000
DTSTAMP:20260424T093122
CREATED:20220103T160923Z
LAST-MODIFIED:20220103T161337Z
UID:10001698-1645126200-1645133400@rcts.org.uk
SUMMARY:Tramways of the Dales (Part II)
DESCRIPTION:
URL:https://rcts.org.uk/event/tramways-of-the-dales-part-ii/
LOCATION:WRD Shipley\, Saltaire Methodist Church\, Saltaire Road\, Shipley\, BD18 3HJ\, United Kingdom
CATEGORIES:Indoor Event,WRD West Riding
END:VEVENT
END:VCALENDAR